PDS_VERSION_ID = PDS3
/* FILE DATA ELEMENTS */
RECORD_TYPE = STREAM
/* POINTERS TO DATA OBJECTS */
^COMPRESSED_FILE = "HE618_0000_P13.JP2"
/* IDENTIFICATION DATA ELEMENTS */
DATA_SET_ID = "MEX-M-HRSC-5-REFDR-MAPPROJECTED-V3.0"
DATA_SET_NAME = "MARS EXPRESS HRSC MAP PROJECTED REFDR V3.0"
DETECTOR_ID = MEX_HRSC_P1
EVENT_TYPE = "MARS-REGIONAL-MAPPING-Vo"
INSTRUMENT_HOST_ID = MEX
INSTRUMENT_HOST_NAME = "MARS EXPRESS"
INSTRUMENT_ID = HRSC
INSTRUMENT_NAME = "HIGH RESOLUTION STEREO CAMERA"
MISSION_NAME = "MARS EXPRESS"
MISSION_PHASE_NAME = ME_Phase_33
PROCESSING_LEVEL_ID = 3
PRODUCT_CREATION_TIME = 2016-10-30T02:40:36.000Z
PRODUCT_ID = "HE618_0000_P13.JP2"
RELEASE_ID = 0129
REVISION_ID = 0000
/* QUALITY DATA ELEMENTS */
DATA_QUALITY_ID = 1
DATA_QUALITY_DESC = "Data calculated based on original SPICE kernels"
/* TIME DATA ELEMENTS */
SPACECRAFT_CLOCK_START_COUNT = "1/0384702434.09034"
SPACECRAFT_CLOCK_STOP_COUNT = "1/0384702628.50184"
START_TIME = 2015-07-11T13:48:10.115Z
STOP_TIME = 2015-07-11T13:50:21.000Z
/* ORBITAL DATA ELEMENTS */
ASCENDING_NODE_LONGITUDE = 299.18
MAXIMUM_RESOLUTION = 54.2
FOOTPRINT_POINT_LATITUDE = (-19.3628,-19.3682,-19.3735,-19.3787, -19.384,-19.3892,-19.3944,-19.1226, -18.8705,-18.7026,-18.5349,-18.3671, -18.1155,-17.9479,-17.7805,-17.6131, -17.4458,-17.2785,-17.1113,-16.9443, -16.7773,-16.6103,-16.4434,-16.2765, -16.1098,-15.9431,-15.7765,-15.61, -15.4436,-15.194,-15.0276,-14.8614, -14.6954,-14.5293,-14.2803,-14.1143, -13.9484,-13.783,-13.4534,-13.2884, -13.1235,-12.9585,-12.7934,-12.6284, -12.4636,-12.2168,-11.8879,-11.5598, -11.3138,-10.9898,-10.9832,-10.9772, -10.969,-10.9612,-10.9509,-10.9454, -11.2725,-11.6011,-11.9297,-12.2596, -12.5071,-12.6718,-12.8369,-13.0845, -13.3322,-13.4978,-13.6642,-13.8302, -13.9951,-14.1608,-14.3266,-14.4925, -14.6584,-14.8246,-14.9909,-15.1572, -15.3237,-15.4905,-15.6571,-15.8239, -15.9907,-16.1577,-16.3247,-16.4919, -16.6592,-16.8264,-16.9939,-17.1615, -17.3291,-17.4967,-17.6645,-17.8323, -18.0003,-18.2524,-18.5046,-18.6728, -18.8409,-19.0092,-19.1776,-19.3628)
FOOTPRINT_POINT_LONGITUDE = (257.194,257.011,256.826,256.64,256.451 ,256.261,256.069,255.959,255.961, 255.961,255.962,255.962,255.963,255.964 ,255.964,255.964,255.965,255.965, 255.965,255.965,255.965,255.965,255.965 ,255.965,255.965,255.965,255.965, 255.965,255.964,255.964,255.964,255.963 ,255.963,255.962,255.962,255.962, 255.961,255.96,255.957,255.956,255.955, 255.954,255.953,255.952,255.951,255.95, 255.947,255.944,255.942,255.939,256.122 ,256.293,256.58,256.759,257.042,257.22, 257.219,257.218,257.217,257.216,257.216 ,257.215,257.215,257.214,257.214, 257.213,257.213,257.212,257.212,257.211 ,257.211,257.211,257.21,257.21,257.209, 257.209,257.208,257.208,257.207,257.207 ,257.207,257.206,257.206,257.205, 257.205,257.204,257.204,257.203,257.203 ,257.203,257.202,257.202,257.201,257.2, 257.2,257.199,257.199,257.198,257.198, 257.194)
ORBIT_NUMBER = 14618
ORBITAL_ECCENTRICITY = 0.579
ORBITAL_INCLINATION = 86.9
ORBITAL_SEMIMAJOR_AXIS = 8853.54
PERIAPSIS_ALTITUDE = 334.44
PERIAPSIS_ARGUMENT_ANGLE = 338.19
PERIAPSIS_TIME = 2015-07-11T13:47:14.000Z
SPACECRAFT_ORIENTATION = (0.0,1.0,0.0)
^MEX_ORIENTATION_DESC = "MEX_ORIENTATION_DESC.TXT"
SPACECRAFT_POINTING_MODE = ACROSSTRACK
^MEX_POINTING_DESC = "MEX_POINTING_DESC.TXT"
RIGHT_ASCENSION = -1e+32
DECLINATION = -1e+32
OFFSET_ANGLE = 0.75
SPACECRAFT_SOLAR_DISTANCE = 2.37112e+08
TARGET_NAME = MARS
/* CAMERA DATA ELEMENTS */
DETECTOR_TEMPERATURE = 16.9432
FOCAL_PLANE_TEMPERATURE = 7.5638
INST_CMPRS_NAME = "DISCRETE COSINE TRANSFORMATION (DCT)"
INST_CMPRS_RATIO = 16.9522
INST_CMPRS_QUALITY = 0
INST_CMPRS_QUANTZ_TBL_ID = 0
INSTRUMENT_TEMPERATURE = 10.6223
LENS_TEMPERATURE = 7.9716
MACROPIXEL_SIZE = 4
MISSING_FRAMES = 0
PIXEL_SUBSAMPLING_FLAG = N
SIGNAL_CHAIN_ID = 3
/* RADIOMETRIC DATA ELEMENTS */
BANDWIDTH = 174.0
CENTER_FILTER_WAVELENGTH = 675.0
RADIANCE_OFFSET = 2.01763
RADIANCE_SCALING_FACTOR = 0.0216377
REFLECTANCE_SCALING_FACTOR = 0.00065434
MEX:REFLECTANCE_OFFSET = 0.0610148
/* IMAGE OBJECT DEFINITIONS */
OBJECT = IMAGE
  INTERCHANGE_FORMAT = BINARY
  LINES = 9945
  LINE_SAMPLES = 1611
  SAMPLE_TYPE = UNSIGNED_INTEGER
  SAMPLE_BITS = 8
  BANDS = 1
  BAND_STORAGE_TYPE = BAND_SEQUENTIAL
  MAXIMUM = 255
  MEAN = 99.6852
  MINIMUM = 1
  STANDARD_DEVIATION = 14.4177
END_OBJECT = IMAGE
/* MAP OBJECT DEFINITIONS */
OBJECT = IMAGE_MAP_PROJECTION
  ^DATA_SET_MAP_PROJECTION_CATALOG= "DSMAP.CAT"
  A_AXIS_RADIUS = 3396.0
  B_AXIS_RADIUS = 3396.0
  C_AXIS_RADIUS = 3396.0
  CENTER_LATITUDE = 0.0
  CENTER_LONGITUDE = 257.0
  COORDINATE_SYSTEM_NAME = PLANETOGRAPHIC
  COORDINATE_SYSTEM_TYPE = "BODY-FIXED ROTATING"
  EASTERNMOST_LONGITUDE = 257.22
  FIRST_STANDARD_PARALLEL = "N/A"
  LINE_FIRST_PIXEL = 1
  LINE_LAST_PIXEL = 9945
  LINE_PROJECTION_OFFSET = -13038.625
  MAP_PROJECTION_ROTATION = 0.0
  MAP_PROJECTION_TYPE = SINUSOIDAL
  MAP_RESOLUTION = 1185.42760773333
  MAP_SCALE = 0.05
  MAXIMUM_LATITUDE = -10.9454
  MINIMUM_LATITUDE = -19.3944
  POSITIVE_LONGITUDE_DIRECTION = EAST
  REFERENCE_LATITUDE = "N/A"
  REFERENCE_LONGITUDE = "N/A"
  SAMPLE_FIRST_PIXEL = 1
  SAMPLE_LAST_PIXEL = 1611
  SAMPLE_PROJECTION_OFFSET = 1370.375
  SECOND_STANDARD_PARALLEL = "N/A"
  WESTERNMOST_LONGITUDE = 255.939
END_OBJECT = IMAGE_MAP_PROJECTION
/* The JPEG2000 image data file associated with this label. */
OBJECT = COMPRESSED_FILE
  FILE_NAME = "HE618_0000_P13.JP2"
  RECORD_TYPE = UNDEFINED
  FILE_RECORDS = UNK
  ENCODING_TYPE = "JP2"
  INTERCHANGE_FORMAT = BINARY
  UNCOMPRESSED_FILE_NAME = "HE618_0000_P13.IMG"
  REQUIRED_STORAGE_BYTES = "16040727"
  ^DESCRIPTION = "JP2INFO.TXT"
END_OBJECT = COMPRESSED_FILE
END
