PDS_VERSION_ID = PDS3
/* FILE DATA ELEMENTS */
RECORD_TYPE = STREAM
/* POINTERS TO DATA OBJECTS */
^COMPRESSED_FILE = "HE622_0000_IR3.JP2"
/* IDENTIFICATION DATA ELEMENTS */
DATA_SET_ID = "MEX-M-HRSC-5-REFDR-MAPPROJECTED-V3.0"
DATA_SET_NAME = "MARS EXPRESS HRSC MAP PROJECTED REFDR V3.0"
DETECTOR_ID = MEX_HRSC_IR
EVENT_TYPE = "MARS-REGIONAL-MAPPING-Te-Im-Fl"
INSTRUMENT_HOST_ID = MEX
INSTRUMENT_HOST_NAME = "MARS EXPRESS"
INSTRUMENT_ID = HRSC
INSTRUMENT_NAME = "HIGH RESOLUTION STEREO CAMERA"
MISSION_NAME = "MARS EXPRESS"
MISSION_PHASE_NAME = ME_Phase_33
PROCESSING_LEVEL_ID = 3
PRODUCT_CREATION_TIME = 2016-10-30T02:40:36.000Z
PRODUCT_ID = "HE622_0000_IR3.JP2"
RELEASE_ID = 0129
REVISION_ID = 0000
/* QUALITY DATA ELEMENTS */
DATA_QUALITY_ID = 1
DATA_QUALITY_DESC = "Data calculated based on original SPICE kernels"
/* TIME DATA ELEMENTS */
SPACECRAFT_CLOCK_START_COUNT = "1/0384803196.08285"
SPACECRAFT_CLOCK_STOP_COUNT = "1/0384803401.22146"
START_TIME = 2015-07-12T17:47:39.263Z
STOP_TIME = 2015-07-12T17:49:58.739Z
/* ORBITAL DATA ELEMENTS */
ASCENDING_NODE_LONGITUDE = 299.11
MAXIMUM_RESOLUTION = 117.2
FOOTPRINT_POINT_LATITUDE = (-14.7952,-14.8014,-14.8077,-14.8139, -14.8202,-14.8266,-14.7613,-14.5251, -14.3675,-14.2102,-14.0535,-13.896, -13.584,-13.4246,-13.1899,-13.0338, -12.8775,-12.6426,-12.4857,-12.3285, -12.1714,-11.8627,-11.7064,-11.5491, -11.3929,-11.1595,-10.9135,-10.7297, -10.5452,-10.3612,-10.1768,-9.99398, -9.8104,-9.53578,-9.35077,-9.07516, -8.8003,-8.6187,-8.43997,-8.25733, -7.98023,-7.70767,-7.43576,-7.16353, -6.98206,-6.80498,-6.62506,-6.44572, -6.18324,-6.17613,-6.16649,-6.15716, -6.14989,-6.14217,-6.13645,-6.13104, -6.31106,-6.49035,-6.67084,-6.85152, -7.03232,-7.21309,-7.4841,-7.75707, -7.94034,-8.12274,-8.30535,-8.48701, -8.67067,-8.85399,-9.03716,-9.22046, -9.40345,-9.58727,-9.77191,-10.0484, -10.2329,-10.4173,-10.6021,-10.7872, -10.9691,-11.2799,-11.4361,-11.5919, -11.7476,-11.9814,-12.1382,-12.3722, -12.5284,-12.6847,-12.9192,-13.1539, -13.3105,-13.5461,-13.7045,-14.0177, -14.1748,-14.3324,-14.4903,-14.7952)
FOOTPRINT_POINT_LONGITUDE = (208.36,208.173,207.985,207.796,207.605 ,207.412,207.086,207.085,207.084, 207.082,207.081,207.08,207.076,207.076, 207.074,207.072,207.071,207.069,207.067 ,207.067,207.066,207.06,207.059,207.058 ,207.057,207.055,207.051,207.047, 207.045,207.042,207.04,207.036,207.033, 207.028,207.027,207.023,207.019,207.015 ,207.009,207.006,207.004,206.999, 206.994,206.989,206.986,206.98,206.976, 206.972,206.967,207.142,207.319,207.587 ,207.801,208.013,208.184,208.389, 208.388,208.387,208.387,208.386,208.385 ,208.384,208.383,208.382,208.381,208.38 ,208.38,208.379,208.378,208.378,208.377 ,208.376,208.376,208.375,208.374, 208.374,208.373,208.372,208.372,208.371 ,208.371,208.37,208.369,208.369,208.368 ,208.368,208.367,208.366,208.366, 208.366,208.365,208.364,208.364,208.363 ,208.363,208.362,208.362,208.361, 208.361,208.36)
ORBIT_NUMBER = 14622
ORBITAL_ECCENTRICITY = 0.578
ORBITAL_INCLINATION = 86.92
ORBITAL_SEMIMAJOR_AXIS = 8840.71
PERIAPSIS_ALTITUDE = 334.48
PERIAPSIS_ARGUMENT_ANGLE = 337.51
PERIAPSIS_TIME = 2015-07-12T17:45:16.000Z
SPACECRAFT_ORIENTATION = (0.0,1.0,0.0)
^MEX_ORIENTATION_DESC = "MEX_ORIENTATION_DESC.TXT"
SPACECRAFT_POINTING_MODE = ACROSSTRACK
^MEX_POINTING_DESC = "MEX_POINTING_DESC.TXT"
RIGHT_ASCENSION = -1e+32
DECLINATION = -1e+32
OFFSET_ANGLE = 0.6
SPACECRAFT_SOLAR_DISTANCE = 2.37308e+08
TARGET_NAME = MARS
/* CAMERA DATA ELEMENTS */
DETECTOR_TEMPERATURE = 17.5549
FOCAL_PLANE_TEMPERATURE = 7.9716
INST_CMPRS_NAME = "DISCRETE COSINE TRANSFORMATION (DCT)"
INST_CMPRS_RATIO = 5.97385
INST_CMPRS_QUALITY = 0
INST_CMPRS_QUANTZ_TBL_ID = 0
INSTRUMENT_TEMPERATURE = 11.4379
LENS_TEMPERATURE = 8.3794
MACROPIXEL_SIZE = 8
MISSING_FRAMES = 0
PIXEL_SUBSAMPLING_FLAG = N
SIGNAL_CHAIN_ID = 2
/* RADIOMETRIC DATA ELEMENTS */
BANDWIDTH = 81.0
CENTER_FILTER_WAVELENGTH = 955.5
RADIANCE_OFFSET = 0.698168
RADIANCE_SCALING_FACTOR = 0.00539286
REFLECTANCE_SCALING_FACTOR = 0.0006552
MEX:REFLECTANCE_OFFSET = 0.0848232
/* IMAGE OBJECT DEFINITIONS */
OBJECT = IMAGE
  INTERCHANGE_FORMAT = BINARY
  LINES = 5148
  LINE_SAMPLES = 857
  SAMPLE_TYPE = UNSIGNED_INTEGER
  SAMPLE_BITS = 8
  BANDS = 1
  BAND_STORAGE_TYPE = BAND_SEQUENTIAL
  MAXIMUM = 255
  MEAN = 121.423
  MINIMUM = 1
  STANDARD_DEVIATION = 22.7035
END_OBJECT = IMAGE
/* MAP OBJECT DEFINITIONS */
OBJECT = IMAGE_MAP_PROJECTION
  ^DATA_SET_MAP_PROJECTION_CATALOG= "DSMAP.CAT"
  A_AXIS_RADIUS = 3396.0
  B_AXIS_RADIUS = 3396.0
  C_AXIS_RADIUS = 3396.0
  CENTER_LATITUDE = 0.0
  CENTER_LONGITUDE = 208.0
  COORDINATE_SYSTEM_NAME = PLANETOGRAPHIC
  COORDINATE_SYSTEM_TYPE = "BODY-FIXED ROTATING"
  EASTERNMOST_LONGITUDE = 208.389
  FIRST_STANDARD_PARALLEL = "N/A"
  LINE_FIRST_PIXEL = 1
  LINE_LAST_PIXEL = 5148
  LINE_PROJECTION_OFFSET = -3644.0625
  MAP_PROJECTION_ROTATION = 0.0
  MAP_PROJECTION_TYPE = SINUSOIDAL
  MAP_RESOLUTION = 592.713803866667
  MAP_SCALE = 0.1
  MAXIMUM_LATITUDE = -6.13104
  MINIMUM_LATITUDE = -14.8266
  POSITIVE_LONGITUDE_DIRECTION = EAST
  REFERENCE_LATITUDE = "N/A"
  REFERENCE_LONGITUDE = "N/A"
  SAMPLE_FIRST_PIXEL = 1
  SAMPLE_LAST_PIXEL = 857
  SAMPLE_PROJECTION_OFFSET = 639.1875
  SECOND_STANDARD_PARALLEL = "N/A"
  WESTERNMOST_LONGITUDE = 206.967
END_OBJECT = IMAGE_MAP_PROJECTION
/* The JPEG2000 image data file associated with this label. */
OBJECT = COMPRESSED_FILE
  FILE_NAME = "HE622_0000_IR3.JP2"
  RECORD_TYPE = UNDEFINED
  FILE_RECORDS = UNK
  ENCODING_TYPE = "JP2"
  INTERCHANGE_FORMAT = BINARY
  UNCOMPRESSED_FILE_NAME = "HE622_0000_IR3.IMG"
  REQUIRED_STORAGE_BYTES = "4430690"
  ^DESCRIPTION = "JP2INFO.TXT"
END_OBJECT = COMPRESSED_FILE
END
