PDS_VERSION_ID = PDS3
/* FILE DATA ELEMENTS */
RECORD_TYPE = STREAM
/* POINTERS TO DATA OBJECTS */
^COMPRESSED_FILE = "HE622_0000_P23.JP2"
/* IDENTIFICATION DATA ELEMENTS */
DATA_SET_ID = "MEX-M-HRSC-5-REFDR-MAPPROJECTED-V3.0"
DATA_SET_NAME = "MARS EXPRESS HRSC MAP PROJECTED REFDR V3.0"
DETECTOR_ID = MEX_HRSC_P2
EVENT_TYPE = "MARS-REGIONAL-MAPPING-Te-Im-Fl"
INSTRUMENT_HOST_ID = MEX
INSTRUMENT_HOST_NAME = "MARS EXPRESS"
INSTRUMENT_ID = HRSC
INSTRUMENT_NAME = "HIGH RESOLUTION STEREO CAMERA"
MISSION_NAME = "MARS EXPRESS"
MISSION_PHASE_NAME = ME_Phase_33
PROCESSING_LEVEL_ID = 3
PRODUCT_CREATION_TIME = 2016-10-30T02:40:36.000Z
PRODUCT_ID = "HE622_0000_P23.JP2"
RELEASE_ID = 0129
REVISION_ID = 0000
/* QUALITY DATA ELEMENTS */
DATA_QUALITY_ID = 1
DATA_QUALITY_DESC = "Data calculated based on original SPICE kernels"
/* TIME DATA ELEMENTS */
SPACECRAFT_CLOCK_START_COUNT = "1/0384803196.08285"
SPACECRAFT_CLOCK_STOP_COUNT = "1/0384803401.22146"
START_TIME = 2015-07-12T17:46:52.498Z
STOP_TIME = 2015-07-12T17:49:04.960Z
/* ORBITAL DATA ELEMENTS */
ASCENDING_NODE_LONGITUDE = 299.11
MAXIMUM_RESOLUTION = 56.2
FOOTPRINT_POINT_LATITUDE = (-14.8558,-14.852,-14.8478,-14.8433, -14.8385,-14.8333,-14.8277,-14.5682, -14.3995,-14.231,-14.0621,-13.8935, -13.6407,-13.4703,-13.219,-12.9658, -12.797,-12.6286,-12.4608,-12.209, -12.0407,-11.8713,-11.7028,-11.3685, -11.1993,-11.0303,-10.8612,-10.6921, -10.5235,-10.3548,-10.1865,-10.0175, -9.84841,-9.59545,-9.42699,-9.26013, -9.00827,-8.8404,-8.67203,-8.50084, -8.33191,-7.99928,-7.83135,-7.54571, -7.34549,-7.14553,-6.9457,-6.74234, -6.54139,-6.341,-6.14108,-6.14014, -6.146,-6.15028,-6.1525,-6.25646, -6.55736,-6.75819,-6.95898,-7.15971, -7.4616,-7.66236,-7.84819,-8.01614, -8.18489,-8.35284,-8.52188,-8.68989, -8.85722,-9.10961,-9.27809,-9.44661, -9.61489,-9.78263,-9.9515,-10.2047, -10.4576,-10.7103,-10.879,-11.1318, -11.3004,-11.5532,-11.7219,-11.8907, -12.0595,-12.3122,-12.4811,-12.6501, -12.8188,-13.0723,-13.2413,-13.4104, -13.579,-13.7458,-13.9168,-14.0856, -14.2546,-14.4234,-14.592,-14.8558)
FOOTPRINT_POINT_LONGITUDE = (208.275,208.092,207.909,207.724, 207.538,207.35,207.16,207.093,207.092, 207.092,207.091,207.09,207.088,207.086, 207.086,207.084,207.082,207.081,207.081 ,207.079,207.078,207.076,207.075, 207.074,207.072,207.07,207.067,207.065, 207.063,207.061,207.059,207.056,207.054 ,207.05,207.048,207.047,207.044,207.042 ,207.04,207.035,207.032,207.03,207.027, 207.023,207.02,207.017,207.014,207.008, 207.004,207.0,206.997,207.331,207.709, 207.972,208.146,208.347,208.347,208.347 ,208.347,208.346,208.346,208.346, 208.346,208.345,208.345,208.345,208.345 ,208.345,208.345,208.345,208.344, 208.344,208.344,208.344,208.344,208.344 ,208.344,208.344,208.344,208.344, 208.343,208.343,208.343,208.343,208.343 ,208.343,208.343,208.343,208.343, 208.343,208.343,208.343,208.343,208.343 ,208.343,208.343,208.343,208.343, 208.343,208.275)
ORBIT_NUMBER = 14622
ORBITAL_ECCENTRICITY = 0.578
ORBITAL_INCLINATION = 86.92
ORBITAL_SEMIMAJOR_AXIS = 8840.71
PERIAPSIS_ALTITUDE = 334.48
PERIAPSIS_ARGUMENT_ANGLE = 337.51
PERIAPSIS_TIME = 2015-07-12T17:45:16.000Z
SPACECRAFT_ORIENTATION = (0.0,1.0,0.0)
^MEX_ORIENTATION_DESC = "MEX_ORIENTATION_DESC.TXT"
SPACECRAFT_POINTING_MODE = ACROSSTRACK
^MEX_POINTING_DESC = "MEX_POINTING_DESC.TXT"
RIGHT_ASCENSION = -1e+32
DECLINATION = -1e+32
OFFSET_ANGLE = 0.6
SPACECRAFT_SOLAR_DISTANCE = 2.37308e+08
TARGET_NAME = MARS
/* CAMERA DATA ELEMENTS */
DETECTOR_TEMPERATURE = 18.7783
FOCAL_PLANE_TEMPERATURE = 7.9716
INST_CMPRS_NAME = "DISCRETE COSINE TRANSFORMATION (DCT)"
INST_CMPRS_RATIO = 5.93172
INST_CMPRS_QUALITY = 0
INST_CMPRS_QUANTZ_TBL_ID = 0
INSTRUMENT_TEMPERATURE = 11.4379
LENS_TEMPERATURE = 8.3794
MACROPIXEL_SIZE = 4
MISSING_FRAMES = 0
PIXEL_SUBSAMPLING_FLAG = N
SIGNAL_CHAIN_ID = 3
/* RADIOMETRIC DATA ELEMENTS */
BANDWIDTH = 177.0
CENTER_FILTER_WAVELENGTH = 676.5
RADIANCE_OFFSET = 2.70769
RADIANCE_SCALING_FACTOR = 0.0193786
REFLECTANCE_SCALING_FACTOR = 0.000578635
MEX:REFLECTANCE_OFFSET = 0.0808504
/* IMAGE OBJECT DEFINITIONS */
OBJECT = IMAGE
  INTERCHANGE_FORMAT = BINARY
  LINES = 10295
  LINE_SAMPLES = 1713
  SAMPLE_TYPE = UNSIGNED_INTEGER
  SAMPLE_BITS = 8
  BANDS = 1
  BAND_STORAGE_TYPE = BAND_SEQUENTIAL
  MAXIMUM = 255
  MEAN = 125.824
  MINIMUM = 1
  STANDARD_DEVIATION = 23.4889
END_OBJECT = IMAGE
/* MAP OBJECT DEFINITIONS */
OBJECT = IMAGE_MAP_PROJECTION
  ^DATA_SET_MAP_PROJECTION_CATALOG= "DSMAP.CAT"
  A_AXIS_RADIUS = 3396.0
  B_AXIS_RADIUS = 3396.0
  C_AXIS_RADIUS = 3396.0
  CENTER_LATITUDE = 0.0
  CENTER_LONGITUDE = 208.0
  COORDINATE_SYSTEM_NAME = PLANETOGRAPHIC
  COORDINATE_SYSTEM_TYPE = "BODY-FIXED ROTATING"
  EASTERNMOST_LONGITUDE = 208.347
  FIRST_STANDARD_PARALLEL = "N/A"
  LINE_FIRST_PIXEL = 1
  LINE_LAST_PIXEL = 10295
  LINE_PROJECTION_OFFSET = -7287.625
  MAP_PROJECTION_ROTATION = 0.0
  MAP_PROJECTION_TYPE = SINUSOIDAL
  MAP_RESOLUTION = 1185.42760773333
  MAP_SCALE = 0.05
  MAXIMUM_LATITUDE = -6.14014
  MINIMUM_LATITUDE = -14.8558
  POSITIVE_LONGITUDE_DIRECTION = EAST
  REFERENCE_LATITUDE = "N/A"
  REFERENCE_LONGITUDE = "N/A"
  SAMPLE_FIRST_PIXEL = 1
  SAMPLE_LAST_PIXEL = 1713
  SAMPLE_PROJECTION_OFFSET = 1278.875
  SECOND_STANDARD_PARALLEL = "N/A"
  WESTERNMOST_LONGITUDE = 206.997
END_OBJECT = IMAGE_MAP_PROJECTION
/* The JPEG2000 image data file associated with this label. */
OBJECT = COMPRESSED_FILE
  FILE_NAME = "HE622_0000_P23.JP2"
  RECORD_TYPE = UNDEFINED
  FILE_RECORDS = UNK
  ENCODING_TYPE = "JP2"
  INTERCHANGE_FORMAT = BINARY
  UNCOMPRESSED_FILE_NAME = "HE622_0000_P23.IMG"
  REQUIRED_STORAGE_BYTES = "17655891"
  ^DESCRIPTION = "JP2INFO.TXT"
END_OBJECT = COMPRESSED_FILE
END
