PDS_VERSION_ID = PDS3
/* FILE DATA ELEMENTS */
RECORD_TYPE = STREAM
/* POINTERS TO DATA OBJECTS */
^COMPRESSED_FILE = "HE623_0000_P23.JP2"
/* IDENTIFICATION DATA ELEMENTS */
DATA_SET_ID = "MEX-M-HRSC-5-REFDR-MAPPROJECTED-V3.0"
DATA_SET_NAME = "MARS EXPRESS HRSC MAP PROJECTED REFDR V3.0"
DETECTOR_ID = MEX_HRSC_P2
EVENT_TYPE = "MARS-REGIONAL-MAPPING-Im-Fl"
INSTRUMENT_HOST_ID = MEX
INSTRUMENT_HOST_NAME = "MARS EXPRESS"
INSTRUMENT_ID = HRSC
INSTRUMENT_NAME = "HIGH RESOLUTION STEREO CAMERA"
MISSION_NAME = "MARS EXPRESS"
MISSION_PHASE_NAME = ME_Phase_33
PROCESSING_LEVEL_ID = 3
PRODUCT_CREATION_TIME = 2016-10-30T02:40:36.000Z
PRODUCT_ID = "HE623_0000_P23.JP2"
RELEASE_ID = 0129
REVISION_ID = 0000
/* QUALITY DATA ELEMENTS */
DATA_QUALITY_ID = 1
DATA_QUALITY_DESC = "Data calculated based on original SPICE kernels"
/* TIME DATA ELEMENTS */
SPACECRAFT_CLOCK_START_COUNT = "1/0384828384.08267"
SPACECRAFT_CLOCK_STOP_COUNT = "1/0384828592.06006"
START_TIME = 2015-07-13T00:46:40.592Z
STOP_TIME = 2015-07-13T00:48:54.798Z
/* ORBITAL DATA ELEMENTS */
ASCENDING_NODE_LONGITUDE = 299.08
MAXIMUM_RESOLUTION = 56.3
FOOTPRINT_POINT_LATITUDE = (-14.1063,-14.1077,-14.1096,-14.1104, -14.1105,-14.0274,-13.8589,-13.6907, -13.5208,-13.1852,-13.0164,-12.848, -12.6797,-12.5109,-12.2576,-12.0887, -11.9201,-11.6673,-11.4987,-11.3305, -11.1618,-10.9934,-10.8253,-10.6575, -10.4887,-10.321,-10.0677,-9.8979, -9.72918,-9.5604,-9.3921,-9.22367, -8.97122,-8.80291,-8.63478,-8.46671, -8.29872,-8.13067,-7.96269,-7.79479, -7.62716,-7.43183,-7.2327,-7.03235, -6.83185,-6.631,-6.33074,-6.12958, -5.82922,-5.62895,-5.31036,-5.30862, -5.30561,-5.3027,-5.30026,-5.50105, -5.70154,-5.90107,-6.10117,-6.40206, -6.60275,-6.80299,-7.00387,-7.20447, -7.40486,-7.60164,-7.77077,-7.93883, -8.19085,-8.35892,-8.52736,-8.69565, -8.86353,-9.03201,-9.28551,-9.53818, -9.70709,-9.87586,-10.0443,-10.2133, -10.4664,-10.6338,-10.8025,-10.9712, -11.1397,-11.3081,-11.4769,-11.646, -11.8974,-12.0677,-12.236,-12.4046, -12.6574,-12.8262,-12.9953,-13.2488, -13.4177,-13.5864,-13.921,-14.1063)
FOOTPRINT_POINT_LONGITUDE = (106.599,106.415,106.082,105.818, 105.622,105.459,105.457,105.456,105.454 ,105.452,105.451,105.449,105.448, 105.446,105.443,105.441,105.44,105.437, 105.435,105.433,105.431,105.429,105.427 ,105.426,105.423,105.421,105.418, 105.415,105.412,105.41,105.407,105.405, 105.401,105.399,105.396,105.394,105.391 ,105.388,105.386,105.383,105.38,105.376 ,105.373,105.37,105.366,105.362,105.357 ,105.353,105.347,105.343,105.424, 105.687,106.064,106.34,106.683,106.682, 106.682,106.682,106.682,106.682,106.681 ,106.681,106.681,106.681,106.681, 106.681,106.681,106.681,106.681,106.681 ,106.681,106.681,106.682,106.682, 106.681,106.682,106.682,106.682,106.682 ,106.682,106.682,106.683,106.683, 106.683,106.684,106.684,106.684,106.684 ,106.685,106.685,106.685,106.686, 106.686,106.687,106.687,106.687,106.688 ,106.688,106.69,106.599)
ORBIT_NUMBER = 14623
ORBITAL_ECCENTRICITY = 0.579
ORBITAL_INCLINATION = 86.9
ORBITAL_SEMIMAJOR_AXIS = 8846.57
PERIAPSIS_ALTITUDE = 334.02
PERIAPSIS_ARGUMENT_ANGLE = 337.33
PERIAPSIS_TIME = 2015-07-13T00:44:51.000Z
SPACECRAFT_ORIENTATION = (0.0,1.0,0.0)
^MEX_ORIENTATION_DESC = "MEX_ORIENTATION_DESC.TXT"
SPACECRAFT_POINTING_MODE = NADIR
^MEX_POINTING_DESC = "MEX_POINTING_DESC.TXT"
RIGHT_ASCENSION = -1e+32
DECLINATION = -1e+32
OFFSET_ANGLE = -1e+32
SPACECRAFT_SOLAR_DISTANCE = 2.37357e+08
TARGET_NAME = MARS
/* CAMERA DATA ELEMENTS */
DETECTOR_TEMPERATURE = 18.5744
FOCAL_PLANE_TEMPERATURE = 8.1755
INST_CMPRS_NAME = "DISCRETE COSINE TRANSFORMATION (DCT)"
INST_CMPRS_RATIO = 7.45574
INST_CMPRS_QUALITY = 0
INST_CMPRS_QUANTZ_TBL_ID = 0
INSTRUMENT_TEMPERATURE = 11.234
LENS_TEMPERATURE = 8.7872
MACROPIXEL_SIZE = 4
MISSING_FRAMES = 0
PIXEL_SUBSAMPLING_FLAG = N
SIGNAL_CHAIN_ID = 3
/* RADIOMETRIC DATA ELEMENTS */
BANDWIDTH = 177.0
CENTER_FILTER_WAVELENGTH = 676.5
RADIANCE_OFFSET = 2.23637
RADIANCE_SCALING_FACTOR = 0.0123154
REFLECTANCE_SCALING_FACTOR = 0.000367886
MEX:REFLECTANCE_OFFSET = 0.0668048
/* IMAGE OBJECT DEFINITIONS */
OBJECT = IMAGE
  INTERCHANGE_FORMAT = BINARY
  LINES = 10430
  LINE_SAMPLES = 1722
  SAMPLE_TYPE = UNSIGNED_INTEGER
  SAMPLE_BITS = 8
  BANDS = 1
  BAND_STORAGE_TYPE = BAND_SEQUENTIAL
  MAXIMUM = 255
  MEAN = 125.478
  MINIMUM = 1
  STANDARD_DEVIATION = 23.4073
END_OBJECT = IMAGE
/* MAP OBJECT DEFINITIONS */
OBJECT = IMAGE_MAP_PROJECTION
  ^DATA_SET_MAP_PROJECTION_CATALOG= "DSMAP.CAT"
  A_AXIS_RADIUS = 3396.0
  B_AXIS_RADIUS = 3396.0
  C_AXIS_RADIUS = 3396.0
  CENTER_LATITUDE = 0.0
  CENTER_LONGITUDE = 106.0
  COORDINATE_SYSTEM_NAME = PLANETOGRAPHIC
  COORDINATE_SYSTEM_TYPE = "BODY-FIXED ROTATING"
  EASTERNMOST_LONGITUDE = 106.69
  FIRST_STANDARD_PARALLEL = "N/A"
  LINE_FIRST_PIXEL = 1
  LINE_LAST_PIXEL = 10430
  LINE_PROJECTION_OFFSET = -6292.375
  MAP_PROJECTION_ROTATION = 0.0
  MAP_PROJECTION_TYPE = SINUSOIDAL
  MAP_RESOLUTION = 1185.42760773333
  MAP_SCALE = 0.05
  MAXIMUM_LATITUDE = -5.30026
  MINIMUM_LATITUDE = -14.1105
  POSITIVE_LONGITUDE_DIRECTION = EAST
  REFERENCE_LATITUDE = "N/A"
  REFERENCE_LONGITUDE = "N/A"
  SAMPLE_FIRST_PIXEL = 1
  SAMPLE_LAST_PIXEL = 1722
  SAMPLE_PROJECTION_OFFSET = 847.625
  SECOND_STANDARD_PARALLEL = "N/A"
  WESTERNMOST_LONGITUDE = 105.343
END_OBJECT = IMAGE_MAP_PROJECTION
/* The JPEG2000 image data file associated with this label. */
OBJECT = COMPRESSED_FILE
  FILE_NAME = "HE623_0000_P23.JP2"
  RECORD_TYPE = UNDEFINED
  FILE_RECORDS = UNK
  ENCODING_TYPE = "JP2"
  INTERCHANGE_FORMAT = BINARY
  UNCOMPRESSED_FILE_NAME = "HE623_0000_P23.IMG"
  REQUIRED_STORAGE_BYTES = "17981124"
  ^DESCRIPTION = "JP2INFO.TXT"
END_OBJECT = COMPRESSED_FILE
END
