PDS_VERSION_ID = PDS3
/* FILE DATA ELEMENTS */
RECORD_TYPE = STREAM
/* POINTERS TO DATA OBJECTS */
^COMPRESSED_FILE = "HE626_0000_ND3.JP2"
/* IDENTIFICATION DATA ELEMENTS */
DATA_SET_ID = "MEX-M-HRSC-5-REFDR-MAPPROJECTED-V3.0"
DATA_SET_NAME = "MARS EXPRESS HRSC MAP PROJECTED REFDR V3.0"
DETECTOR_ID = MEX_HRSC_NADIR
EVENT_TYPE = "MARS-REGIONAL-MAPPING-Vo"
INSTRUMENT_HOST_ID = MEX
INSTRUMENT_HOST_NAME = "MARS EXPRESS"
INSTRUMENT_ID = HRSC
INSTRUMENT_NAME = "HIGH RESOLUTION STEREO CAMERA"
MISSION_NAME = "MARS EXPRESS"
MISSION_PHASE_NAME = ME_Phase_33
PROCESSING_LEVEL_ID = 3
PRODUCT_CREATION_TIME = 2016-10-30T02:40:36.000Z
PRODUCT_ID = "HE626_0000_ND3.JP2"
RELEASE_ID = 0129
REVISION_ID = 0000
/* QUALITY DATA ELEMENTS */
DATA_QUALITY_ID = 1
DATA_QUALITY_DESC = "Data calculated based on original SPICE kernels"
/* TIME DATA ELEMENTS */
SPACECRAFT_CLOCK_START_COUNT = "1/0384904050.09084"
SPACECRAFT_CLOCK_STOP_COUNT = "1/0384904271.25966"
START_TIME = 2015-07-13T21:48:07.358Z
STOP_TIME = 2015-07-13T21:50:33.370Z
/* ORBITAL DATA ELEMENTS */
ASCENDING_NODE_LONGITUDE = 299.03
MAXIMUM_RESOLUTION = 16.2
FOOTPRINT_POINT_LATITUDE = (-5.66525,-5.66754,-5.66913,-5.6715, -5.67764,-5.30343,-5.02296,-4.83563, -4.36824,-4.08281,-3.89109,-3.69913, -3.5073,-3.31537,-3.12344,-2.93165, -2.63701,-2.44012,-2.24328,-2.04647, -1.8496,-1.65274,-1.45178,-1.24988, -1.04798,-0.846086,-0.644195,-0.442305, -0.235581,-0.0286427,0.178298,0.488701, 0.696058,0.908069,1.12009,1.33212, 1.54416,1.75659,1.97371,2.19086,2.408, 2.6252,2.84467,3.06695,3.28925,3.51159, 3.73396,3.95636,4.17879,4.40125,4.51959 ,4.52179,4.52516,4.52718,4.52987, 4.30772,3.97421,3.75186,3.41793,3.08466 ,2.86231,2.64266,2.42542,2.20822, 1.88243,1.66729,1.45518,1.24308,1.03099 ,0.818921,0.608867,0.401863,0.194864, -0.0121291,-0.219117,-0.426018, -0.627957,-0.829897,-1.03184,-1.23379, -1.43574,-1.63686,-1.83378,-2.0307, -2.22763,-2.42456,-2.71994,-3.01204, -3.29983,-3.4917,-3.68345,-3.87583, -4.0678,-4.2598,-4.6339,-4.91436, -5.10138,-5.47514,-5.66239,-5.66525)
FOOTPRINT_POINT_LONGITUDE = (159.798,159.477,159.255,158.922, 158.704,158.7,158.697,158.695,158.69, 158.687,158.684,158.682,158.68,158.677, 158.675,158.673,158.669,158.667,158.664 ,158.661,158.659,158.656,158.654, 158.651,158.648,158.645,158.643,158.64, 158.637,158.634,158.631,158.626,158.623 ,158.62,158.617,158.613,158.61,158.607, 158.604,158.6,158.597,158.593,158.59, 158.586,158.582,158.579,158.575,158.571 ,158.567,158.563,158.73,159.036,159.495 ,159.853,160.196,160.286,160.279, 160.274,160.266,160.26,160.255,160.25, 160.246,160.242,160.235,160.231,160.227 ,160.223,160.22,160.216,160.212,160.209 ,160.205,160.202,160.198,160.195, 160.192,160.189,160.186,160.182,160.179 ,160.177,160.174,160.171,160.168, 160.166,160.161,160.157,160.154,160.151 ,160.148,160.147,160.145,160.142, 160.138,160.135,160.133,160.128,160.127 ,159.798)
ORBIT_NUMBER = 14626
ORBITAL_ECCENTRICITY = 0.578
ORBITAL_INCLINATION = 86.91
ORBITAL_SEMIMAJOR_AXIS = 8839.15
PERIAPSIS_ALTITUDE = 334.88
PERIAPSIS_ARGUMENT_ANGLE = 336.85
PERIAPSIS_TIME = 2015-07-13T21:43:29.000Z
SPACECRAFT_ORIENTATION = (0.0,1.0,0.0)
^MEX_ORIENTATION_DESC = "MEX_ORIENTATION_DESC.TXT"
SPACECRAFT_POINTING_MODE = INERT
^MEX_POINTING_DESC = "MEX_POINTING_DESC.TXT"
RIGHT_ASCENSION = 183.666
DECLINATION = 53.511
OFFSET_ANGLE = -1e+32
SPACECRAFT_SOLAR_DISTANCE = 2.37504e+08
TARGET_NAME = MARS
/* CAMERA DATA ELEMENTS */
DETECTOR_TEMPERATURE = 17.7588
FOCAL_PLANE_TEMPERATURE = 7.5638
INST_CMPRS_NAME = "DISCRETE COSINE TRANSFORMATION (DCT)"
INST_CMPRS_RATIO = 8.02668
INST_CMPRS_QUALITY = 0
INST_CMPRS_QUANTZ_TBL_ID = 0
INSTRUMENT_TEMPERATURE = 10.8262
LENS_TEMPERATURE = 7.9716
MACROPIXEL_SIZE = 1
MISSING_FRAMES = 0
PIXEL_SUBSAMPLING_FLAG = N
SIGNAL_CHAIN_ID = 0
/* RADIOMETRIC DATA ELEMENTS */
BANDWIDTH = 177.0
CENTER_FILTER_WAVELENGTH = 677.5
RADIANCE_OFFSET = 3.10809
RADIANCE_SCALING_FACTOR = 0.0125755
REFLECTANCE_SCALING_FACTOR = 0.000376837
MEX:REFLECTANCE_OFFSET = 0.0931367
/* IMAGE OBJECT DEFINITIONS */
OBJECT = IMAGE
  INTERCHANGE_FORMAT = BINARY
  LINES = 48411
  LINE_SAMPLES = 8494
  SAMPLE_TYPE = UNSIGNED_INTEGER
  SAMPLE_BITS = 8
  BANDS = 1
  BAND_STORAGE_TYPE = BAND_SEQUENTIAL
  MAXIMUM = 255
  MEAN = 138.731
  MINIMUM = 1
  STANDARD_DEVIATION = 17.4578
END_OBJECT = IMAGE
/* MAP OBJECT DEFINITIONS */
OBJECT = IMAGE_MAP_PROJECTION
  ^DATA_SET_MAP_PROJECTION_CATALOG= "DSMAP.CAT"
  A_AXIS_RADIUS = 3396.0
  B_AXIS_RADIUS = 3396.0
  C_AXIS_RADIUS = 3396.0
  CENTER_LATITUDE = 0.0
  CENTER_LONGITUDE = 159.0
  COORDINATE_SYSTEM_NAME = PLANETOGRAPHIC
  COORDINATE_SYSTEM_TYPE = "BODY-FIXED ROTATING"
  EASTERNMOST_LONGITUDE = 160.286
  FIRST_STANDARD_PARALLEL = "N/A"
  LINE_FIRST_PIXEL = 1
  LINE_LAST_PIXEL = 48411
  LINE_PROJECTION_OFFSET = 21510.0
  MAP_PROJECTION_ROTATION = 0.0
  MAP_PROJECTION_TYPE = SINUSOIDAL
  MAP_RESOLUTION = 4741.71043093333
  MAP_SCALE = 0.0125
  MAXIMUM_LATITUDE = 4.52987
  MINIMUM_LATITUDE = -5.67764
  POSITIVE_LONGITUDE_DIRECTION = EAST
  REFERENCE_LATITUDE = "N/A"
  REFERENCE_LONGITUDE = "N/A"
  SAMPLE_FIRST_PIXEL = 1
  SAMPLE_LAST_PIXEL = 8494
  SAMPLE_PROJECTION_OFFSET = 2176.0
  SECOND_STANDARD_PARALLEL = "N/A"
  WESTERNMOST_LONGITUDE = 158.563
END_OBJECT = IMAGE_MAP_PROJECTION
/* The JPEG2000 image data file associated with this label. */
OBJECT = COMPRESSED_FILE
  FILE_NAME = "HE626_0000_ND3.JP2"
  RECORD_TYPE = UNDEFINED
  FILE_RECORDS = UNK
  ENCODING_TYPE = "JP2"
  INTERCHANGE_FORMAT = BINARY
  UNCOMPRESSED_FILE_NAME = "HE626_0000_ND3.IMG"
  REQUIRED_STORAGE_BYTES = "411237010"
  ^DESCRIPTION = "JP2INFO.TXT"
END_OBJECT = COMPRESSED_FILE
END
