PDS_VERSION_ID = PDS3
/* FILE DATA ELEMENTS */
RECORD_TYPE = STREAM
/* POINTERS TO DATA OBJECTS */
^COMPRESSED_FILE = "HE632_0000_P13.JP2"
/* IDENTIFICATION DATA ELEMENTS */
DATA_SET_ID = "MEX-M-HRSC-5-REFDR-MAPPROJECTED-V3.0"
DATA_SET_NAME = "MARS EXPRESS HRSC MAP PROJECTED REFDR V3.0"
DETECTOR_ID = MEX_HRSC_P1
EVENT_TYPE = "MARS-REGIONAL-MAPPING-Vo-Te-Gl"
INSTRUMENT_HOST_ID = MEX
INSTRUMENT_HOST_NAME = "MARS EXPRESS"
INSTRUMENT_ID = HRSC
INSTRUMENT_NAME = "HIGH RESOLUTION STEREO CAMERA"
MISSION_NAME = "MARS EXPRESS"
MISSION_PHASE_NAME = ME_Phase_33
PROCESSING_LEVEL_ID = 3
PRODUCT_CREATION_TIME = 2016-10-30T02:40:36.000Z
PRODUCT_ID = "HE632_0000_P13.JP2"
RELEASE_ID = 0129
REVISION_ID = 0000
/* QUALITY DATA ELEMENTS */
DATA_QUALITY_ID = 1
DATA_QUALITY_DESC = "Data calculated based on original SPICE kernels"
/* TIME DATA ELEMENTS */
SPACECRAFT_CLOCK_START_COUNT = "1/0385055052.08287"
SPACECRAFT_CLOCK_STOP_COUNT = "1/0385055242.06340"
START_TIME = 2015-07-15T15:45:17.792Z
STOP_TIME = 2015-07-15T15:47:09.589Z
/* ORBITAL DATA ELEMENTS */
ASCENDING_NODE_LONGITUDE = 298.91
MAXIMUM_RESOLUTION = 65
FOOTPRINT_POINT_LATITUDE = (-7.19496,-7.20394,-7.21308,-7.22236, -7.23183,-7.24148,-7.25135,-7.24511, -7.11769,-6.92313,-6.79124,-6.65972, -6.41332,-6.27912,-6.08493,-5.95814, -5.77372,-5.58188,-5.33162,-5.1352, -4.99981,-4.8698,-4.7367,-4.60891, -4.47633,-4.33885,-4.20455,-4.07098, -3.93858,-3.80632,-3.67396,-3.5422, -3.41028,-3.20817,-3.07355,-2.9387, -2.80409,-2.6022,-2.46792,-2.26291, -2.12617,-1.98908,-1.85237,-1.71613, -1.5116,-1.37243,-1.23303,-1.02429, -0.885267,-0.745954,-0.560264,-0.552258 ,-0.545711,-0.539258,-0.529527, -0.523497,-0.512844,-0.502568,-0.492603 ,-0.560332,-0.699847,-0.909136,-1.0486, -1.18823,-1.32817,-1.46743,-1.67303, -1.81003,-1.94711,-2.0846,-2.22192, -2.4267,-2.56085,-2.76268,-2.89718, -3.09959,-3.23447,-3.43458,-3.56667, -3.69905,-3.83163,-4.03029,-4.22989, -4.36315,-4.49253,-4.62248,-4.75254, -4.88701,-5.01665,-5.1554,-5.28851, -5.41855,-5.61531,-5.92222,-6.04897, -6.29523,-6.5495,-6.74759,-6.87928, -7.19496)
FOOTPRINT_POINT_LONGITUDE = (265.417,265.207,264.995,264.781, 264.564,264.345,264.124,263.98,263.98, 263.984,263.989,263.992,263.976,263.98, 263.979,263.975,263.963,263.959,263.943 ,263.939,263.942,263.938,263.938, 263.933,263.933,263.935,263.934,263.931 ,263.927,263.924,263.92,263.916,263.912 ,263.907,263.902,263.898,263.894, 263.889,263.885,263.878,263.873,263.869 ,263.865,263.86,263.853,263.848,263.843 ,263.836,263.831,263.827,263.821, 263.993,264.134,264.275,264.491,264.629 ,264.873,265.115,265.354,265.463, 265.462,265.46,265.459,265.458,265.457, 265.456,265.455,265.454,265.453,265.452 ,265.451,265.45,265.449,265.448,265.447 ,265.445,265.445,265.444,265.443, 265.442,265.441,265.44,265.439,265.438, 265.437,265.437,265.436,265.434,265.434 ,265.432,265.431,265.43,265.428,265.429 ,265.428,265.428,265.427,265.425, 265.423,265.417)
ORBIT_NUMBER = 14632
ORBITAL_ECCENTRICITY = 0.579
ORBITAL_INCLINATION = 86.9
ORBITAL_SEMIMAJOR_AXIS = 8848.47
PERIAPSIS_ALTITUDE = 333.69
PERIAPSIS_ARGUMENT_ANGLE = 335.79
PERIAPSIS_TIME = 2015-07-15T15:40:32.000Z
SPACECRAFT_ORIENTATION = (0.0,1.0,0.0)
^MEX_ORIENTATION_DESC = "MEX_ORIENTATION_DESC.TXT"
SPACECRAFT_POINTING_MODE = ACROSSTRACK
^MEX_POINTING_DESC = "MEX_POINTING_DESC.TXT"
RIGHT_ASCENSION = -1e+32
DECLINATION = -1e+32
OFFSET_ANGLE = 1.0
SPACECRAFT_SOLAR_DISTANCE = 2.37794e+08
TARGET_NAME = MARS
/* CAMERA DATA ELEMENTS */
DETECTOR_TEMPERATURE = 16.7393
FOCAL_PLANE_TEMPERATURE = 7.156
INST_CMPRS_NAME = "DISCRETE COSINE TRANSFORMATION (DCT)"
INST_CMPRS_RATIO = 9.16985
INST_CMPRS_QUALITY = 0
INST_CMPRS_QUANTZ_TBL_ID = 0
INSTRUMENT_TEMPERATURE = 10.8262
LENS_TEMPERATURE = 7.7677
MACROPIXEL_SIZE = 4
MISSING_FRAMES = 0
PIXEL_SUBSAMPLING_FLAG = N
SIGNAL_CHAIN_ID = 3
/* RADIOMETRIC DATA ELEMENTS */
BANDWIDTH = 174.0
CENTER_FILTER_WAVELENGTH = 675.0
RADIANCE_OFFSET = 1.85015
RADIANCE_SCALING_FACTOR = 0.0277321
REFLECTANCE_SCALING_FACTOR = 0.000843475
MEX:REFLECTANCE_OFFSET = 0.0562725
/* IMAGE OBJECT DEFINITIONS */
OBJECT = IMAGE
  INTERCHANGE_FORMAT = BINARY
  LINES = 7939
  LINE_SAMPLES = 1999
  SAMPLE_TYPE = UNSIGNED_INTEGER
  SAMPLE_BITS = 8
  BANDS = 1
  BAND_STORAGE_TYPE = BAND_SEQUENTIAL
  MAXIMUM = 255
  MEAN = 135.633
  MINIMUM = 1
  STANDARD_DEVIATION = 29.2677
END_OBJECT = IMAGE
/* MAP OBJECT DEFINITIONS */
OBJECT = IMAGE_MAP_PROJECTION
  ^DATA_SET_MAP_PROJECTION_CATALOG= "DSMAP.CAT"
  A_AXIS_RADIUS = 3396.0
  B_AXIS_RADIUS = 3396.0
  C_AXIS_RADIUS = 3396.0
  CENTER_LATITUDE = 0.0
  CENTER_LONGITUDE = 265.0
  COORDINATE_SYSTEM_NAME = PLANETOGRAPHIC
  COORDINATE_SYSTEM_TYPE = "BODY-FIXED ROTATING"
  EASTERNMOST_LONGITUDE = 265.463
  FIRST_STANDARD_PARALLEL = "N/A"
  LINE_FIRST_PIXEL = 1
  LINE_LAST_PIXEL = 7939
  LINE_PROJECTION_OFFSET = -634.375
  MAP_PROJECTION_ROTATION = 0.0
  MAP_PROJECTION_TYPE = SINUSOIDAL
  MAP_RESOLUTION = 1185.42760773333
  MAP_SCALE = 0.05
  MAXIMUM_LATITUDE = -0.492603
  MINIMUM_LATITUDE = -7.25135
  POSITIVE_LONGITUDE_DIRECTION = EAST
  REFERENCE_LATITUDE = "N/A"
  REFERENCE_LONGITUDE = "N/A"
  SAMPLE_FIRST_PIXEL = 1
  SAMPLE_LAST_PIXEL = 1999
  SAMPLE_PROJECTION_OFFSET = 1489.875
  SECOND_STANDARD_PARALLEL = "N/A"
  WESTERNMOST_LONGITUDE = 263.821
END_OBJECT = IMAGE_MAP_PROJECTION
/* The JPEG2000 image data file associated with this label. */
OBJECT = COMPRESSED_FILE
  FILE_NAME = "HE632_0000_P13.JP2"
  RECORD_TYPE = UNDEFINED
  FILE_RECORDS = UNK
  ENCODING_TYPE = "JP2"
  INTERCHANGE_FORMAT = BINARY
  UNCOMPRESSED_FILE_NAME = "HE632_0000_P13.IMG"
  REQUIRED_STORAGE_BYTES = "15890051"
  ^DESCRIPTION = "JP2INFO.TXT"
END_OBJECT = COMPRESSED_FILE
END
