PDS_VERSION_ID = PDS3
/* FILE DATA ELEMENTS */
RECORD_TYPE = STREAM
/* POINTERS TO DATA OBJECTS */
^COMPRESSED_FILE = "HE632_0000_P23.JP2"
/* IDENTIFICATION DATA ELEMENTS */
DATA_SET_ID = "MEX-M-HRSC-5-REFDR-MAPPROJECTED-V3.0"
DATA_SET_NAME = "MARS EXPRESS HRSC MAP PROJECTED REFDR V3.0"
DETECTOR_ID = MEX_HRSC_P2
EVENT_TYPE = "MARS-REGIONAL-MAPPING-Vo-Te-Gl"
INSTRUMENT_HOST_ID = MEX
INSTRUMENT_HOST_NAME = "MARS EXPRESS"
INSTRUMENT_ID = HRSC
INSTRUMENT_NAME = "HIGH RESOLUTION STEREO CAMERA"
MISSION_NAME = "MARS EXPRESS"
MISSION_PHASE_NAME = ME_Phase_33
PROCESSING_LEVEL_ID = 3
PRODUCT_CREATION_TIME = 2016-10-30T02:40:36.000Z
PRODUCT_ID = "HE632_0000_P23.JP2"
RELEASE_ID = 0129
REVISION_ID = 0000
/* QUALITY DATA ELEMENTS */
DATA_QUALITY_ID = 1
DATA_QUALITY_DESC = "Data calculated based on original SPICE kernels"
/* TIME DATA ELEMENTS */
SPACECRAFT_CLOCK_START_COUNT = "1/0385055052.08287"
SPACECRAFT_CLOCK_STOP_COUNT = "1/0385055242.06340"
START_TIME = 2015-07-15T15:44:29.798Z
STOP_TIME = 2015-07-15T15:46:13.086Z
/* ORBITAL DATA ELEMENTS */
ASCENDING_NODE_LONGITUDE = 298.91
MAXIMUM_RESOLUTION = 61.7
FOOTPRINT_POINT_LATITUDE = (-7.24622,-7.23992,-7.23325,-7.22621, -7.21878,-7.21097,-7.15608,-7.02614, -6.83157,-6.57931,-6.43776,-6.30936, -6.18306,-6.05153,-5.91856,-5.77947, -5.57929,-5.44563,-5.24516,-5.05005, -4.79957,-4.66517,-4.53369,-4.40727, -4.27746,-4.1473,-4.016,-3.88469,-3.754 ,-3.62299,-3.48963,-3.35478,-3.22042, -3.01892,-2.88429,-2.74973,-2.61564, -2.48132,-2.34711,-2.21002,-2.07187, -1.93423,-1.79624,-1.58924,-1.45161, -1.31397,-1.17673,-0.966494,-0.825873, -0.685636,-0.54038,-0.548722,-0.553968, -0.557224,-0.565076,-0.571609,-0.577275 ,-0.717709,-0.858323,-0.999243,-1.20957 ,-1.34689,-1.48425,-1.62166,-1.75938, -1.89721,-2.03481,-2.17279,-2.37902, -2.51383,-2.71576,-2.91811,-3.05267, -3.18764,-3.32262,-3.45726,-3.65836, -3.7894,-3.92114,-4.05255,-4.24886, -4.38056,-4.51229,-4.64368,-4.83751, -4.96996,-5.21976,-5.4165,-5.61249, -5.81886,-5.95739,-6.16167,-6.29551, -6.42791,-6.56089,-6.69102,-6.93936, -7.13668,-7.27265,-7.24622)
FOOTPRINT_POINT_LONGITUDE = (265.205,265.004,264.8,264.594,264.386, 264.175,264.019,264.019,264.019,264.027 ,264.013,264.014,264.018,264.015, 264.011,264.0,263.993,263.988,263.981, 263.979,263.986,263.98,263.977,263.979, 263.978,263.976,263.973,263.97,263.967, 263.964,263.96,263.957,263.953,263.948, 263.945,263.941,263.938,263.934,263.931 ,263.927,263.922,263.919,263.914, 263.908,263.904,263.9,263.896,263.889, 263.885,263.881,263.935,264.242,264.443 ,264.572,264.898,265.191,265.404, 265.403,265.403,265.402,265.402,265.401 ,265.401,265.4,265.4,265.4,265.399, 265.399,265.398,265.398,265.398,265.397 ,265.397,265.397,265.396,265.396, 265.395,265.395,265.395,265.395,265.394 ,265.394,265.393,265.393,265.392, 265.392,265.388,265.388,265.387,265.388 ,265.39,265.391,265.391,265.391,265.391 ,265.39,265.386,265.385,265.386, 265.205)
ORBIT_NUMBER = 14632
ORBITAL_ECCENTRICITY = 0.579
ORBITAL_INCLINATION = 86.9
ORBITAL_SEMIMAJOR_AXIS = 8848.47
PERIAPSIS_ALTITUDE = 333.69
PERIAPSIS_ARGUMENT_ANGLE = 335.79
PERIAPSIS_TIME = 2015-07-15T15:40:32.000Z
SPACECRAFT_ORIENTATION = (0.0,1.0,0.0)
^MEX_ORIENTATION_DESC = "MEX_ORIENTATION_DESC.TXT"
SPACECRAFT_POINTING_MODE = ACROSSTRACK
^MEX_POINTING_DESC = "MEX_POINTING_DESC.TXT"
RIGHT_ASCENSION = -1e+32
DECLINATION = -1e+32
OFFSET_ANGLE = 1.0
SPACECRAFT_SOLAR_DISTANCE = 2.37794e+08
TARGET_NAME = MARS
/* CAMERA DATA ELEMENTS */
DETECTOR_TEMPERATURE = 17.9627
FOCAL_PLANE_TEMPERATURE = 7.156
INST_CMPRS_NAME = "DISCRETE COSINE TRANSFORMATION (DCT)"
INST_CMPRS_RATIO = 8.44488
INST_CMPRS_QUALITY = 0
INST_CMPRS_QUANTZ_TBL_ID = 0
INSTRUMENT_TEMPERATURE = 10.8262
LENS_TEMPERATURE = 7.7677
MACROPIXEL_SIZE = 4
MISSING_FRAMES = 0
PIXEL_SUBSAMPLING_FLAG = N
SIGNAL_CHAIN_ID = 3
/* RADIOMETRIC DATA ELEMENTS */
BANDWIDTH = 177.0
CENTER_FILTER_WAVELENGTH = 676.5
RADIANCE_OFFSET = 1.77475
RADIANCE_SCALING_FACTOR = 0.0285352
REFLECTANCE_SCALING_FACTOR = 0.000855546
MEX:REFLECTANCE_OFFSET = 0.0532108
/* IMAGE OBJECT DEFINITIONS */
OBJECT = IMAGE
  INTERCHANGE_FORMAT = BINARY
  LINES = 7939
  LINE_SAMPLES = 1999
  SAMPLE_TYPE = UNSIGNED_INTEGER
  SAMPLE_BITS = 8
  BANDS = 1
  BAND_STORAGE_TYPE = BAND_SEQUENTIAL
  MAXIMUM = 255
  MEAN = 131.81
  MINIMUM = 1
  STANDARD_DEVIATION = 29.8263
END_OBJECT = IMAGE
/* MAP OBJECT DEFINITIONS */
OBJECT = IMAGE_MAP_PROJECTION
  ^DATA_SET_MAP_PROJECTION_CATALOG= "DSMAP.CAT"
  A_AXIS_RADIUS = 3396.0
  B_AXIS_RADIUS = 3396.0
  C_AXIS_RADIUS = 3396.0
  CENTER_LATITUDE = 0.0
  CENTER_LONGITUDE = 265.0
  COORDINATE_SYSTEM_NAME = PLANETOGRAPHIC
  COORDINATE_SYSTEM_TYPE = "BODY-FIXED ROTATING"
  EASTERNMOST_LONGITUDE = 265.404
  FIRST_STANDARD_PARALLEL = "N/A"
  LINE_FIRST_PIXEL = 1
  LINE_LAST_PIXEL = 7939
  LINE_PROJECTION_OFFSET = -634.375
  MAP_PROJECTION_ROTATION = 0.0
  MAP_PROJECTION_TYPE = SINUSOIDAL
  MAP_RESOLUTION = 1185.42760773333
  MAP_SCALE = 0.05
  MAXIMUM_LATITUDE = -0.54038
  MINIMUM_LATITUDE = -7.27265
  POSITIVE_LONGITUDE_DIRECTION = EAST
  REFERENCE_LATITUDE = "N/A"
  REFERENCE_LONGITUDE = "N/A"
  SAMPLE_FIRST_PIXEL = 1
  SAMPLE_LAST_PIXEL = 1999
  SAMPLE_PROJECTION_OFFSET = 1489.875
  SECOND_STANDARD_PARALLEL = "N/A"
  WESTERNMOST_LONGITUDE = 263.881
END_OBJECT = IMAGE_MAP_PROJECTION
/* The JPEG2000 image data file associated with this label. */
OBJECT = COMPRESSED_FILE
  FILE_NAME = "HE632_0000_P23.JP2"
  RECORD_TYPE = UNDEFINED
  FILE_RECORDS = UNK
  ENCODING_TYPE = "JP2"
  INTERCHANGE_FORMAT = BINARY
  UNCOMPRESSED_FILE_NAME = "HE632_0000_P23.IMG"
  REQUIRED_STORAGE_BYTES = "15890051"
  ^DESCRIPTION = "JP2INFO.TXT"
END_OBJECT = COMPRESSED_FILE
END
