PDS_VERSION_ID = PDS3
/* FILE DATA ELEMENTS */
RECORD_TYPE = STREAM
/* POINTERS TO DATA OBJECTS */
^COMPRESSED_FILE = "HE635_0000_ND3.JP2"
/* IDENTIFICATION DATA ELEMENTS */
DATA_SET_ID = "MEX-M-HRSC-5-REFDR-MAPPROJECTED-V3.0"
DATA_SET_NAME = "MARS EXPRESS HRSC MAP PROJECTED REFDR V3.0"
DETECTOR_ID = MEX_HRSC_NADIR
EVENT_TYPE = "MARS-REGIONAL-MAPPING-Fl-Mw-La"
INSTRUMENT_HOST_ID = MEX
INSTRUMENT_HOST_NAME = "MARS EXPRESS"
INSTRUMENT_ID = HRSC
INSTRUMENT_NAME = "HIGH RESOLUTION STEREO CAMERA"
MISSION_NAME = "MARS EXPRESS"
MISSION_PHASE_NAME = ME_Phase_33
PROCESSING_LEVEL_ID = 3
PRODUCT_CREATION_TIME = 2016-10-30T02:40:36.000Z
PRODUCT_ID = "HE635_0000_ND3.JP2"
RELEASE_ID = 0129
REVISION_ID = 0000
/* QUALITY DATA ELEMENTS */
DATA_QUALITY_ID = 1
DATA_QUALITY_DESC = "Data calculated based on original SPICE kernels"
/* TIME DATA ELEMENTS */
SPACECRAFT_CLOCK_START_COUNT = "1/0385130480.08251"
SPACECRAFT_CLOCK_STOP_COUNT = "1/0385130676.22846"
START_TIME = 2015-07-16T12:41:59.099Z
STOP_TIME = 2015-07-16T12:43:59.099Z
/* ORBITAL DATA ELEMENTS */
ASCENDING_NODE_LONGITUDE = 298.86
MAXIMUM_RESOLUTION = 14.8
FOOTPRINT_POINT_LATITUDE = (-12.7964,-12.7996,-12.8025,-12.8053, -12.8078,-12.8092,-12.6556,-12.5021, -12.3487,-12.1954,-12.0421,-11.8889, -11.7357,-11.5827,-11.4296,-11.2766, -11.1237,-10.9709,-10.8181,-10.6654, -10.5128,-10.3603,-10.2079,-10.0556, -9.9035,-9.75131,-9.52301,-9.37098, -9.2191,-9.06726,-8.91546,-8.68766, -8.53585,-8.38428,-8.23283,-8.08144, -7.93016,-7.77897,-7.62799,-7.32656, -7.02496,-6.72363,-6.42274,-6.2702, -6.11601,-5.96191,-5.73068,-5.57675, -5.42292,-5.26923,-5.17056,-5.16822, -5.1658,-5.1608,-5.15679,-5.15394, -5.22808,-5.38189,-5.53576,-5.68973, -5.84381,-5.99799,-6.15223,-6.38257, -6.68354,-6.90919,-7.13493,-7.43662, -7.7388,-7.89013,-8.11717,-8.26857, -8.42009,-8.57167,-8.7234,-8.87521, -9.0271,-9.17894,-9.33096,-9.48318, -9.71141,-9.86366,-10.016,-10.2448, -10.3972,-10.5499,-10.779,-10.9319, -11.0846,-11.2375,-11.3906,-11.5437, -11.6968,-11.85,-12.0802,-12.2337, -12.3873,-12.5411,-12.7718,-12.7964)
FOOTPRINT_POINT_LONGITUDE = (320.956,320.733,320.514,320.299, 320.089,319.89,319.887,319.884,319.88, 319.878,319.874,319.871,319.868,319.864 ,319.861,319.859,319.856,319.853,319.85 ,319.846,319.844,319.84,319.836,319.831 ,319.824,319.819,319.816,319.812, 319.807,319.803,319.8,319.799,319.799, 319.796,319.793,319.79,319.786,319.783, 319.777,319.761,319.754,319.748,319.741 ,319.737,319.732,319.727,319.723,319.72 ,319.716,319.711,319.865,320.039, 320.216,320.574,320.849,321.037,321.233 ,321.232,321.232,321.232,321.232, 321.232,321.233,321.232,321.233,321.243 ,321.257,321.264,321.266,321.263, 321.263,321.266,321.267,321.268,321.268 ,321.268,321.267,321.271,321.272, 321.268,321.271,321.274,321.275,321.273 ,321.277,321.278,321.277,321.275, 321.281,321.284,321.284,321.283,321.285 ,321.286,321.281,321.278,321.274, 321.266,321.259,320.956)
ORBIT_NUMBER = 14635
ORBITAL_ECCENTRICITY = 0.578
ORBITAL_INCLINATION = 86.92
ORBITAL_SEMIMAJOR_AXIS = 8835.98
PERIAPSIS_ALTITUDE = 334.01
PERIAPSIS_ARGUMENT_ANGLE = 335.28
PERIAPSIS_TIME = 2015-07-16T12:38:57.000Z
SPACECRAFT_ORIENTATION = (0.0,1.0,0.0)
^MEX_ORIENTATION_DESC = "MEX_ORIENTATION_DESC.TXT"
SPACECRAFT_POINTING_MODE = ACROSSTRACK
^MEX_POINTING_DESC = "MEX_POINTING_DESC.TXT"
RIGHT_ASCENSION = -1e+32
DECLINATION = -1e+32
OFFSET_ANGLE = -1.47
SPACECRAFT_SOLAR_DISTANCE = 2.37938e+08
TARGET_NAME = MARS
/* CAMERA DATA ELEMENTS */
DETECTOR_TEMPERATURE = 18.1666
FOCAL_PLANE_TEMPERATURE = 7.9716
INST_CMPRS_NAME = "DISCRETE COSINE TRANSFORMATION (DCT)"
INST_CMPRS_RATIO = 7.34588
INST_CMPRS_QUALITY = 0
INST_CMPRS_QUANTZ_TBL_ID = 0
INSTRUMENT_TEMPERATURE = 11.0301
LENS_TEMPERATURE = 8.3794
MACROPIXEL_SIZE = 1
MISSING_FRAMES = 0
PIXEL_SUBSAMPLING_FLAG = N
SIGNAL_CHAIN_ID = 0
/* RADIOMETRIC DATA ELEMENTS */
BANDWIDTH = 177.0
CENTER_FILTER_WAVELENGTH = 677.5
RADIANCE_OFFSET = 1.89131
RADIANCE_SCALING_FACTOR = 0.0110163
REFLECTANCE_SCALING_FACTOR = 0.000331322
MEX:REFLECTANCE_OFFSET = 0.0568823
/* IMAGE OBJECT DEFINITIONS */
OBJECT = IMAGE
  INTERCHANGE_FORMAT = BINARY
  LINES = 36317
  LINE_SAMPLES = 7965
  SAMPLE_TYPE = UNSIGNED_INTEGER
  SAMPLE_BITS = 8
  BANDS = 1
  BAND_STORAGE_TYPE = BAND_SEQUENTIAL
  MAXIMUM = 255
  MEAN = 99.8493
  MINIMUM = 1
  STANDARD_DEVIATION = 25.9595
END_OBJECT = IMAGE
/* MAP OBJECT DEFINITIONS */
OBJECT = IMAGE_MAP_PROJECTION
  ^DATA_SET_MAP_PROJECTION_CATALOG= "DSMAP.CAT"
  A_AXIS_RADIUS = 3396.0
  B_AXIS_RADIUS = 3396.0
  C_AXIS_RADIUS = 3396.0
  CENTER_LATITUDE = 0.0
  CENTER_LONGITUDE = 321.0
  COORDINATE_SYSTEM_NAME = PLANETOGRAPHIC
  COORDINATE_SYSTEM_TYPE = "BODY-FIXED ROTATING"
  EASTERNMOST_LONGITUDE = 321.286
  FIRST_STANDARD_PARALLEL = "N/A"
  LINE_FIRST_PIXEL = 1
  LINE_LAST_PIXEL = 36317
  LINE_PROJECTION_OFFSET = -24427.0
  MAP_PROJECTION_ROTATION = 0.0
  MAP_PROJECTION_TYPE = SINUSOIDAL
  MAP_RESOLUTION = 4741.71043093333
  MAP_SCALE = 0.0125
  MAXIMUM_LATITUDE = -5.15394
  MINIMUM_LATITUDE = -12.8092
  POSITIVE_LONGITUDE_DIRECTION = EAST
  REFERENCE_LATITUDE = "N/A"
  REFERENCE_LONGITUDE = "N/A"
  SAMPLE_FIRST_PIXEL = 1
  SAMPLE_LAST_PIXEL = 7965
  SAMPLE_PROJECTION_OFFSET = 6100.0
  SECOND_STANDARD_PARALLEL = "N/A"
  WESTERNMOST_LONGITUDE = 319.711
END_OBJECT = IMAGE_MAP_PROJECTION
/* The JPEG2000 image data file associated with this label. */
OBJECT = COMPRESSED_FILE
  FILE_NAME = "HE635_0000_ND3.JP2"
  RECORD_TYPE = UNDEFINED
  FILE_RECORDS = UNK
  ENCODING_TYPE = "JP2"
  INTERCHANGE_FORMAT = BINARY
  UNCOMPRESSED_FILE_NAME = "HE635_0000_ND3.IMG"
  REQUIRED_STORAGE_BYTES = "289296765"
  ^DESCRIPTION = "JP2INFO.TXT"
END_OBJECT = COMPRESSED_FILE
END
