PDS_VERSION_ID = PDS3
/* FILE DATA ELEMENTS */
RECORD_TYPE = STREAM
/* POINTERS TO DATA OBJECTS */
^COMPRESSED_FILE = "HE635_0000_P23.JP2"
/* IDENTIFICATION DATA ELEMENTS */
DATA_SET_ID = "MEX-M-HRSC-5-REFDR-MAPPROJECTED-V3.0"
DATA_SET_NAME = "MARS EXPRESS HRSC MAP PROJECTED REFDR V3.0"
DETECTOR_ID = MEX_HRSC_P2
EVENT_TYPE = "MARS-REGIONAL-MAPPING-Fl-Mw-La"
INSTRUMENT_HOST_ID = MEX
INSTRUMENT_HOST_NAME = "MARS EXPRESS"
INSTRUMENT_ID = HRSC
INSTRUMENT_NAME = "HIGH RESOLUTION STEREO CAMERA"
MISSION_NAME = "MARS EXPRESS"
MISSION_PHASE_NAME = ME_Phase_33
PROCESSING_LEVEL_ID = 3
PRODUCT_CREATION_TIME = 2016-10-30T02:40:36.000Z
PRODUCT_ID = "HE635_0000_P23.JP2"
RELEASE_ID = 0129
REVISION_ID = 0000
/* QUALITY DATA ELEMENTS */
DATA_QUALITY_ID = 1
DATA_QUALITY_DESC = "Data calculated based on original SPICE kernels"
/* TIME DATA ELEMENTS */
SPACECRAFT_CLOCK_START_COUNT = "1/0385130480.08251"
SPACECRAFT_CLOCK_STOP_COUNT = "1/0385130676.22846"
START_TIME = 2015-07-16T12:41:37.350Z
STOP_TIME = 2015-07-16T12:43:34.085Z
/* ORBITAL DATA ELEMENTS */
ASCENDING_NODE_LONGITUDE = 298.86
MAXIMUM_RESOLUTION = 59.9
FOOTPRINT_POINT_LATITUDE = (-12.7651,-12.781,-12.7964,-12.8111, -12.8252,-12.8387,-12.8259,-12.5627, -12.3654,-12.1014,-11.9042,-11.6309, -11.4733,-11.3154,-11.1585,-11.0003, -10.8429,-10.686,-10.5279,-10.3714, -10.1375,-9.98684,-9.8339,-9.67792, -9.51867,-9.36213,-9.20701,-8.97408, -8.81865,-8.65067,-8.40983,-8.17407, -8.01655,-7.85985,-7.70604,-7.55689, -7.40879,-7.17705,-7.02082,-6.86271, -6.62662,-6.47031,-6.31435,-6.15926, -6.00751,-5.84878,-5.69042,-5.53439, -5.37934,-5.22516,-5.2074,-5.18865, -5.1734,-5.14949,-5.13027,-5.1137, -5.27017,-5.42633,-5.66049,-5.81674, -5.97303,-6.1287,-6.28615,-6.44249, -6.59888,-6.831,-6.97997,-7.12906, -7.36071,-7.51653,-7.67267,-7.82969, -7.98771,-8.14516,-8.30003,-8.457, -8.69318,-8.85242,-9.00904,-9.1646, -9.32,-9.55765,-9.79334,-10.0279, -10.1854,-10.4204,-10.5792,-10.7357, -10.8947,-11.1299,-11.2859,-11.4449, -11.6001,-11.7979,-12.0639,-12.3341, -12.4734,-12.612,-12.7467,-12.7651)
FOOTPRINT_POINT_LONGITUDE = (321.104,320.893,320.687,320.484, 320.284,320.088,319.908,319.902,319.898 ,319.894,319.89,319.884,319.882,319.879 ,319.876,319.873,319.87,319.867,319.864 ,319.861,319.855,319.848,319.843, 319.839,319.837,319.833,319.829,319.823 ,319.819,319.821,319.819,319.814, 319.811,319.808,319.803,319.796,319.788 ,319.781,319.777,319.775,319.77,319.767 ,319.763,319.759,319.753,319.751, 319.748,319.744,319.74,319.736,319.906, 320.161,320.379,320.726,320.983,321.22, 321.219,321.219,321.22,321.22,321.22, 321.222,321.22,321.221,321.221,321.225, 321.236,321.247,321.252,321.254,321.256 ,321.256,321.255,321.255,321.258, 321.259,321.259,321.257,321.259,321.262 ,321.265,321.264,321.265,321.269, 321.269,321.272,321.271,321.274,321.273 ,321.276,321.279,321.278,321.279, 321.281,321.28,321.274,321.265,321.256, 321.254,321.104)
ORBIT_NUMBER = 14635
ORBITAL_ECCENTRICITY = 0.578
ORBITAL_INCLINATION = 86.92
ORBITAL_SEMIMAJOR_AXIS = 8835.98
PERIAPSIS_ALTITUDE = 334.01
PERIAPSIS_ARGUMENT_ANGLE = 335.28
PERIAPSIS_TIME = 2015-07-16T12:38:57.000Z
SPACECRAFT_ORIENTATION = (0.0,1.0,0.0)
^MEX_ORIENTATION_DESC = "MEX_ORIENTATION_DESC.TXT"
SPACECRAFT_POINTING_MODE = ACROSSTRACK
^MEX_POINTING_DESC = "MEX_POINTING_DESC.TXT"
RIGHT_ASCENSION = -1e+32
DECLINATION = -1e+32
OFFSET_ANGLE = -1.47
SPACECRAFT_SOLAR_DISTANCE = 2.37938e+08
TARGET_NAME = MARS
/* CAMERA DATA ELEMENTS */
DETECTOR_TEMPERATURE = 18.3705
FOCAL_PLANE_TEMPERATURE = 7.9716
INST_CMPRS_NAME = "DISCRETE COSINE TRANSFORMATION (DCT)"
INST_CMPRS_RATIO = 7.23845
INST_CMPRS_QUALITY = 0
INST_CMPRS_QUANTZ_TBL_ID = 0
INSTRUMENT_TEMPERATURE = 11.0301
LENS_TEMPERATURE = 8.3794
MACROPIXEL_SIZE = 4
MISSING_FRAMES = 0
PIXEL_SUBSAMPLING_FLAG = N
SIGNAL_CHAIN_ID = 3
/* RADIOMETRIC DATA ELEMENTS */
BANDWIDTH = 177.0
CENTER_FILTER_WAVELENGTH = 676.5
RADIANCE_OFFSET = 2.165
RADIANCE_SCALING_FACTOR = 0.0107294
REFLECTANCE_SCALING_FACTOR = 0.000322079
MEX:REFLECTANCE_OFFSET = 0.0649899
/* IMAGE OBJECT DEFINITIONS */
OBJECT = IMAGE
  INTERCHANGE_FORMAT = BINARY
  LINES = 9080
  LINE_SAMPLES = 1992
  SAMPLE_TYPE = UNSIGNED_INTEGER
  SAMPLE_BITS = 8
  BANDS = 1
  BAND_STORAGE_TYPE = BAND_SEQUENTIAL
  MAXIMUM = 255
  MEAN = 103.631
  MINIMUM = 1
  STANDARD_DEVIATION = 26.2644
END_OBJECT = IMAGE
/* MAP OBJECT DEFINITIONS */
OBJECT = IMAGE_MAP_PROJECTION
  ^DATA_SET_MAP_PROJECTION_CATALOG= "DSMAP.CAT"
  A_AXIS_RADIUS = 3396.0
  B_AXIS_RADIUS = 3396.0
  C_AXIS_RADIUS = 3396.0
  CENTER_LATITUDE = 0.0
  CENTER_LONGITUDE = 321.0
  COORDINATE_SYSTEM_NAME = PLANETOGRAPHIC
  COORDINATE_SYSTEM_TYPE = "BODY-FIXED ROTATING"
  EASTERNMOST_LONGITUDE = 321.281
  FIRST_STANDARD_PARALLEL = "N/A"
  LINE_FIRST_PIXEL = 1
  LINE_LAST_PIXEL = 9080
  LINE_PROJECTION_OFFSET = -6107.125
  MAP_PROJECTION_ROTATION = 0.0
  MAP_PROJECTION_TYPE = SINUSOIDAL
  MAP_RESOLUTION = 1185.42760773333
  MAP_SCALE = 0.05
  MAXIMUM_LATITUDE = -5.1137
  MINIMUM_LATITUDE = -12.8387
  POSITIVE_LONGITUDE_DIRECTION = EAST
  REFERENCE_LATITUDE = "N/A"
  REFERENCE_LONGITUDE = "N/A"
  SAMPLE_FIRST_PIXEL = 1
  SAMPLE_LAST_PIXEL = 1992
  SAMPLE_PROJECTION_OFFSET = 1524.625
  SECOND_STANDARD_PARALLEL = "N/A"
  WESTERNMOST_LONGITUDE = 319.736
END_OBJECT = IMAGE_MAP_PROJECTION
/* The JPEG2000 image data file associated with this label. */
OBJECT = COMPRESSED_FILE
  FILE_NAME = "HE635_0000_P23.JP2"
  RECORD_TYPE = UNDEFINED
  FILE_RECORDS = UNK
  ENCODING_TYPE = "JP2"
  INTERCHANGE_FORMAT = BINARY
  UNCOMPRESSED_FILE_NAME = "HE635_0000_P23.IMG"
  REQUIRED_STORAGE_BYTES = "18107280"
  ^DESCRIPTION = "JP2INFO.TXT"
END_OBJECT = COMPRESSED_FILE
END
