PDS_VERSION_ID = PDS3
/* FILE DATA ELEMENTS */
RECORD_TYPE = STREAM
/* POINTERS TO DATA OBJECTS */
^COMPRESSED_FILE = "HE639_0000_ND3.JP2"
/* IDENTIFICATION DATA ELEMENTS */
DATA_SET_ID = "MEX-M-HRSC-5-REFDR-MAPPROJECTED-V3.0"
DATA_SET_NAME = "MARS EXPRESS HRSC MAP PROJECTED REFDR V3.0"
DETECTOR_ID = MEX_HRSC_NADIR
EVENT_TYPE = "MARS-REGIONAL-MAPPING-Vo-Fl-La"
INSTRUMENT_HOST_ID = MEX
INSTRUMENT_HOST_NAME = "MARS EXPRESS"
INSTRUMENT_ID = HRSC
INSTRUMENT_NAME = "HIGH RESOLUTION STEREO CAMERA"
MISSION_NAME = "MARS EXPRESS"
MISSION_PHASE_NAME = ME_Phase_33
PROCESSING_LEVEL_ID = 3
PRODUCT_CREATION_TIME = 2016-10-30T02:40:36.000Z
PRODUCT_ID = "HE639_0000_ND3.JP2"
RELEASE_ID = 0129
REVISION_ID = 0000
/* QUALITY DATA ELEMENTS */
DATA_QUALITY_ID = 1
DATA_QUALITY_DESC = "Data calculated based on original SPICE kernels"
/* TIME DATA ELEMENTS */
SPACECRAFT_CLOCK_START_COUNT = "1/0385231161.07319"
SPACECRAFT_CLOCK_STOP_COUNT = "1/0385231328.47032"
START_TIME = 2015-07-17T16:39:59.104Z
STOP_TIME = 2015-07-17T16:41:34.093Z
/* ORBITAL DATA ELEMENTS */
ASCENDING_NODE_LONGITUDE = 298.78
MAXIMUM_RESOLUTION = 14.1
FOOTPRINT_POINT_LATITUDE = (-13.8217,-13.8221,-13.8222,-13.8222, -13.8221,-13.8219,-13.7146,-13.6073, -13.3929,-13.1785,-12.9643,-12.7502, -12.5362,-12.3223,-12.1319,-12.0045, -11.877,-11.7496,-11.6223,-11.495, -11.3677,-11.2405,-11.1134,-10.9863, -10.859,-10.732,-10.5415,-10.4146, -10.2879,-10.0978,-9.90779,-9.78109, -9.65452,-9.52802,-9.40158,-9.2752, -9.14888,-9.02263,-8.89643,-8.77038, -8.58131,-8.4553,-8.32934,-8.14039, -8.01449,-7.88876,-7.76309,-7.75911, -7.75819,-7.7569,-7.75595,-7.75516, -7.75431,-7.75317,-7.75205,-7.87792, -8.00386,-8.12983,-8.25585,-8.38194, -8.50808,-8.63428,-8.76052,-8.88671, -9.07631,-9.26613,-9.39268,-9.51929, -9.64595,-9.77266,-9.89942,-10.0262, -10.1531,-10.28,-10.407,-10.534, -10.6611,-10.8519,-11.0427,-11.1699, -11.2972,-11.4245,-11.5519,-11.6794, -11.807,-11.9345,-12.0622,-12.1899, -12.4244,-12.6386,-12.8529,-13.0673, -13.1746,-13.2819,-13.3892,-13.4965, -13.6039,-13.7113,-13.8188,-13.8217)
FOOTPRINT_POINT_LONGITUDE = (269.479,269.275,269.068,268.859, 268.647,268.372,268.371,268.37,268.369, 268.367,268.366,268.364,268.362,268.361 ,268.359,268.357,268.356,268.355, 268.354,268.352,268.351,268.35,268.348, 268.346,268.334,268.331,268.325,268.324 ,268.325,268.328,268.323,268.316, 268.313,268.311,268.308,268.307,268.305 ,268.304,268.302,268.306,268.305, 268.303,268.3,268.29,268.282,268.281, 268.279,268.394,268.595,268.866,269.05, 269.174,269.312,269.49,269.652,269.699, 269.699,269.699,269.698,269.698,269.697 ,269.697,269.696,269.694,269.694, 269.694,269.693,269.693,269.692,269.692 ,269.691,269.691,269.69,269.69,269.689, 269.689,269.688,269.687,269.686,269.685 ,269.684,269.683,269.683,269.682, 269.682,269.681,269.68,269.68,269.681, 269.68,269.679,269.678,269.677,269.677, 269.676,269.676,269.675,269.675,269.674 ,269.479)
ORBIT_NUMBER = 14639
ORBITAL_ECCENTRICITY = 0.579
ORBITAL_INCLINATION = 86.9
ORBITAL_SEMIMAJOR_AXIS = 8845.82
PERIAPSIS_ALTITUDE = 333.42
PERIAPSIS_ARGUMENT_ANGLE = 334.58
PERIAPSIS_TIME = 2015-07-17T16:37:02.000Z
SPACECRAFT_ORIENTATION = (0.0,1.0,0.0)
^MEX_ORIENTATION_DESC = "MEX_ORIENTATION_DESC.TXT"
SPACECRAFT_POINTING_MODE = ACROSSTRACK
^MEX_POINTING_DESC = "MEX_POINTING_DESC.TXT"
RIGHT_ASCENSION = -1e+32
DECLINATION = -1e+32
OFFSET_ANGLE = 0.95
SPACECRAFT_SOLAR_DISTANCE = 2.3813e+08
TARGET_NAME = MARS
/* CAMERA DATA ELEMENTS */
DETECTOR_TEMPERATURE = 18.5744
FOCAL_PLANE_TEMPERATURE = 9.195
INST_CMPRS_NAME = "DISCRETE COSINE TRANSFORMATION (DCT)"
INST_CMPRS_RATIO = 6.88243
INST_CMPRS_QUALITY = 0
INST_CMPRS_QUANTZ_TBL_ID = 0
INSTRUMENT_TEMPERATURE = 11.8457
LENS_TEMPERATURE = 10.8262
MACROPIXEL_SIZE = 1
MISSING_FRAMES = 0
PIXEL_SUBSAMPLING_FLAG = N
SIGNAL_CHAIN_ID = 0
/* RADIOMETRIC DATA ELEMENTS */
BANDWIDTH = 177.0
CENTER_FILTER_WAVELENGTH = 677.5
RADIANCE_OFFSET = 1.70147
RADIANCE_SCALING_FACTOR = 0.0225592
REFLECTANCE_SCALING_FACTOR = 0.000679573
MEX:REFLECTANCE_OFFSET = 0.0512551
/* IMAGE OBJECT DEFINITIONS */
OBJECT = IMAGE
  INTERCHANGE_FORMAT = BINARY
  LINES = 28787
  LINE_SAMPLES = 7173
  SAMPLE_TYPE = UNSIGNED_INTEGER
  SAMPLE_BITS = 8
  BANDS = 1
  BAND_STORAGE_TYPE = BAND_SEQUENTIAL
  MAXIMUM = 255
  MEAN = 84.6998
  MINIMUM = 1
  STANDARD_DEVIATION = 22.9901
END_OBJECT = IMAGE
/* MAP OBJECT DEFINITIONS */
OBJECT = IMAGE_MAP_PROJECTION
  ^DATA_SET_MAP_PROJECTION_CATALOG= "DSMAP.CAT"
  A_AXIS_RADIUS = 3396.0
  B_AXIS_RADIUS = 3396.0
  C_AXIS_RADIUS = 3396.0
  CENTER_LATITUDE = 0.0
  CENTER_LONGITUDE = 269.0
  COORDINATE_SYSTEM_NAME = PLANETOGRAPHIC
  COORDINATE_SYSTEM_TYPE = "BODY-FIXED ROTATING"
  EASTERNMOST_LONGITUDE = 269.699
  FIRST_STANDARD_PARALLEL = "N/A"
  LINE_FIRST_PIXEL = 1
  LINE_LAST_PIXEL = 28787
  LINE_PROJECTION_OFFSET = -36756.0
  MAP_PROJECTION_ROTATION = 0.0
  MAP_PROJECTION_TYPE = SINUSOIDAL
  MAP_RESOLUTION = 4741.71043093333
  MAP_SCALE = 0.0125
  MAXIMUM_LATITUDE = -7.75205
  MINIMUM_LATITUDE = -13.8222
  POSITIVE_LONGITUDE_DIRECTION = EAST
  REFERENCE_LATITUDE = "N/A"
  REFERENCE_LONGITUDE = "N/A"
  SAMPLE_FIRST_PIXEL = 1
  SAMPLE_LAST_PIXEL = 7173
  SAMPLE_PROJECTION_OFFSET = 3902.0
  SECOND_STANDARD_PARALLEL = "N/A"
  WESTERNMOST_LONGITUDE = 268.279
END_OBJECT = IMAGE_MAP_PROJECTION
/* The JPEG2000 image data file associated with this label. */
OBJECT = COMPRESSED_FILE
  FILE_NAME = "HE639_0000_ND3.JP2"
  RECORD_TYPE = UNDEFINED
  FILE_RECORDS = UNK
  ENCODING_TYPE = "JP2"
  INTERCHANGE_FORMAT = BINARY
  UNCOMPRESSED_FILE_NAME = "HE639_0000_ND3.IMG"
  REQUIRED_STORAGE_BYTES = "206517843"
  ^DESCRIPTION = "JP2INFO.TXT"
END_OBJECT = COMPRESSED_FILE
END
