PDS_VERSION_ID = PDS3
/* FILE DATA ELEMENTS */
RECORD_TYPE = STREAM
/* POINTERS TO DATA OBJECTS */
^COMPRESSED_FILE = "HE642_0000_P23.JP2"
/* IDENTIFICATION DATA ELEMENTS */
DATA_SET_ID = "MEX-M-HRSC-5-REFDR-MAPPROJECTED-V3.0"
DATA_SET_NAME = "MARS EXPRESS HRSC MAP PROJECTED REFDR V3.0"
DETECTOR_ID = MEX_HRSC_P2
EVENT_TYPE = "MARS-LOCAL-STEREO-Fl-Mw-La"
INSTRUMENT_HOST_ID = MEX
INSTRUMENT_HOST_NAME = "MARS EXPRESS"
INSTRUMENT_ID = HRSC
INSTRUMENT_NAME = "HIGH RESOLUTION STEREO CAMERA"
MISSION_NAME = "MARS EXPRESS"
MISSION_PHASE_NAME = ME_Phase_33
PROCESSING_LEVEL_ID = 3
PRODUCT_CREATION_TIME = 2016-10-30T02:40:36.000Z
PRODUCT_ID = "HE642_0000_P23.JP2"
RELEASE_ID = 0129
REVISION_ID = 0000
/* QUALITY DATA ELEMENTS */
DATA_QUALITY_ID = 1
DATA_QUALITY_DESC = "Data calculated based on original SPICE kernels"
/* TIME DATA ELEMENTS */
SPACECRAFT_CLOCK_START_COUNT = "1/0385306694.09034"
SPACECRAFT_CLOCK_STOP_COUNT = "1/0385306865.16407"
START_TIME = 2015-07-18T13:38:31.385Z
STOP_TIME = 2015-07-18T13:40:03.668Z
/* ORBITAL DATA ELEMENTS */
ASCENDING_NODE_LONGITUDE = 298.73
MAXIMUM_RESOLUTION = 29.9
FOOTPRINT_POINT_LATITUDE = (-12.4016,-12.3934,-12.3847,-12.3756, -12.3659,-12.3505,-12.0726,-11.8641, -11.6889,-11.5667,-11.3833,-11.2607, -11.1391,-11.0178,-10.8962,-10.7744, -10.5925,-10.4098,-10.2891,-10.1668, -10.0442,-9.92252,-9.80163,-9.6806, -9.56114,-9.43608,-9.31395,-9.19144, -9.01106,-8.82782,-8.64593,-8.52442, -8.40413,-8.28249,-8.16247,-8.04009, -7.91977,-7.79641,-7.67521,-7.55457, -7.43383,-7.31363,-7.19293,-6.96078, -6.78459,-6.66691,-6.54652,-6.42541, -6.32782,-6.33207,-6.34167,-6.3397, -6.339,-6.34999,-6.3546,-6.35609, -6.41913,-6.60059,-6.72184,-6.90309, -7.02412,-7.14595,-7.26569,-7.38709, -7.569,-7.69105,-7.87286,-8.0549, -8.1754,-8.35736,-8.47932,-8.60215, -8.78409,-8.90581,-9.02664,-9.14903, -9.27015,-9.39201,-9.51368,-9.6355, -9.75752,-9.88407,-10.0707,-10.2453, -10.3662,-10.4882,-10.6106,-10.7326, -10.8559,-10.9809,-11.1042,-11.2293, -11.355,-11.5432,-11.6648,-11.787, -12.0098,-12.1635,-12.3682,-12.4016)
FOOTPRINT_POINT_LONGITUDE = (322.647,322.444,322.239,322.03,321.819 ,321.497,321.425,321.418,321.416, 321.415,321.412,321.41,321.409,321.409, 321.408,321.406,321.405,321.403,321.403 ,321.401,321.398,321.397,321.396, 321.395,321.396,321.39,321.388,321.385, 321.385,321.381,321.379,321.377,321.376 ,321.374,321.374,321.37,321.37,321.365, 321.363,321.362,321.36,321.359,321.357, 321.365,321.368,321.369,321.367,321.365 ,321.436,321.552,321.811,321.989, 322.196,322.367,322.506,322.67,322.812, 322.811,322.811,322.81,322.809,322.809, 322.808,322.808,322.807,322.807,322.806 ,322.806,322.805,322.804,322.804, 322.804,322.803,322.803,322.802,322.802 ,322.801,322.801,322.8,322.8,322.799, 322.8,322.801,322.798,322.797,322.797, 322.796,322.796,322.796,322.796,322.796 ,322.797,322.798,322.799,322.798, 322.798,322.797,322.796,322.795, 322.647)
ORBIT_NUMBER = 14642
ORBITAL_ECCENTRICITY = 0.578
ORBITAL_INCLINATION = 86.92
ORBITAL_SEMIMAJOR_AXIS = 8834.1
PERIAPSIS_ALTITUDE = 333.61
PERIAPSIS_ARGUMENT_ANGLE = 334.07
PERIAPSIS_TIME = 2015-07-18T13:35:26.000Z
SPACECRAFT_ORIENTATION = (0.0,1.0,0.0)
^MEX_ORIENTATION_DESC = "MEX_ORIENTATION_DESC.TXT"
SPACECRAFT_POINTING_MODE = ACROSSTRACK
^MEX_POINTING_DESC = "MEX_POINTING_DESC.TXT"
RIGHT_ASCENSION = -1e+32
DECLINATION = -1e+32
OFFSET_ANGLE = 1.1
SPACECRAFT_SOLAR_DISTANCE = 2.38273e+08
TARGET_NAME = MARS
/* CAMERA DATA ELEMENTS */
DETECTOR_TEMPERATURE = 18.1666
FOCAL_PLANE_TEMPERATURE = 8.1755
INST_CMPRS_NAME = "DISCRETE COSINE TRANSFORMATION (DCT)"
INST_CMPRS_RATIO = 6.36342
INST_CMPRS_QUALITY = 0
INST_CMPRS_QUANTZ_TBL_ID = 0
INSTRUMENT_TEMPERATURE = 11.0301
LENS_TEMPERATURE = 9.195
MACROPIXEL_SIZE = 2
MISSING_FRAMES = 0
PIXEL_SUBSAMPLING_FLAG = N
SIGNAL_CHAIN_ID = 3
/* RADIOMETRIC DATA ELEMENTS */
BANDWIDTH = 177.0
CENTER_FILTER_WAVELENGTH = 676.5
RADIANCE_OFFSET = 2.38165
RADIANCE_SCALING_FACTOR = 0.0128915
REFLECTANCE_SCALING_FACTOR = 0.000388072
MEX:REFLECTANCE_OFFSET = 0.0716944
/* IMAGE OBJECT DEFINITIONS */
OBJECT = IMAGE
  INTERCHANGE_FORMAT = BINARY
  LINES = 14298
  LINE_SAMPLES = 3762
  SAMPLE_TYPE = UNSIGNED_INTEGER
  SAMPLE_BITS = 8
  BANDS = 1
  BAND_STORAGE_TYPE = BAND_SEQUENTIAL
  MAXIMUM = 255
  MEAN = 108.293
  MINIMUM = 1
  STANDARD_DEVIATION = 26.6913
END_OBJECT = IMAGE
/* MAP OBJECT DEFINITIONS */
OBJECT = IMAGE_MAP_PROJECTION
  ^DATA_SET_MAP_PROJECTION_CATALOG= "DSMAP.CAT"
  A_AXIS_RADIUS = 3396.0
  B_AXIS_RADIUS = 3396.0
  C_AXIS_RADIUS = 3396.0
  CENTER_LATITUDE = 0.0
  CENTER_LONGITUDE = 322.0
  COORDINATE_SYSTEM_NAME = PLANETOGRAPHIC
  COORDINATE_SYSTEM_TYPE = "BODY-FIXED ROTATING"
  EASTERNMOST_LONGITUDE = 322.812
  FIRST_STANDARD_PARALLEL = "N/A"
  LINE_FIRST_PIXEL = 1
  LINE_LAST_PIXEL = 14298
  LINE_PROJECTION_OFFSET = -15060.75
  MAP_PROJECTION_ROTATION = 0.0
  MAP_PROJECTION_TYPE = SINUSOIDAL
  MAP_RESOLUTION = 2370.85521546667
  MAP_SCALE = 0.025
  MAXIMUM_LATITUDE = -6.32782
  MINIMUM_LATITUDE = -12.4016
  POSITIVE_LONGITUDE_DIRECTION = EAST
  REFERENCE_LATITUDE = "N/A"
  REFERENCE_LONGITUDE = "N/A"
  SAMPLE_FIRST_PIXEL = 1
  SAMPLE_LAST_PIXEL = 3762
  SAMPLE_PROJECTION_OFFSET = 1782.75
  SECOND_STANDARD_PARALLEL = "N/A"
  WESTERNMOST_LONGITUDE = 321.357
END_OBJECT = IMAGE_MAP_PROJECTION
/* The JPEG2000 image data file associated with this label. */
OBJECT = COMPRESSED_FILE
  FILE_NAME = "HE642_0000_P23.JP2"
  RECORD_TYPE = UNDEFINED
  FILE_RECORDS = UNK
  ENCODING_TYPE = "JP2"
  INTERCHANGE_FORMAT = BINARY
  UNCOMPRESSED_FILE_NAME = "HE642_0000_P23.IMG"
  REQUIRED_STORAGE_BYTES = "53811648"
  ^DESCRIPTION = "JP2INFO.TXT"
END_OBJECT = COMPRESSED_FILE
END
