PDS_VERSION_ID = PDS3
/* FILE DATA ELEMENTS */
RECORD_TYPE = STREAM
/* POINTERS TO DATA OBJECTS */
^COMPRESSED_FILE = "HE643_0000_P23.JP2"
/* IDENTIFICATION DATA ELEMENTS */
DATA_SET_ID = "MEX-M-HRSC-5-REFDR-MAPPROJECTED-V3.0"
DATA_SET_NAME = "MARS EXPRESS HRSC MAP PROJECTED REFDR V3.0"
DETECTOR_ID = MEX_HRSC_P2
EVENT_TYPE = "MARS-REGIONAL-MAPPING-Vo-Te"
INSTRUMENT_HOST_ID = MEX
INSTRUMENT_HOST_NAME = "MARS EXPRESS"
INSTRUMENT_ID = HRSC
INSTRUMENT_NAME = "HIGH RESOLUTION STEREO CAMERA"
MISSION_NAME = "MARS EXPRESS"
MISSION_PHASE_NAME = ME_Phase_33
PROCESSING_LEVEL_ID = 3
PRODUCT_CREATION_TIME = 2016-10-30T02:40:36.000Z
PRODUCT_ID = "HE643_0000_P23.JP2"
RELEASE_ID = 0129
REVISION_ID = 0000
/* QUALITY DATA ELEMENTS */
DATA_QUALITY_ID = 1
DATA_QUALITY_DESC = "Data calculated based on original SPICE kernels"
/* TIME DATA ELEMENTS */
SPACECRAFT_CLOCK_START_COUNT = "1/0385331622.09035"
SPACECRAFT_CLOCK_STOP_COUNT = "1/0385331818.63953"
START_TIME = 2015-07-18T20:33:58.709Z
STOP_TIME = 2015-07-18T20:36:11.557Z
/* ORBITAL DATA ELEMENTS */
ASCENDING_NODE_LONGITUDE = 298.71
MAXIMUM_RESOLUTION = 54.5
FOOTPRINT_POINT_LATITUDE = (-28.1863,-28.193,-28.1992,-28.2048, -28.21,-28.2092,-28.0348,-27.6068, -27.3499,-27.1784,-27.0069,-26.8353, -26.6637,-26.492,-26.3202,-26.1484, -25.9766,-25.8047,-25.6327,-25.4606, -25.2885,-25.1163,-24.9441,-24.7717, -24.5994,-24.427,-24.1686,-23.9962, -23.8233,-23.6507,-23.4782,-23.2198, -22.9601,-22.6989,-22.5242,-22.3513, -22.0089,-21.8357,-21.6627,-21.4898, -21.3167,-21.0572,-20.8854,-20.7122, -20.5386,-20.3647,-20.1912,-20.0143, -19.8352,-19.6564,-19.5164,-19.5101, -19.4979,-19.4903,-19.5701,-19.7493, -19.9285,-20.1067,-20.3666,-20.5399, -20.7998,-21.0596,-21.2328,-21.406, -21.5791,-21.8387,-22.0118,-22.1849, -22.358,-22.531,-22.7039,-22.8768, -23.0497,-23.2225,-23.4815,-23.6542, -23.827,-23.9997,-24.1722,-24.431, -24.6034,-24.862,-25.0344,-25.2067, -25.379,-25.5512,-25.7233,-25.8955, -26.0675,-26.2395,-26.4114,-26.5832, -26.755,-26.9267,-27.1842,-27.3557, -27.5272,-27.6987,-28.0415,-28.1863)
FOOTPRINT_POINT_LONGITUDE = (222.39,222.187,221.985,221.785,221.586 ,221.205,221.206,221.21,221.212,221.213 ,221.214,221.215,221.216,221.217, 221.217,221.218,221.219,221.22,221.22, 221.221,221.221,221.222,221.222,221.223 ,221.223,221.223,221.224,221.224, 221.224,221.224,221.224,221.224,221.223 ,221.223,221.223,221.223,221.222, 221.221,221.221,221.22,221.219,221.218, 221.217,221.217,221.216,221.215,221.214 ,221.213,221.212,221.211,221.451, 221.648,222.002,222.204,222.474,222.476 ,222.477,222.479,222.481,222.482, 222.484,222.486,222.488,222.489,222.491 ,222.493,222.494,222.496,222.497, 222.499,222.5,222.502,222.503,222.505, 222.507,222.509,222.51,222.512,222.514, 222.516,222.518,222.52,222.522,222.524, 222.525,222.527,222.529,222.531,222.532 ,222.534,222.536,222.538,222.539, 222.541,222.544,222.546,222.548,222.55, 222.553,222.39)
ORBIT_NUMBER = 14643
ORBITAL_ECCENTRICITY = 0.579
ORBITAL_INCLINATION = 86.92
ORBITAL_SEMIMAJOR_AXIS = 8838.36
PERIAPSIS_ALTITUDE = 333.03
PERIAPSIS_ARGUMENT_ANGLE = 333.86
PERIAPSIS_TIME = 2015-07-18T20:34:51.000Z
SPACECRAFT_ORIENTATION = (0.0,1.0,0.0)
^MEX_ORIENTATION_DESC = "MEX_ORIENTATION_DESC.TXT"
SPACECRAFT_POINTING_MODE = ACROSSTRACK
^MEX_POINTING_DESC = "MEX_POINTING_DESC.TXT"
RIGHT_ASCENSION = -1e+32
DECLINATION = -1e+32
OFFSET_ANGLE = -0.71
SPACECRAFT_SOLAR_DISTANCE = 2.3832e+08
TARGET_NAME = MARS
/* CAMERA DATA ELEMENTS */
DETECTOR_TEMPERATURE = 18.5744
FOCAL_PLANE_TEMPERATURE = 8.3794
INST_CMPRS_NAME = "DISCRETE COSINE TRANSFORMATION (DCT)"
INST_CMPRS_RATIO = 6.22524
INST_CMPRS_QUALITY = 0
INST_CMPRS_QUANTZ_TBL_ID = 0
INSTRUMENT_TEMPERATURE = 11.4379
LENS_TEMPERATURE = 9.3989
MACROPIXEL_SIZE = 4
MISSING_FRAMES = 0
PIXEL_SUBSAMPLING_FLAG = N
SIGNAL_CHAIN_ID = 3
/* RADIOMETRIC DATA ELEMENTS */
BANDWIDTH = 177.0
CENTER_FILTER_WAVELENGTH = 676.5
RADIANCE_OFFSET = 1.57545
RADIANCE_SCALING_FACTOR = 0.0224951
REFLECTANCE_SCALING_FACTOR = 0.000677429
MEX:REFLECTANCE_OFFSET = 0.0474439
/* IMAGE OBJECT DEFINITIONS */
OBJECT = IMAGE
  INTERCHANGE_FORMAT = BINARY
  LINES = 10315
  LINE_SAMPLES = 1562
  SAMPLE_TYPE = UNSIGNED_INTEGER
  SAMPLE_BITS = 8
  BANDS = 1
  BAND_STORAGE_TYPE = BAND_SEQUENTIAL
  MAXIMUM = 255
  MEAN = 109.859
  MINIMUM = 1
  STANDARD_DEVIATION = 23.9013
END_OBJECT = IMAGE
/* MAP OBJECT DEFINITIONS */
OBJECT = IMAGE_MAP_PROJECTION
  ^DATA_SET_MAP_PROJECTION_CATALOG= "DSMAP.CAT"
  A_AXIS_RADIUS = 3396.0
  B_AXIS_RADIUS = 3396.0
  C_AXIS_RADIUS = 3396.0
  CENTER_LATITUDE = 0.0
  CENTER_LONGITUDE = 222.0
  COORDINATE_SYSTEM_NAME = PLANETOGRAPHIC
  COORDINATE_SYSTEM_TYPE = "BODY-FIXED ROTATING"
  EASTERNMOST_LONGITUDE = 222.553
  FIRST_STANDARD_PARALLEL = "N/A"
  LINE_FIRST_PIXEL = 1
  LINE_LAST_PIXEL = 10315
  LINE_PROJECTION_OFFSET = -23095.125
  MAP_PROJECTION_ROTATION = 0.0
  MAP_PROJECTION_TYPE = SINUSOIDAL
  MAP_RESOLUTION = 1185.42760773333
  MAP_SCALE = 0.05
  MAXIMUM_LATITUDE = -19.4903
  MINIMUM_LATITUDE = -28.21
  POSITIVE_LONGITUDE_DIRECTION = EAST
  REFERENCE_LATITUDE = "N/A"
  REFERENCE_LONGITUDE = "N/A"
  SAMPLE_FIRST_PIXEL = 1
  SAMPLE_LAST_PIXEL = 1562
  SAMPLE_PROJECTION_OFFSET = 892.375
  SECOND_STANDARD_PARALLEL = "N/A"
  WESTERNMOST_LONGITUDE = 221.205
END_OBJECT = IMAGE_MAP_PROJECTION
/* The JPEG2000 image data file associated with this label. */
OBJECT = COMPRESSED_FILE
  FILE_NAME = "HE643_0000_P23.JP2"
  RECORD_TYPE = UNDEFINED
  FILE_RECORDS = UNK
  ENCODING_TYPE = "JP2"
  INTERCHANGE_FORMAT = BINARY
  UNCOMPRESSED_FILE_NAME = "HE643_0000_P23.IMG"
  REQUIRED_STORAGE_BYTES = "16132336"
  ^DESCRIPTION = "JP2INFO.TXT"
END_OBJECT = COMPRESSED_FILE
END
