PDS_VERSION_ID = PDS3
/* FILE DATA ELEMENTS */
RECORD_TYPE = STREAM
/* POINTERS TO DATA OBJECTS */
^COMPRESSED_FILE = "HE644_0000_P13.JP2"
/* IDENTIFICATION DATA ELEMENTS */
DATA_SET_ID = "MEX-M-HRSC-5-REFDR-MAPPROJECTED-V3.0"
DATA_SET_NAME = "MARS EXPRESS HRSC MAP PROJECTED REFDR V3.0"
DETECTOR_ID = MEX_HRSC_P1
EVENT_TYPE = "MARS-REGIONAL-MAPPING-Im-Fl"
INSTRUMENT_HOST_ID = MEX
INSTRUMENT_HOST_NAME = "MARS EXPRESS"
INSTRUMENT_ID = HRSC
INSTRUMENT_NAME = "HIGH RESOLUTION STEREO CAMERA"
MISSION_NAME = "MARS EXPRESS"
MISSION_PHASE_NAME = ME_Phase_33
PROCESSING_LEVEL_ID = 3
PRODUCT_CREATION_TIME = 2016-10-30T02:40:36.000Z
PRODUCT_ID = "HE644_0000_P13.JP2"
RELEASE_ID = 0129
REVISION_ID = 0000
/* QUALITY DATA ELEMENTS */
DATA_QUALITY_ID = 1
DATA_QUALITY_DESC = "Data calculated based on original SPICE kernels"
/* TIME DATA ELEMENTS */
SPACECRAFT_CLOCK_START_COUNT = "1/0385356852.08241"
SPACECRAFT_CLOCK_STOP_COUNT = "1/0385357057.65146"
START_TIME = 2015-07-19T03:35:07.742Z
STOP_TIME = 2015-07-19T03:37:30.418Z
/* ORBITAL DATA ELEMENTS */
ASCENDING_NODE_LONGITUDE = 298.69
MAXIMUM_RESOLUTION = 54.7
FOOTPRINT_POINT_LATITUDE = (-24.7549,-24.7533,-24.7522,-24.751, -24.7493,-24.4811,-24.2994,-24.0272, -23.8458,-23.6645,-23.4834,-23.212, -23.0311,-22.8502,-22.6694,-22.4885, -22.3079,-22.0372,-21.7664,-21.5859, -21.3081,-21.1228,-20.9367,-20.6578, -20.4721,-20.2868,-20.1011,-19.9155, -19.7301,-19.5456,-19.3631,-19.1752, -18.9905,-18.7139,-18.5293,-18.3449, -18.16,-17.9784,-17.7947,-17.6108, -17.4268,-17.149,-16.8745,-16.5999, -16.4168,-16.2341,-16.0509,-15.7767, -15.587,-15.5851,-15.5898,-15.5911, -15.5909,-15.5898,-15.7692,-15.9505, -16.1326,-16.3163,-16.4997,-16.6831, -16.8663,-17.1414,-17.3252,-17.5089, -17.6929,-17.877,-18.0614,-18.3379, -18.6147,-18.7993,-18.984,-19.1688, -19.3541,-19.5392,-19.7245,-19.91, -20.0956,-20.2813,-20.56,-20.7461, -20.9318,-21.118,-21.304,-21.5826, -21.7631,-22.0341,-22.2148,-22.3952, -22.6666,-22.8475,-23.1187,-23.3024, -23.4811,-23.6634,-23.8451,-24.0265, -24.2078,-24.3895,-24.662,-24.7549)
FOOTPRINT_POINT_LONGITUDE = (119.309,118.977,118.775,118.586, 118.338,118.264,118.265,118.266,118.267 ,118.267,118.268,118.269,118.269,118.27 ,118.27,118.271,118.271,118.271,118.271 ,118.271,118.271,118.271,118.271,118.27 ,118.27,118.269,118.269,118.268,118.268 ,118.267,118.265,118.266,118.265, 118.263,118.262,118.261,118.26,118.258, 118.257,118.255,118.254,118.253,118.251 ,118.248,118.247,118.245,118.243, 118.241,118.406,118.6,118.781,118.975, 119.28,119.539,119.537,119.537,119.536, 119.536,119.536,119.537,119.536,119.536 ,119.536,119.536,119.536,119.536, 119.536,119.536,119.536,119.536,119.536 ,119.536,119.536,119.536,119.536, 119.536,119.536,119.536,119.536,119.537 ,119.536,119.537,119.537,119.537, 119.537,119.537,119.537,119.537,119.537 ,119.537,119.537,119.539,119.537, 119.538,119.538,119.538,119.538,119.538 ,119.538,119.309)
ORBIT_NUMBER = 14644
ORBITAL_ECCENTRICITY = 0.579
ORBITAL_INCLINATION = 86.9
ORBITAL_SEMIMAJOR_AXIS = 8840.72
PERIAPSIS_ALTITUDE = 333.23
PERIAPSIS_ARGUMENT_ANGLE = 333.71
PERIAPSIS_TIME = 2015-07-19T03:34:26.000Z
SPACECRAFT_ORIENTATION = (0.0,1.0,0.0)
^MEX_ORIENTATION_DESC = "MEX_ORIENTATION_DESC.TXT"
SPACECRAFT_POINTING_MODE = ACROSSTRACK
^MEX_POINTING_DESC = "MEX_POINTING_DESC.TXT"
RIGHT_ASCENSION = -1e+32
DECLINATION = -1e+32
OFFSET_ANGLE = -0.1
SPACECRAFT_SOLAR_DISTANCE = 2.38367e+08
TARGET_NAME = MARS
/* CAMERA DATA ELEMENTS */
DETECTOR_TEMPERATURE = 17.9627
FOCAL_PLANE_TEMPERATURE = 8.3794
INST_CMPRS_NAME = "DISCRETE COSINE TRANSFORMATION (DCT)"
INST_CMPRS_RATIO = 9.12325
INST_CMPRS_QUALITY = 0
INST_CMPRS_QUANTZ_TBL_ID = 0
INSTRUMENT_TEMPERATURE = 11.8457
LENS_TEMPERATURE = 8.7872
MACROPIXEL_SIZE = 4
MISSING_FRAMES = 0
PIXEL_SUBSAMPLING_FLAG = N
SIGNAL_CHAIN_ID = 3
/* RADIOMETRIC DATA ELEMENTS */
BANDWIDTH = 174.0
CENTER_FILTER_WAVELENGTH = 675.0
RADIANCE_OFFSET = 1.82345
RADIANCE_SCALING_FACTOR = 0.0124855
REFLECTANCE_SCALING_FACTOR = 0.00038158
MEX:REFLECTANCE_OFFSET = 0.055728
/* IMAGE OBJECT DEFINITIONS */
OBJECT = IMAGE
  INTERCHANGE_FORMAT = BINARY
  LINES = 10889
  LINE_SAMPLES = 1548
  SAMPLE_TYPE = UNSIGNED_INTEGER
  SAMPLE_BITS = 8
  BANDS = 1
  BAND_STORAGE_TYPE = BAND_SEQUENTIAL
  MAXIMUM = 255
  MEAN = 102.499
  MINIMUM = 1
  STANDARD_DEVIATION = 17.1386
END_OBJECT = IMAGE
/* MAP OBJECT DEFINITIONS */
OBJECT = IMAGE_MAP_PROJECTION
  ^DATA_SET_MAP_PROJECTION_CATALOG= "DSMAP.CAT"
  A_AXIS_RADIUS = 3396.0
  B_AXIS_RADIUS = 3396.0
  C_AXIS_RADIUS = 3396.0
  CENTER_LATITUDE = 0.0
  CENTER_LONGITUDE = 119.0
  COORDINATE_SYSTEM_NAME = PLANETOGRAPHIC
  COORDINATE_SYSTEM_TYPE = "BODY-FIXED ROTATING"
  EASTERNMOST_LONGITUDE = 119.539
  FIRST_STANDARD_PARALLEL = "N/A"
  LINE_FIRST_PIXEL = 1
  LINE_LAST_PIXEL = 10889
  LINE_PROJECTION_OFFSET = -18483.625
  MAP_PROJECTION_ROTATION = 0.0
  MAP_PROJECTION_TYPE = SINUSOIDAL
  MAP_RESOLUTION = 1185.42760773333
  MAP_SCALE = 0.05
  MAXIMUM_LATITUDE = -15.5851
  MINIMUM_LATITUDE = -24.7549
  POSITIVE_LONGITUDE_DIRECTION = EAST
  REFERENCE_LATITUDE = "N/A"
  REFERENCE_LONGITUDE = "N/A"
  SAMPLE_FIRST_PIXEL = 1
  SAMPLE_LAST_PIXEL = 1548
  SAMPLE_PROJECTION_OFFSET = 895.875
  SECOND_STANDARD_PARALLEL = "N/A"
  WESTERNMOST_LONGITUDE = 118.241
END_OBJECT = IMAGE_MAP_PROJECTION
/* The JPEG2000 image data file associated with this label. */
OBJECT = COMPRESSED_FILE
  FILE_NAME = "HE644_0000_P13.JP2"
  RECORD_TYPE = UNDEFINED
  FILE_RECORDS = UNK
  ENCODING_TYPE = "JP2"
  INTERCHANGE_FORMAT = BINARY
  UNCOMPRESSED_FILE_NAME = "HE644_0000_P13.IMG"
  REQUIRED_STORAGE_BYTES = "16876296"
  ^DESCRIPTION = "JP2INFO.TXT"
END_OBJECT = COMPRESSED_FILE
END
