PDS_VERSION_ID = PDS3
/* FILE DATA ELEMENTS */
RECORD_TYPE = STREAM
/* POINTERS TO DATA OBJECTS */
^COMPRESSED_FILE = "HE644_0000_RE3.JP2"
/* IDENTIFICATION DATA ELEMENTS */
DATA_SET_ID = "MEX-M-HRSC-5-REFDR-MAPPROJECTED-V3.0"
DATA_SET_NAME = "MARS EXPRESS HRSC MAP PROJECTED REFDR V3.0"
DETECTOR_ID = MEX_HRSC_RED
EVENT_TYPE = "MARS-REGIONAL-MAPPING-Im-Fl"
INSTRUMENT_HOST_ID = MEX
INSTRUMENT_HOST_NAME = "MARS EXPRESS"
INSTRUMENT_ID = HRSC
INSTRUMENT_NAME = "HIGH RESOLUTION STEREO CAMERA"
MISSION_NAME = "MARS EXPRESS"
MISSION_PHASE_NAME = ME_Phase_33
PROCESSING_LEVEL_ID = 3
PRODUCT_CREATION_TIME = 2016-10-30T02:40:36.000Z
PRODUCT_ID = "HE644_0000_RE3.JP2"
RELEASE_ID = 0129
REVISION_ID = 0000
/* QUALITY DATA ELEMENTS */
DATA_QUALITY_ID = 1
DATA_QUALITY_DESC = "Data calculated based on original SPICE kernels"
/* TIME DATA ELEMENTS */
SPACECRAFT_CLOCK_START_COUNT = "1/0385356852.08241"
SPACECRAFT_CLOCK_STOP_COUNT = "1/0385357057.65146"
START_TIME = 2015-07-19T03:34:23.599Z
STOP_TIME = 2015-07-19T03:36:43.097Z
/* ORBITAL DATA ELEMENTS */
ASCENDING_NODE_LONGITUDE = 298.69
MAXIMUM_RESOLUTION = 110.8
FOOTPRINT_POINT_LATITUDE = (-24.7795,-24.7806,-24.7816,-24.7814, -24.7709,-24.5939,-24.4169,-24.2396, -23.9738,-23.7964,-23.5301,-23.2634, -23.0854,-22.8188,-22.6413,-22.4635, -22.2857,-22.1075,-21.9293,-21.7514, -21.5737,-21.3961,-21.2168,-21.0383, -20.86,-20.5929,-20.4141,-20.2357, -20.0575,-19.8794,-19.701,-19.5188, -19.254,-19.0755,-18.8967,-18.6286, -18.4443,-18.1668,-17.9799,-17.7949, -17.6102,-17.4265,-17.1519,-16.9666, -16.7815,-16.5965,-16.4119,-16.2272, -15.9508,-15.6074,-15.6084,-15.5982, -15.5956,-15.5931,-15.5928,-15.782, -15.9691,-16.1555,-16.3395,-16.5239, -16.8011,-17.0787,-17.2642,-17.4489, -17.6339,-17.8187,-18.0953,-18.3731, -18.6495,-18.8285,-19.0969,-19.2758, -19.5437,-19.7223,-19.901,-20.0795, -20.3473,-20.526,-20.7042,-20.9723, -21.2399,-21.4184,-21.5965,-21.7747, -21.9529,-22.1309,-22.3092,-22.5767, -22.7545,-22.9326,-23.1112,-23.2859, -23.4658,-23.7323,-23.9097,-24.0873, -24.2652,-24.4425,-24.62,-24.7795)
FOOTPRINT_POINT_LONGITUDE = (119.354,119.164,118.785,118.572, 118.268,118.27,118.271,118.272,118.274, 118.275,118.277,118.279,118.279,118.281 ,118.281,118.282,118.283,118.283, 118.284,118.284,118.285,118.285,118.285 ,118.285,118.286,118.286,118.286, 118.286,118.286,118.286,118.285,118.284 ,118.284,118.284,118.284,118.283, 118.282,118.281,118.28,118.279,118.278, 118.277,118.277,118.275,118.274,118.273 ,118.272,118.271,118.269,118.311, 118.556,118.872,119.06,119.272,119.515, 119.514,119.513,119.513,119.514,119.514 ,119.515,119.516,119.516,119.516, 119.517,119.517,119.518,119.518,119.519 ,119.519,119.52,119.52,119.521,119.522, 119.522,119.523,119.523,119.524,119.524 ,119.525,119.526,119.526,119.527, 119.527,119.528,119.528,119.529,119.529 ,119.53,119.53,119.53,119.532,119.532, 119.533,119.533,119.534,119.534,119.535 ,119.535,119.354)
ORBIT_NUMBER = 14644
ORBITAL_ECCENTRICITY = 0.579
ORBITAL_INCLINATION = 86.9
ORBITAL_SEMIMAJOR_AXIS = 8840.72
PERIAPSIS_ALTITUDE = 333.23
PERIAPSIS_ARGUMENT_ANGLE = 333.71
PERIAPSIS_TIME = 2015-07-19T03:34:26.000Z
SPACECRAFT_ORIENTATION = (0.0,1.0,0.0)
^MEX_ORIENTATION_DESC = "MEX_ORIENTATION_DESC.TXT"
SPACECRAFT_POINTING_MODE = ACROSSTRACK
^MEX_POINTING_DESC = "MEX_POINTING_DESC.TXT"
RIGHT_ASCENSION = -1e+32
DECLINATION = -1e+32
OFFSET_ANGLE = -0.1
SPACECRAFT_SOLAR_DISTANCE = 2.38367e+08
TARGET_NAME = MARS
/* CAMERA DATA ELEMENTS */
DETECTOR_TEMPERATURE = 18.7783
FOCAL_PLANE_TEMPERATURE = 8.3794
INST_CMPRS_NAME = "DISCRETE COSINE TRANSFORMATION (DCT)"
INST_CMPRS_RATIO = 9.88691
INST_CMPRS_QUALITY = 0
INST_CMPRS_QUANTZ_TBL_ID = 0
INSTRUMENT_TEMPERATURE = 11.8457
LENS_TEMPERATURE = 8.7872
MACROPIXEL_SIZE = 8
MISSING_FRAMES = 0
PIXEL_SUBSAMPLING_FLAG = N
SIGNAL_CHAIN_ID = 2
/* RADIOMETRIC DATA ELEMENTS */
BANDWIDTH = 48.0
CENTER_FILTER_WAVELENGTH = 748.0
RADIANCE_OFFSET = 0.474061
RADIANCE_SCALING_FACTOR = 0.00352842
REFLECTANCE_SCALING_FACTOR = 0.000457509
MEX:REFLECTANCE_OFFSET = 0.0614685
/* IMAGE OBJECT DEFINITIONS */
OBJECT = IMAGE
  INTERCHANGE_FORMAT = BINARY
  LINES = 5445
  LINE_SAMPLES = 774
  SAMPLE_TYPE = UNSIGNED_INTEGER
  SAMPLE_BITS = 8
  BANDS = 1
  BAND_STORAGE_TYPE = BAND_SEQUENTIAL
  MAXIMUM = 255
  MEAN = 100.667
  MINIMUM = 1
  STANDARD_DEVIATION = 18.1608
END_OBJECT = IMAGE
/* MAP OBJECT DEFINITIONS */
OBJECT = IMAGE_MAP_PROJECTION
  ^DATA_SET_MAP_PROJECTION_CATALOG= "DSMAP.CAT"
  A_AXIS_RADIUS = 3396.0
  B_AXIS_RADIUS = 3396.0
  C_AXIS_RADIUS = 3396.0
  CENTER_LATITUDE = 0.0
  CENTER_LONGITUDE = 119.0
  COORDINATE_SYSTEM_NAME = PLANETOGRAPHIC
  COORDINATE_SYSTEM_TYPE = "BODY-FIXED ROTATING"
  EASTERNMOST_LONGITUDE = 119.535
  FIRST_STANDARD_PARALLEL = "N/A"
  LINE_FIRST_PIXEL = 1
  LINE_LAST_PIXEL = 5445
  LINE_PROJECTION_OFFSET = -9242.0625
  MAP_PROJECTION_ROTATION = 0.0
  MAP_PROJECTION_TYPE = SINUSOIDAL
  MAP_RESOLUTION = 592.713803866667
  MAP_SCALE = 0.1
  MAXIMUM_LATITUDE = -15.5928
  MINIMUM_LATITUDE = -24.7816
  POSITIVE_LONGITUDE_DIRECTION = EAST
  REFERENCE_LATITUDE = "N/A"
  REFERENCE_LONGITUDE = "N/A"
  SAMPLE_FIRST_PIXEL = 1
  SAMPLE_LAST_PIXEL = 774
  SAMPLE_PROJECTION_OFFSET = 447.6875
  SECOND_STANDARD_PARALLEL = "N/A"
  WESTERNMOST_LONGITUDE = 118.268
END_OBJECT = IMAGE_MAP_PROJECTION
/* The JPEG2000 image data file associated with this label. */
OBJECT = COMPRESSED_FILE
  FILE_NAME = "HE644_0000_RE3.JP2"
  RECORD_TYPE = UNDEFINED
  FILE_RECORDS = UNK
  ENCODING_TYPE = "JP2"
  INTERCHANGE_FORMAT = BINARY
  UNCOMPRESSED_FILE_NAME = "HE644_0000_RE3.IMG"
  REQUIRED_STORAGE_BYTES = "4233006"
  ^DESCRIPTION = "JP2INFO.TXT"
END_OBJECT = COMPRESSED_FILE
END
