PDS_VERSION_ID = PDS3
/* FILE DATA ELEMENTS */
RECORD_TYPE = STREAM
/* POINTERS TO DATA OBJECTS */
^COMPRESSED_FILE = "HE645_0000_ND3.JP2"
/* IDENTIFICATION DATA ELEMENTS */
DATA_SET_ID = "MEX-M-HRSC-5-REFDR-MAPPROJECTED-V3.0"
DATA_SET_NAME = "MARS EXPRESS HRSC MAP PROJECTED REFDR V3.0"
DETECTOR_ID = MEX_HRSC_NADIR
EVENT_TYPE = "MARS-REGIONAL-MAPPING-Im-Fl"
INSTRUMENT_HOST_ID = MEX
INSTRUMENT_HOST_NAME = "MARS EXPRESS"
INSTRUMENT_ID = HRSC
INSTRUMENT_NAME = "HIGH RESOLUTION STEREO CAMERA"
MISSION_NAME = "MARS EXPRESS"
MISSION_PHASE_NAME = ME_Phase_33
PROCESSING_LEVEL_ID = 3
PRODUCT_CREATION_TIME = 2016-10-30T02:40:36.000Z
PRODUCT_ID = "HE645_0000_ND3.JP2"
RELEASE_ID = 0129
REVISION_ID = 0000
/* QUALITY DATA ELEMENTS */
DATA_QUALITY_ID = 1
DATA_QUALITY_DESC = "Data calculated based on original SPICE kernels"
/* TIME DATA ELEMENTS */
SPACECRAFT_CLOCK_START_COUNT = "1/0385382106.09064"
SPACECRAFT_CLOCK_STOP_COUNT = "1/0385382291.23506"
START_TIME = 2015-07-19T10:35:42.631Z
STOP_TIME = 2015-07-19T10:37:39.621Z
/* ORBITAL DATA ELEMENTS */
ASCENDING_NODE_LONGITUDE = 298.67
MAXIMUM_RESOLUTION = 13.6
FOOTPRINT_POINT_LATITUDE = (-19.4553,-19.4552,-19.4549,-19.4544, -19.4536,-19.4526,-19.2287,-19.0801, -18.9314,-18.7828,-18.6342,-18.4857, -18.3372,-18.1888,-17.9661,-17.8177, -17.6694,-17.5212,-17.2988,-17.1506, -17.0025,-16.8544,-16.7064,-16.5584, -16.4104,-16.2625,-16.1146,-15.9668, -15.8191,-15.6714,-15.5237,-15.3761, -15.2286,-15.081,-14.9336,-14.7862, -14.6389,-14.4179,-14.2706,-13.9764, -13.6824,-13.3887,-12.9485,-12.7827, -12.6078,-12.433,-12.2583,-12.0837, -11.9092,-11.9051,-11.9046,-11.9036, -11.9027,-11.9014,-11.9004,-12.0752, -12.2499,-12.4248,-12.5998,-12.7749, -12.9415,-13.3086,-13.5292,-13.8234, -14.1179,-14.4126,-14.56,-14.7075, -14.855,-15.0026,-15.1503,-15.298, -15.4458,-15.5936,-15.7414,-15.8893, -16.0373,-16.1853,-16.3333,-16.4814, -16.6295,-16.7777,-16.926,-17.0743, -17.2226,-17.3709,-17.5194,-17.6678, -17.8905,-18.039,-18.1876,-18.3363, -18.5594,-18.7081,-18.8569,-19.0056, -19.1545,-19.3033,-19.4522,-19.4553)
FOOTPRINT_POINT_LONGITUDE = (16.4125,16.2144,16.0148,15.814,15.6116 ,15.4075,15.3229,15.323,15.3231,15.3231 ,15.3231,15.3229,15.3228,15.323,15.3212 ,15.3209,15.3209,15.3216,15.3209, 15.3203,15.3194,15.3189,15.3185,15.318, 15.3172,15.3164,15.3157,15.3147,15.314, 15.3134,15.3129,15.312,15.3111,15.3098, 15.3088,15.3077,15.3072,15.3042,15.2998 ,15.2966,15.2946,15.296,15.2899,15.2885 ,15.2857,15.284,15.2819,15.2796,15.2777 ,15.5342,15.7084,15.9875,16.1723, 16.4212,16.6231,16.6223,16.6218,16.6212 ,16.6206,16.62,16.6194,16.6183,16.6174, 16.6163,16.6153,16.6144,16.6139,16.6134 ,16.6129,16.6124,16.6118,16.6113, 16.6108,16.6103,16.6098,16.6094,16.6088 ,16.6083,16.6079,16.6074,16.6069, 16.6064,16.6059,16.6054,16.6049,16.6044 ,16.6039,16.6033,16.6027,16.6023, 16.6017,16.6011,16.6002,16.5997,16.5992 ,16.5987,16.5982,16.5977,16.5972, 16.4125)
ORBIT_NUMBER = 14645
ORBITAL_ECCENTRICITY = 0.578
ORBITAL_INCLINATION = 86.91
ORBITAL_SEMIMAJOR_AXIS = 8838.76
PERIAPSIS_ALTITUDE = 333.64
PERIAPSIS_ARGUMENT_ANGLE = 333.54
PERIAPSIS_TIME = 2015-07-19T10:33:57.000Z
SPACECRAFT_ORIENTATION = (0.0,1.0,0.0)
^MEX_ORIENTATION_DESC = "MEX_ORIENTATION_DESC.TXT"
SPACECRAFT_POINTING_MODE = ACROSSTRACK
^MEX_POINTING_DESC = "MEX_POINTING_DESC.TXT"
RIGHT_ASCENSION = -1e+32
DECLINATION = -1e+32
OFFSET_ANGLE = 0.539
SPACECRAFT_SOLAR_DISTANCE = 2.38415e+08
TARGET_NAME = MARS
/* CAMERA DATA ELEMENTS */
DETECTOR_TEMPERATURE = 18.3705
FOCAL_PLANE_TEMPERATURE = 7.7677
INST_CMPRS_NAME = "DISCRETE COSINE TRANSFORMATION (DCT)"
INST_CMPRS_RATIO = 7.72689
INST_CMPRS_QUALITY = 0
INST_CMPRS_QUANTZ_TBL_ID = 0
INSTRUMENT_TEMPERATURE = 11.0301
LENS_TEMPERATURE = 8.1755
MACROPIXEL_SIZE = 1
MISSING_FRAMES = 0
PIXEL_SUBSAMPLING_FLAG = N
SIGNAL_CHAIN_ID = 0
/* RADIOMETRIC DATA ELEMENTS */
BANDWIDTH = 177.0
CENTER_FILTER_WAVELENGTH = 677.5
RADIANCE_OFFSET = 1.83735
RADIANCE_SCALING_FACTOR = 0.0146002
REFLECTANCE_SCALING_FACTOR = 0.000440869
MEX:REFLECTANCE_OFFSET = 0.0554808
/* IMAGE OBJECT DEFINITIONS */
OBJECT = IMAGE
  INTERCHANGE_FORMAT = BINARY
  LINES = 35824
  LINE_SAMPLES = 6621
  SAMPLE_TYPE = UNSIGNED_INTEGER
  SAMPLE_BITS = 8
  BANDS = 1
  BAND_STORAGE_TYPE = BAND_SEQUENTIAL
  MAXIMUM = 255
  MEAN = 113.814
  MINIMUM = 1
  STANDARD_DEVIATION = 21.2365
END_OBJECT = IMAGE
/* MAP OBJECT DEFINITIONS */
OBJECT = IMAGE_MAP_PROJECTION
  ^DATA_SET_MAP_PROJECTION_CATALOG= "DSMAP.CAT"
  A_AXIS_RADIUS = 3396.0
  B_AXIS_RADIUS = 3396.0
  C_AXIS_RADIUS = 3396.0
  CENTER_LATITUDE = 0.0
  CENTER_LONGITUDE = 16.0
  COORDINATE_SYSTEM_NAME = PLANETOGRAPHIC
  COORDINATE_SYSTEM_TYPE = "BODY-FIXED ROTATING"
  EASTERNMOST_LONGITUDE = 16.6231
  FIRST_STANDARD_PARALLEL = "N/A"
  LINE_FIRST_PIXEL = 1
  LINE_LAST_PIXEL = 35824
  LINE_PROJECTION_OFFSET = -56429.0
  MAP_PROJECTION_ROTATION = 0.0
  MAP_PROJECTION_TYPE = SINUSOIDAL
  MAP_RESOLUTION = 4741.71043093333
  MAP_SCALE = 0.0125
  MAXIMUM_LATITUDE = -11.9004
  MINIMUM_LATITUDE = -19.4553
  POSITIVE_LONGITUDE_DIRECTION = EAST
  REFERENCE_LATITUDE = "N/A"
  REFERENCE_LONGITUDE = "N/A"
  SAMPLE_FIRST_PIXEL = 1
  SAMPLE_LAST_PIXEL = 6621
  SAMPLE_PROJECTION_OFFSET = 3697.0
  SECOND_STANDARD_PARALLEL = "N/A"
  WESTERNMOST_LONGITUDE = 15.2777
END_OBJECT = IMAGE_MAP_PROJECTION
/* The JPEG2000 image data file associated with this label. */
OBJECT = COMPRESSED_FILE
  FILE_NAME = "HE645_0000_ND3.JP2"
  RECORD_TYPE = UNDEFINED
  FILE_RECORDS = UNK
  ENCODING_TYPE = "JP2"
  INTERCHANGE_FORMAT = BINARY
  UNCOMPRESSED_FILE_NAME = "HE645_0000_ND3.IMG"
  REQUIRED_STORAGE_BYTES = "237223809"
  ^DESCRIPTION = "JP2INFO.TXT"
END_OBJECT = COMPRESSED_FILE
END
