PDS_VERSION_ID = PDS3
/* FILE DATA ELEMENTS */
RECORD_TYPE = STREAM
/* POINTERS TO DATA OBJECTS */
^COMPRESSED_FILE = "HE645_0000_S23.JP2"
/* IDENTIFICATION DATA ELEMENTS */
DATA_SET_ID = "MEX-M-HRSC-5-REFDR-MAPPROJECTED-V3.0"
DATA_SET_NAME = "MARS EXPRESS HRSC MAP PROJECTED REFDR V3.0"
DETECTOR_ID = MEX_HRSC_S2
EVENT_TYPE = "MARS-REGIONAL-MAPPING-Im-Fl"
INSTRUMENT_HOST_ID = MEX
INSTRUMENT_HOST_NAME = "MARS EXPRESS"
INSTRUMENT_ID = HRSC
INSTRUMENT_NAME = "HIGH RESOLUTION STEREO CAMERA"
MISSION_NAME = "MARS EXPRESS"
MISSION_PHASE_NAME = ME_Phase_33
PROCESSING_LEVEL_ID = 3
PRODUCT_CREATION_TIME = 2016-10-30T02:40:36.000Z
PRODUCT_ID = "HE645_0000_S23.JP2"
RELEASE_ID = 0129
REVISION_ID = 0000
/* QUALITY DATA ELEMENTS */
DATA_QUALITY_ID = 1
DATA_QUALITY_DESC = "Data calculated based on original SPICE kernels"
/* TIME DATA ELEMENTS */
SPACECRAFT_CLOCK_START_COUNT = "1/0385382106.09064"
SPACECRAFT_CLOCK_STOP_COUNT = "1/0385382291.23506"
START_TIME = 2015-07-19T10:35:12.131Z
STOP_TIME = 2015-07-19T10:37:06.379Z
/* ORBITAL DATA ELEMENTS */
ASCENDING_NODE_LONGITUDE = 298.67
MAXIMUM_RESOLUTION = 28.6
FOOTPRINT_POINT_LATITUDE = (-19.4968,-19.4904,-19.4835,-19.4762, -19.4682,-19.4598,-19.4454,-19.2224, -19.0725,-18.9226,-18.6974,-18.5473, -18.3974,-18.2476,-18.0961,-17.8698, -17.7199,-17.5713,-17.4209,-17.1954, -16.9689,-16.8186,-16.6685,-16.5187, -16.3678,-16.2173,-16.0668,-15.9163, -15.7659,-15.6161,-15.4659,-15.3159, -15.1649,-15.0141,-14.8638,-14.6386, -14.4905,-14.3305,-14.1792,-14.0281, -13.8778,-13.732,-13.511,-13.3599, -13.2077,-13.0563,-12.905,-12.6794, -12.528,-12.3778,-12.2271,-11.8946, -11.9066,-11.9153,-11.9205,-11.9269, -11.9329,-12.1632,-12.387,-12.5378, -12.6888,-12.9145,-13.0659,-13.2889, -13.5171,-13.6698,-13.8207,-14.0466, -14.198,-14.3485,-14.4992,-14.6494, -14.8002,-15.0278,-15.1796,-15.3311, -15.4815,-15.6321,-15.7819,-15.9324, -16.0836,-16.2341,-16.3834,-16.5343, -16.7598,-16.9103,-17.061,-17.2116, -17.4375,-17.5892,-17.7387,-18.0319, -18.1854,-18.4145,-18.6407,-18.7912, -18.9408,-19.1647,-19.3127,-19.4968)
FOOTPRINT_POINT_LONGITUDE = (16.5418,16.3496,16.156,15.961,15.7648, 15.567,15.3241,15.3246,15.325,15.3253, 15.3256,15.3258,15.326,15.3263,15.3255, 15.3249,15.325,15.3259,15.3256,15.3253, 15.3243,15.324,15.3237,15.3236,15.3229, 15.3223,15.3218,15.3211,15.3206,15.3203 ,15.3197,15.3193,15.3182,15.3173, 15.3165,15.3155,15.3159,15.3095,15.308, 15.3066,15.3057,15.3072,15.3081,15.3066 ,15.3044,15.3026,15.3008,15.2988, 15.2968,15.2955,15.2939,15.355,15.665, 15.9203,16.0977,16.3745,16.6038,16.6032 ,16.6029,16.6026,16.6023,16.602,16.6017 ,16.6014,16.6009,16.6006,16.6003, 16.5999,16.5997,16.5994,16.5991,16.5989 ,16.5986,16.5982,16.5979,16.5976, 16.5973,16.5971,16.5968,16.5966,16.5963 ,16.596,16.5958,16.5955,16.5951,16.5948 ,16.5945,16.5942,16.5938,16.5935, 16.5932,16.5928,16.5924,16.5919,16.5914 ,16.5911,16.5908,16.5904,16.5901, 16.5418)
ORBIT_NUMBER = 14645
ORBITAL_ECCENTRICITY = 0.578
ORBITAL_INCLINATION = 86.91
ORBITAL_SEMIMAJOR_AXIS = 8838.76
PERIAPSIS_ALTITUDE = 333.64
PERIAPSIS_ARGUMENT_ANGLE = 333.54
PERIAPSIS_TIME = 2015-07-19T10:33:57.000Z
SPACECRAFT_ORIENTATION = (0.0,1.0,0.0)
^MEX_ORIENTATION_DESC = "MEX_ORIENTATION_DESC.TXT"
SPACECRAFT_POINTING_MODE = ACROSSTRACK
^MEX_POINTING_DESC = "MEX_POINTING_DESC.TXT"
RIGHT_ASCENSION = -1e+32
DECLINATION = -1e+32
OFFSET_ANGLE = 0.539
SPACECRAFT_SOLAR_DISTANCE = 2.38415e+08
TARGET_NAME = MARS
/* CAMERA DATA ELEMENTS */
DETECTOR_TEMPERATURE = 18.3705
FOCAL_PLANE_TEMPERATURE = 7.7677
INST_CMPRS_NAME = "DISCRETE COSINE TRANSFORMATION (DCT)"
INST_CMPRS_RATIO = 11.7676
INST_CMPRS_QUALITY = 0
INST_CMPRS_QUANTZ_TBL_ID = 0
INSTRUMENT_TEMPERATURE = 11.0301
LENS_TEMPERATURE = 8.1755
MACROPIXEL_SIZE = 2
MISSING_FRAMES = 0
PIXEL_SUBSAMPLING_FLAG = N
SIGNAL_CHAIN_ID = 1
/* RADIOMETRIC DATA ELEMENTS */
BANDWIDTH = 178.0
CENTER_FILTER_WAVELENGTH = 679.0
RADIANCE_OFFSET = 2.18495
RADIANCE_SCALING_FACTOR = 0.0156136
REFLECTANCE_SCALING_FACTOR = 0.000470002
MEX:REFLECTANCE_OFFSET = 0.0657715
/* IMAGE OBJECT DEFINITIONS */
OBJECT = IMAGE
  INTERCHANGE_FORMAT = BINARY
  LINES = 17912
  LINE_SAMPLES = 3311
  SAMPLE_TYPE = UNSIGNED_INTEGER
  SAMPLE_BITS = 8
  BANDS = 1
  BAND_STORAGE_TYPE = BAND_SEQUENTIAL
  MAXIMUM = 255
  MEAN = 118.094
  MINIMUM = 1
  STANDARD_DEVIATION = 22.076
END_OBJECT = IMAGE
/* MAP OBJECT DEFINITIONS */
OBJECT = IMAGE_MAP_PROJECTION
  ^DATA_SET_MAP_PROJECTION_CATALOG= "DSMAP.CAT"
  A_AXIS_RADIUS = 3396.0
  B_AXIS_RADIUS = 3396.0
  C_AXIS_RADIUS = 3396.0
  CENTER_LATITUDE = 0.0
  CENTER_LONGITUDE = 16.0
  COORDINATE_SYSTEM_NAME = PLANETOGRAPHIC
  COORDINATE_SYSTEM_TYPE = "BODY-FIXED ROTATING"
  EASTERNMOST_LONGITUDE = 16.6038
  FIRST_STANDARD_PARALLEL = "N/A"
  LINE_FIRST_PIXEL = 1
  LINE_LAST_PIXEL = 17912
  LINE_PROJECTION_OFFSET = -28214.75
  MAP_PROJECTION_ROTATION = 0.0
  MAP_PROJECTION_TYPE = SINUSOIDAL
  MAP_RESOLUTION = 2370.85521546667
  MAP_SCALE = 0.025
  MAXIMUM_LATITUDE = -11.8946
  MINIMUM_LATITUDE = -19.4968
  POSITIVE_LONGITUDE_DIRECTION = EAST
  REFERENCE_LATITUDE = "N/A"
  REFERENCE_LONGITUDE = "N/A"
  SAMPLE_FIRST_PIXEL = 1
  SAMPLE_LAST_PIXEL = 3311
  SAMPLE_PROJECTION_OFFSET = 1848.25
  SECOND_STANDARD_PARALLEL = "N/A"
  WESTERNMOST_LONGITUDE = 15.2939
END_OBJECT = IMAGE_MAP_PROJECTION
/* The JPEG2000 image data file associated with this label. */
OBJECT = COMPRESSED_FILE
  FILE_NAME = "HE645_0000_S23.JP2"
  RECORD_TYPE = UNDEFINED
  FILE_RECORDS = UNK
  ENCODING_TYPE = "JP2"
  INTERCHANGE_FORMAT = BINARY
  UNCOMPRESSED_FILE_NAME = "HE645_0000_S23.IMG"
  REQUIRED_STORAGE_BYTES = "59329809"
  ^DESCRIPTION = "JP2INFO.TXT"
END_OBJECT = COMPRESSED_FILE
END
