PDS_VERSION_ID = PDS3
/* FILE DATA ELEMENTS */
RECORD_TYPE = STREAM
/* POINTERS TO DATA OBJECTS */
^COMPRESSED_FILE = "HE648_0000_P13.JP2"
/* IDENTIFICATION DATA ELEMENTS */
DATA_SET_ID = "MEX-M-HRSC-5-REFDR-MAPPROJECTED-V3.0"
DATA_SET_NAME = "MARS EXPRESS HRSC MAP PROJECTED REFDR V3.0"
DETECTOR_ID = MEX_HRSC_P1
EVENT_TYPE = "MARS-REGIONAL-MAPPING-Gl-Lc-Pf"
INSTRUMENT_HOST_ID = MEX
INSTRUMENT_HOST_NAME = "MARS EXPRESS"
INSTRUMENT_ID = HRSC
INSTRUMENT_NAME = "HIGH RESOLUTION STEREO CAMERA"
MISSION_NAME = "MARS EXPRESS"
MISSION_PHASE_NAME = ME_Phase_33
PROCESSING_LEVEL_ID = 3
PRODUCT_CREATION_TIME = 2016-10-30T02:40:36.000Z
PRODUCT_ID = "HE648_0000_P13.JP2"
RELEASE_ID = 0129
REVISION_ID = 0000
/* QUALITY DATA ELEMENTS */
DATA_QUALITY_ID = 1
DATA_QUALITY_DESC = "Data calculated based on original SPICE kernels"
/* TIME DATA ELEMENTS */
SPACECRAFT_CLOCK_START_COUNT = "1/0385457328.08257"
SPACECRAFT_CLOCK_STOP_COUNT = "1/0385457477.48348"
START_TIME = 2015-07-20T07:29:50.000Z
STOP_TIME = 2015-07-20T07:31:11.739Z
/* ORBITAL DATA ELEMENTS */
ASCENDING_NODE_LONGITUDE = 298.61
MAXIMUM_RESOLUTION = 28.4
FOOTPRINT_POINT_LATITUDE = (-38.5324,-38.5288,-38.5258,-38.5234, -38.5197,-38.5161,-38.5642,-38.353, -38.2461,-38.0855,-37.9781,-37.8717, -37.7646,-37.6574,-37.4964,-37.3892, -37.1772,-37.0705,-36.9636,-36.8563, -36.7494,-36.6425,-36.5355,-36.4277, -36.3208,-36.214,-36.1068,-35.9998, -35.893,-35.7862,-35.6261,-35.5189, -35.4116,-35.3049,-35.1976,-35.0897, -34.9831,-34.8758,-34.7687,-34.662, -34.5556,-34.3958,-34.235,-34.128, -34.0211,-33.9139,-33.753,-33.6462, -33.5389,-33.4318,-33.1934,-33.1962, -33.198,-33.2007,-33.2028,-33.2043, -33.2059,-33.2077,-33.3144,-33.4216, -33.529,-33.6902,-33.7972,-33.9044, -34.0115,-34.1187,-34.2793,-34.3864, -34.5989,-34.7062,-34.8675,-35.0274, -35.134,-35.2948,-35.402,-35.5629, -35.6699,-35.7776,-35.8849,-35.9924, -36.2061,-36.3135,-36.4206,-36.5289, -36.6374,-36.7974,-36.9046,-37.011, -37.1701,-37.3314,-37.4391,-37.6524, -37.8126,-37.9206,-38.0826,-38.1901, -38.2974,-38.4043,-38.5629,-38.5324)
FOOTPRINT_POINT_LONGITUDE = (70.2405,69.9219,69.6942,69.5274, 69.2849,69.0725,68.7906,68.799,68.8039, 68.8114,68.8165,68.821,68.8258,68.8307, 68.838,68.8427,68.8505,68.8548,68.8591, 68.8637,68.868,68.8721,68.8764,68.8811, 68.8852,68.8892,68.8933,68.8973,68.9012 ,68.905,68.9106,68.9145,68.9185,68.922, 68.9259,68.9301,68.9335,68.9372,68.9409 ,68.9442,68.9473,68.9521,68.9573, 68.9606,68.9638,68.9672,68.9723,68.9753 ,68.9786,68.9818,69.0441,69.2544, 69.4087,69.6048,69.8291,70.0536,70.2081 ,70.4378,70.4374,70.4373,70.4373, 70.4373,70.437,70.4369,70.4367,70.4365, 70.4362,70.436,70.4345,70.4344,70.4344, 70.4336,70.4331,70.4328,70.4326,70.4323 ,70.432,70.4321,70.4319,70.4318,70.431, 70.4308,70.4306,70.4309,70.4314,70.4306 ,70.4304,70.4297,70.4283,70.4282, 70.4282,70.427,70.4263,70.4265,70.4268, 70.4267,70.4265,70.426,70.4243,70.2405)
ORBIT_NUMBER = 14648
ORBITAL_ECCENTRICITY = 0.579
ORBITAL_INCLINATION = 86.93
ORBITAL_SEMIMAJOR_AXIS = 8839.4
PERIAPSIS_ALTITUDE = 332.54
PERIAPSIS_ARGUMENT_ANGLE = 333.02
PERIAPSIS_TIME = 2015-07-20T07:32:28.000Z
SPACECRAFT_ORIENTATION = (0.0,1.0,0.0)
^MEX_ORIENTATION_DESC = "MEX_ORIENTATION_DESC.TXT"
SPACECRAFT_POINTING_MODE = NADIR
^MEX_POINTING_DESC = "MEX_POINTING_DESC.TXT"
RIGHT_ASCENSION = -1e+32
DECLINATION = -1e+32
OFFSET_ANGLE = -1e+32
SPACECRAFT_SOLAR_DISTANCE = 2.38556e+08
TARGET_NAME = MARS
/* CAMERA DATA ELEMENTS */
DETECTOR_TEMPERATURE = 16.9432
FOCAL_PLANE_TEMPERATURE = 7.156
INST_CMPRS_NAME = "DISCRETE COSINE TRANSFORMATION (DCT)"
INST_CMPRS_RATIO = 8.35722
INST_CMPRS_QUALITY = 0
INST_CMPRS_QUANTZ_TBL_ID = 0
INSTRUMENT_TEMPERATURE = 11.0301
LENS_TEMPERATURE = 7.7677
MACROPIXEL_SIZE = 2
MISSING_FRAMES = 0
PIXEL_SUBSAMPLING_FLAG = N
SIGNAL_CHAIN_ID = 3
/* RADIOMETRIC DATA ELEMENTS */
BANDWIDTH = 174.0
CENTER_FILTER_WAVELENGTH = 675.0
RADIANCE_OFFSET = 3.19766
RADIANCE_SCALING_FACTOR = 0.00473202
REFLECTANCE_SCALING_FACTOR = 0.000144848
MEX:REFLECTANCE_OFFSET = 0.097881
/* IMAGE OBJECT DEFINITIONS */
OBJECT = IMAGE
  INTERCHANGE_FORMAT = BINARY
  LINES = 12788
  LINE_SAMPLES = 3204
  SAMPLE_TYPE = UNSIGNED_INTEGER
  SAMPLE_BITS = 8
  BANDS = 1
  BAND_STORAGE_TYPE = BAND_SEQUENTIAL
  MAXIMUM = 255
  MEAN = 143.831
  MINIMUM = 1
  STANDARD_DEVIATION = 32.1908
END_OBJECT = IMAGE
/* MAP OBJECT DEFINITIONS */
OBJECT = IMAGE_MAP_PROJECTION
  ^DATA_SET_MAP_PROJECTION_CATALOG= "DSMAP.CAT"
  A_AXIS_RADIUS = 3396.0
  B_AXIS_RADIUS = 3396.0
  C_AXIS_RADIUS = 3396.0
  CENTER_LATITUDE = 0.0
  CENTER_LONGITUDE = 70.0
  COORDINATE_SYSTEM_NAME = PLANETOGRAPHIC
  COORDINATE_SYSTEM_TYPE = "BODY-FIXED ROTATING"
  EASTERNMOST_LONGITUDE = 70.4378
  FIRST_STANDARD_PARALLEL = "N/A"
  LINE_FIRST_PIXEL = 1
  LINE_LAST_PIXEL = 12788
  LINE_PROJECTION_OFFSET = -78659.25
  MAP_PROJECTION_ROTATION = 0.0
  MAP_PROJECTION_TYPE = SINUSOIDAL
  MAP_RESOLUTION = 2370.85521546667
  MAP_SCALE = 0.025
  MAXIMUM_LATITUDE = -33.1934
  MINIMUM_LATITUDE = -38.5642
  POSITIVE_LONGITUDE_DIRECTION = EAST
  REFERENCE_LATITUDE = "N/A"
  REFERENCE_LONGITUDE = "N/A"
  SAMPLE_FIRST_PIXEL = 1
  SAMPLE_LAST_PIXEL = 3204
  SAMPLE_PROJECTION_OFFSET = 2296.25
  SECOND_STANDARD_PARALLEL = "N/A"
  WESTERNMOST_LONGITUDE = 68.7906
END_OBJECT = IMAGE_MAP_PROJECTION
/* The JPEG2000 image data file associated with this label. */
OBJECT = COMPRESSED_FILE
  FILE_NAME = "HE648_0000_P13.JP2"
  RECORD_TYPE = UNDEFINED
  FILE_RECORDS = UNK
  ENCODING_TYPE = "JP2"
  INTERCHANGE_FORMAT = BINARY
  UNCOMPRESSED_FILE_NAME = "HE648_0000_P13.IMG"
  REQUIRED_STORAGE_BYTES = "40995180"
  ^DESCRIPTION = "JP2INFO.TXT"
END_OBJECT = COMPRESSED_FILE
END
