PDS_VERSION_ID = PDS3
/* FILE DATA ELEMENTS */
RECORD_TYPE = STREAM
/* POINTERS TO DATA OBJECTS */
^COMPRESSED_FILE = "HE648_0001_P23.JP2"
/* IDENTIFICATION DATA ELEMENTS */
DATA_SET_ID = "MEX-M-HRSC-5-REFDR-MAPPROJECTED-V3.0"
DATA_SET_NAME = "MARS EXPRESS HRSC MAP PROJECTED REFDR V3.0"
DETECTOR_ID = MEX_HRSC_P2
EVENT_TYPE = "MARS-REGIONAL-COLOR-Fl-Ts"
INSTRUMENT_HOST_ID = MEX
INSTRUMENT_HOST_NAME = "MARS EXPRESS"
INSTRUMENT_ID = HRSC
INSTRUMENT_NAME = "HIGH RESOLUTION STEREO CAMERA"
MISSION_NAME = "MARS EXPRESS"
MISSION_PHASE_NAME = ME_Phase_33
PROCESSING_LEVEL_ID = 3
PRODUCT_CREATION_TIME = 2016-10-30T02:40:36.000Z
PRODUCT_ID = "HE648_0001_P23.JP2"
RELEASE_ID = 0129
REVISION_ID = 0000
/* QUALITY DATA ELEMENTS */
DATA_QUALITY_ID = 1
DATA_QUALITY_DESC = "Data calculated based on original SPICE kernels"
/* TIME DATA ELEMENTS */
SPACECRAFT_CLOCK_START_COUNT = "1/0385457646.09027"
SPACECRAFT_CLOCK_STOP_COUNT = "1/0385457774.64344"
START_TIME = 2015-07-20T07:34:22.434Z
STOP_TIME = 2015-07-20T07:35:23.585Z
/* ORBITAL DATA ELEMENTS */
ASCENDING_NODE_LONGITUDE = 298.61
MAXIMUM_RESOLUTION = 56.3
FOOTPRINT_POINT_LATITUDE = (-18.1129,-18.1136,-18.1142,-18.1147, -18.1155,-18.116,-18.1161,-18.1161, -18.116,-18.1157,-18.0716,-17.9917, -17.9115,-17.8312,-17.7511,-17.6312, -17.5514,-17.4717,-17.3919,-17.312, -17.1528,-17.0731,-16.9928,-16.8725, -16.7134,-16.6335,-16.5128,-16.4324, -16.3524,-16.2721,-16.1921,-16.1122, -16.0324,-15.9526,-15.8725,-15.7924, -15.6724,-15.5923,-15.5125,-15.4311, -15.349,-15.2687,-15.189,-15.1093, -14.9535,-14.7942,-14.5954,-14.4361, -14.2788,-14.0996,-14.1011,-14.102, -14.0994,-14.0976,-14.0968,-14.0962, -14.095,-14.0909,-14.0888,-14.1287, -14.2501,-14.3316,-14.4127,-14.5324, -14.6906,-14.7705,-14.93,-15.0101, -15.1298,-15.2884,-15.3682,-15.448, -15.5278,-15.608,-15.6883,-15.7682, -15.8481,-15.9282,-16.0482,-16.2049, -16.2873,-16.3689,-16.4486,-16.5688, -16.6491,-16.729,-16.8089,-16.889, -16.969,-17.049,-17.129,-17.2873, -17.3675,-17.4887,-17.5696,-17.6495, -17.7692,-17.849,-17.9689,-18.1129)
FOOTPRINT_POINT_LONGITUDE = (70.411,70.3175,70.2242,70.1309,69.9677 ,69.7926,69.6994,69.5245,69.4312, 69.2678,69.1582,69.1579,69.1574,69.1569 ,69.1564,69.1558,69.1555,69.1552, 69.1548,69.1544,69.1538,69.1534,69.1527 ,69.1518,69.1512,69.1506,69.1494, 69.1486,69.148,69.1473,69.1466,69.146, 69.1455,69.1449,69.1442,69.1434,69.1424 ,69.1416,69.141,69.1396,69.1379,69.137, 69.1363,69.1357,69.136,69.1346,69.133, 69.1316,69.131,69.1517,69.2358,69.379, 69.4855,69.64,69.7353,69.8307,69.95, 70.1176,70.2851,70.4088,70.4082,70.4076 ,70.4071,70.4073,70.4082,70.4083, 70.4086,70.4086,70.4089,70.4096,70.4098 ,70.41,70.4101,70.4101,70.4101,70.4102, 70.4103,70.4104,70.4105,70.4122,70.4113 ,70.4106,70.4109,70.4109,70.4109,70.411 ,70.4112,70.4113,70.4114,70.4115, 70.4117,70.4127,70.4127,70.4123,70.4121 ,70.4123,70.4126,70.4128,70.413,70.411)
ORBIT_NUMBER = 14648
ORBITAL_ECCENTRICITY = 0.579
ORBITAL_INCLINATION = 86.93
ORBITAL_SEMIMAJOR_AXIS = 8839.4
PERIAPSIS_ALTITUDE = 332.54
PERIAPSIS_ARGUMENT_ANGLE = 333.02
PERIAPSIS_TIME = 2015-07-20T07:32:28.000Z
SPACECRAFT_ORIENTATION = (0.0,1.0,0.0)
^MEX_ORIENTATION_DESC = "MEX_ORIENTATION_DESC.TXT"
SPACECRAFT_POINTING_MODE = NADIR
^MEX_POINTING_DESC = "MEX_POINTING_DESC.TXT"
RIGHT_ASCENSION = -1e+32
DECLINATION = -1e+32
OFFSET_ANGLE = -1e+32
SPACECRAFT_SOLAR_DISTANCE = 2.38556e+08
TARGET_NAME = MARS
/* CAMERA DATA ELEMENTS */
DETECTOR_TEMPERATURE = 19.1861
FOCAL_PLANE_TEMPERATURE = 8.7872
INST_CMPRS_NAME = "DISCRETE COSINE TRANSFORMATION (DCT)"
INST_CMPRS_RATIO = 11.49
INST_CMPRS_QUALITY = 0
INST_CMPRS_QUANTZ_TBL_ID = 0
INSTRUMENT_TEMPERATURE = 12.2535
LENS_TEMPERATURE = 7.9716
MACROPIXEL_SIZE = 4
MISSING_FRAMES = 0
PIXEL_SUBSAMPLING_FLAG = N
SIGNAL_CHAIN_ID = 3
/* RADIOMETRIC DATA ELEMENTS */
BANDWIDTH = 177.0
CENTER_FILTER_WAVELENGTH = 676.5
RADIANCE_OFFSET = 1.73703
RADIANCE_SCALING_FACTOR = 0.0115644
REFLECTANCE_SCALING_FACTOR = 0.000348949
MEX:REFLECTANCE_OFFSET = 0.052414
/* IMAGE OBJECT DEFINITIONS */
OBJECT = IMAGE
  INTERCHANGE_FORMAT = BINARY
  LINES = 4757
  LINE_SAMPLES = 1587
  SAMPLE_TYPE = UNSIGNED_INTEGER
  SAMPLE_BITS = 8
  BANDS = 1
  BAND_STORAGE_TYPE = BAND_SEQUENTIAL
  MAXIMUM = 255
  MEAN = 97.1687
  MINIMUM = 1
  STANDARD_DEVIATION = 16.0317
END_OBJECT = IMAGE
/* MAP OBJECT DEFINITIONS */
OBJECT = IMAGE_MAP_PROJECTION
  ^DATA_SET_MAP_PROJECTION_CATALOG= "DSMAP.CAT"
  A_AXIS_RADIUS = 3396.0
  B_AXIS_RADIUS = 3396.0
  C_AXIS_RADIUS = 3396.0
  CENTER_LATITUDE = 0.0
  CENTER_LONGITUDE = 70.0
  COORDINATE_SYSTEM_NAME = PLANETOGRAPHIC
  COORDINATE_SYSTEM_TYPE = "BODY-FIXED ROTATING"
  EASTERNMOST_LONGITUDE = 70.413
  FIRST_STANDARD_PARALLEL = "N/A"
  LINE_FIRST_PIXEL = 1
  LINE_LAST_PIXEL = 4757
  LINE_PROJECTION_OFFSET = -16700.875
  MAP_PROJECTION_ROTATION = 0.0
  MAP_PROJECTION_TYPE = SINUSOIDAL
  MAP_RESOLUTION = 1185.42760773333
  MAP_SCALE = 0.05
  MAXIMUM_LATITUDE = -14.0888
  MINIMUM_LATITUDE = -18.1161
  POSITIVE_LONGITUDE_DIRECTION = EAST
  REFERENCE_LATITUDE = "N/A"
  REFERENCE_LONGITUDE = "N/A"
  SAMPLE_FIRST_PIXEL = 1
  SAMPLE_LAST_PIXEL = 1587
  SAMPLE_PROJECTION_OFFSET = 1058.875
  SECOND_STANDARD_PARALLEL = "N/A"
  WESTERNMOST_LONGITUDE = 69.131
END_OBJECT = IMAGE_MAP_PROJECTION
/* The JPEG2000 image data file associated with this label. */
OBJECT = COMPRESSED_FILE
  FILE_NAME = "HE648_0001_P23.JP2"
  RECORD_TYPE = UNDEFINED
  FILE_RECORDS = UNK
  ENCODING_TYPE = "JP2"
  INTERCHANGE_FORMAT = BINARY
  UNCOMPRESSED_FILE_NAME = "HE648_0001_P23.IMG"
  REQUIRED_STORAGE_BYTES = "7568403"
  ^DESCRIPTION = "JP2INFO.TXT"
END_OBJECT = COMPRESSED_FILE
END
