PDS_VERSION_ID = PDS3
/* FILE DATA ELEMENTS */
RECORD_TYPE = STREAM
/* POINTERS TO DATA OBJECTS */
^COMPRESSED_FILE = "HE649_0000_RE3.JP2"
/* IDENTIFICATION DATA ELEMENTS */
DATA_SET_ID = "MEX-M-HRSC-5-REFDR-MAPPROJECTED-V3.0"
DATA_SET_NAME = "MARS EXPRESS HRSC MAP PROJECTED REFDR V3.0"
DETECTOR_ID = MEX_HRSC_RED
EVENT_TYPE = "MARS-REGIONAL-MAPPING-Im-Fl"
INSTRUMENT_HOST_ID = MEX
INSTRUMENT_HOST_NAME = "MARS EXPRESS"
INSTRUMENT_ID = HRSC
INSTRUMENT_NAME = "HIGH RESOLUTION STEREO CAMERA"
MISSION_NAME = "MARS EXPRESS"
MISSION_PHASE_NAME = ME_Phase_33
PROCESSING_LEVEL_ID = 3
PRODUCT_CREATION_TIME = 2016-10-30T02:40:36.000Z
PRODUCT_ID = "HE649_0000_RE3.JP2"
RELEASE_ID = 0129
REVISION_ID = 0000
/* QUALITY DATA ELEMENTS */
DATA_QUALITY_ID = 1
DATA_QUALITY_DESC = "Data calculated based on original SPICE kernels"
/* TIME DATA ELEMENTS */
SPACECRAFT_CLOCK_START_COUNT = "1/0385482740.08258"
SPACECRAFT_CLOCK_STOP_COUNT = "1/0385482975.48224"
START_TIME = 2015-07-20T14:32:31.301Z
STOP_TIME = 2015-07-20T14:35:16.418Z
/* ORBITAL DATA ELEMENTS */
ASCENDING_NODE_LONGITUDE = 298.6
MAXIMUM_RESOLUTION = 55.9
FOOTPRINT_POINT_LATITUDE = (-23.1398,-23.1391,-23.137,-22.9024, -22.6933,-22.4818,-22.2707,-22.0595, -21.7416,-21.5297,-21.3175,-21.1049, -20.8923,-20.6792,-20.4666,-20.2552, -20.047,-19.8337,-19.6194,-19.2904, -19.0694,-18.8493,-18.6293,-18.4103, -18.0833,-17.751,-17.4208,-17.2028, -16.9855,-16.7657,-16.5451,-16.2164, -15.996,-15.7762,-15.5571,-15.3371, -15.1193,-14.899,-14.6771,-14.458, -14.2365,-14.0129,-13.7976,-13.5778, -13.3574,-13.1374,-12.9174,-12.6976, -12.3679,-12.2395,-12.2383,-12.2376, -12.2347,-12.342,-12.5616,-12.7817, -13.1117,-13.332,-13.5522,-13.772, -14.1018,-14.3212,-14.5426,-14.7625, -14.9809,-15.2008,-15.4205,-15.6397, -15.8597,-16.1852,-16.4046,-16.7394, -17.067,-17.2856,-17.5054,-17.7252, -17.9453,-18.1656,-18.3857,-18.7151, -18.935,-19.2649,-19.4851,-19.7, -19.9127,-20.1263,-20.3393,-20.5529, -20.766,-20.9794,-21.1924,-21.4057, -21.6187,-21.8309,-22.0432,-22.254, -22.5699,-22.8872,-23.0979,-23.1398)
FOOTPRINT_POINT_LONGITUDE = (327.861,327.427,327.088,326.913, 326.915,326.916,326.917,326.918,326.919 ,326.919,326.919,326.919,326.919, 326.919,326.919,326.919,326.921,326.92, 326.919,326.916,326.915,326.914,326.914 ,326.913,326.912,326.91,326.908,326.907 ,326.907,326.905,326.904,326.901,326.9, 326.898,326.896,326.894,326.893,326.89, 326.887,326.885,326.882,326.879,326.878 ,326.875,326.872,326.869,326.866, 326.863,326.859,327.09,327.298,327.531, 327.875,328.174,328.174,328.174,328.174 ,328.174,328.174,328.174,328.175, 328.175,328.175,328.175,328.176,328.176 ,328.176,328.177,328.177,328.179, 328.179,328.178,328.179,328.18,328.18, 328.181,328.181,328.181,328.181,328.182 ,328.182,328.183,328.182,328.182, 328.182,328.182,328.182,328.182,328.182 ,328.182,328.182,328.182,328.182, 328.183,328.183,328.184,328.185,328.186 ,328.186,327.861)
ORBIT_NUMBER = 14649
ORBITAL_ECCENTRICITY = 0.578
ORBITAL_INCLINATION = 86.92
ORBITAL_SEMIMAJOR_AXIS = 8832.42
PERIAPSIS_ALTITUDE = 333.23
PERIAPSIS_ARGUMENT_ANGLE = 332.85
PERIAPSIS_TIME = 2015-07-20T14:31:56.000Z
SPACECRAFT_ORIENTATION = (0.0,1.0,0.0)
^MEX_ORIENTATION_DESC = "MEX_ORIENTATION_DESC.TXT"
SPACECRAFT_POINTING_MODE = NADIR
^MEX_POINTING_DESC = "MEX_POINTING_DESC.TXT"
RIGHT_ASCENSION = -1e+32
DECLINATION = -1e+32
OFFSET_ANGLE = -1e+32
SPACECRAFT_SOLAR_DISTANCE = 2.38603e+08
TARGET_NAME = MARS
/* CAMERA DATA ELEMENTS */
DETECTOR_TEMPERATURE = 18.3705
FOCAL_PLANE_TEMPERATURE = 7.5638
INST_CMPRS_NAME = "DISCRETE COSINE TRANSFORMATION (DCT)"
INST_CMPRS_RATIO = 17.1251
INST_CMPRS_QUALITY = 0
INST_CMPRS_QUANTZ_TBL_ID = 0
INSTRUMENT_TEMPERATURE = 11.234
LENS_TEMPERATURE = 8.1755
MACROPIXEL_SIZE = 4
MISSING_FRAMES = 0
PIXEL_SUBSAMPLING_FLAG = N
SIGNAL_CHAIN_ID = 2
/* RADIOMETRIC DATA ELEMENTS */
BANDWIDTH = 48.0
CENTER_FILTER_WAVELENGTH = 748.0
RADIANCE_OFFSET = 0.529335
RADIANCE_SCALING_FACTOR = 0.00287422
REFLECTANCE_SCALING_FACTOR = 0.00037342
MEX:REFLECTANCE_OFFSET = 0.0687714
/* IMAGE OBJECT DEFINITIONS */
OBJECT = IMAGE
  INTERCHANGE_FORMAT = BINARY
  LINES = 12898
  LINE_SAMPLES = 1645
  SAMPLE_TYPE = UNSIGNED_INTEGER
  SAMPLE_BITS = 8
  BANDS = 1
  BAND_STORAGE_TYPE = BAND_SEQUENTIAL
  MAXIMUM = 255
  MEAN = 107.327
  MINIMUM = 1
  STANDARD_DEVIATION = 23.1687
END_OBJECT = IMAGE
/* MAP OBJECT DEFINITIONS */
OBJECT = IMAGE_MAP_PROJECTION
  ^DATA_SET_MAP_PROJECTION_CATALOG= "DSMAP.CAT"
  A_AXIS_RADIUS = 3396.0
  B_AXIS_RADIUS = 3396.0
  C_AXIS_RADIUS = 3396.0
  CENTER_LATITUDE = 0.0
  CENTER_LONGITUDE = 328.0
  COORDINATE_SYSTEM_NAME = PLANETOGRAPHIC
  COORDINATE_SYSTEM_TYPE = "BODY-FIXED ROTATING"
  EASTERNMOST_LONGITUDE = 328.186
  FIRST_STANDARD_PARALLEL = "N/A"
  LINE_FIRST_PIXEL = 1
  LINE_LAST_PIXEL = 12898
  LINE_PROJECTION_OFFSET = -14521.625
  MAP_PROJECTION_ROTATION = 0.0
  MAP_PROJECTION_TYPE = SINUSOIDAL
  MAP_RESOLUTION = 1185.42760773333
  MAP_SCALE = 0.05
  MAXIMUM_LATITUDE = -12.2347
  MINIMUM_LATITUDE = -23.1398
  POSITIVE_LONGITUDE_DIRECTION = EAST
  REFERENCE_LATITUDE = "N/A"
  REFERENCE_LONGITUDE = "N/A"
  SAMPLE_FIRST_PIXEL = 1
  SAMPLE_LAST_PIXEL = 1645
  SAMPLE_PROJECTION_OFFSET = 1382.125
  SECOND_STANDARD_PARALLEL = "N/A"
  WESTERNMOST_LONGITUDE = 326.859
END_OBJECT = IMAGE_MAP_PROJECTION
/* The JPEG2000 image data file associated with this label. */
OBJECT = COMPRESSED_FILE
  FILE_NAME = "HE649_0000_RE3.JP2"
  RECORD_TYPE = UNDEFINED
  FILE_RECORDS = UNK
  ENCODING_TYPE = "JP2"
  INTERCHANGE_FORMAT = BINARY
  UNCOMPRESSED_FILE_NAME = "HE649_0000_RE3.IMG"
  REQUIRED_STORAGE_BYTES = "21236950"
  ^DESCRIPTION = "JP2INFO.TXT"
END_OBJECT = COMPRESSED_FILE
END
