PDS_VERSION_ID = PDS3
/* FILE DATA ELEMENTS */
RECORD_TYPE = STREAM
/* POINTERS TO DATA OBJECTS */
^COMPRESSED_FILE = "HE649_0000_S23.JP2"
/* IDENTIFICATION DATA ELEMENTS */
DATA_SET_ID = "MEX-M-HRSC-5-REFDR-MAPPROJECTED-V3.0"
DATA_SET_NAME = "MARS EXPRESS HRSC MAP PROJECTED REFDR V3.0"
DETECTOR_ID = MEX_HRSC_S2
EVENT_TYPE = "MARS-REGIONAL-MAPPING-Im-Fl"
INSTRUMENT_HOST_ID = MEX
INSTRUMENT_HOST_NAME = "MARS EXPRESS"
INSTRUMENT_ID = HRSC
INSTRUMENT_NAME = "HIGH RESOLUTION STEREO CAMERA"
MISSION_NAME = "MARS EXPRESS"
MISSION_PHASE_NAME = ME_Phase_33
PROCESSING_LEVEL_ID = 3
PRODUCT_CREATION_TIME = 2016-10-30T02:40:36.000Z
PRODUCT_ID = "HE649_0000_S23.JP2"
RELEASE_ID = 0129
REVISION_ID = 0000
/* QUALITY DATA ELEMENTS */
DATA_QUALITY_ID = 1
DATA_QUALITY_DESC = "Data calculated based on original SPICE kernels"
/* TIME DATA ELEMENTS */
SPACECRAFT_CLOCK_START_COUNT = "1/0385482740.08258"
SPACECRAFT_CLOCK_STOP_COUNT = "1/0385482975.48224"
START_TIME = 2015-07-20T14:32:26.133Z
STOP_TIME = 2015-07-20T14:35:10.766Z
/* ORBITAL DATA ELEMENTS */
ASCENDING_NODE_LONGITUDE = 298.6
MAXIMUM_RESOLUTION = 28.5
FOOTPRINT_POINT_LATITUDE = (-23.1468,-23.1475,-23.1464,-23.117, -22.9063,-22.698,-22.4854,-22.2745, -22.0632,-21.745,-21.5329,-21.3206, -21.1079,-20.8947,-20.6815,-20.4682, -20.2567,-20.049,-19.7276,-19.5127, -19.1874,-18.9685,-18.748,-18.5286, -18.3099,-17.9789,-17.7574,-17.537, -17.3185,-17.0988,-16.77,-16.5485, -16.3298,-16.1083,-15.8873,-15.6668, -15.4467,-15.1173,-14.786,-14.4543, -14.2308,-14.0056,-13.79,-13.5692, -13.3475,-13.1265,-12.9052,-12.6842, -12.3528,-12.2441,-12.2432,-12.2424, -12.2403,-12.2378,-12.4572,-12.6781, -12.9001,-13.1207,-13.3422,-13.5634, -13.7842,-14.0054,-14.2257,-14.448, -14.7792,-14.9983,-15.2189,-15.4396, -15.6594,-15.8802,-16.0941,-16.3162, -16.5365,-16.7608,-17.091,-17.31, -17.5305,-17.7508,-17.9715,-18.1924, -18.4131,-18.6331,-18.8535,-19.1818, -19.3949,-19.611,-19.8255,-20.0388, -20.2527,-20.4662,-20.6801,-20.8941, -21.1076,-21.4276,-21.6414,-21.8537, -22.1725,-22.4881,-22.804,-23.1468)
FOOTPRINT_POINT_LONGITUDE = (328.18,327.703,327.361,326.909,326.91, 326.912,326.913,326.914,326.915,326.916 ,326.916,326.916,326.917,326.917, 326.916,326.916,326.917,326.918,326.917 ,326.916,326.913,326.912,326.912, 326.911,326.911,326.909,326.908,326.907 ,326.906,326.905,326.904,326.902, 326.901,326.899,326.897,326.895,326.894 ,326.891,326.888,326.884,326.881, 326.877,326.876,326.874,326.871,326.868 ,326.865,326.862,326.858,327.048, 327.239,327.557,327.812,328.067,328.174 ,328.174,328.174,328.174,328.174, 328.174,328.174,328.174,328.175,328.175 ,328.175,328.176,328.176,328.176, 328.177,328.177,328.18,328.18,328.18, 328.179,328.18,328.181,328.181,328.182, 328.182,328.182,328.182,328.183,328.183 ,328.184,328.184,328.183,328.183, 328.184,328.184,328.184,328.184,328.184 ,328.184,328.184,328.184,328.185, 328.185,328.186,328.188,328.18)
ORBIT_NUMBER = 14649
ORBITAL_ECCENTRICITY = 0.578
ORBITAL_INCLINATION = 86.92
ORBITAL_SEMIMAJOR_AXIS = 8832.42
PERIAPSIS_ALTITUDE = 333.23
PERIAPSIS_ARGUMENT_ANGLE = 332.85
PERIAPSIS_TIME = 2015-07-20T14:31:56.000Z
SPACECRAFT_ORIENTATION = (0.0,1.0,0.0)
^MEX_ORIENTATION_DESC = "MEX_ORIENTATION_DESC.TXT"
SPACECRAFT_POINTING_MODE = NADIR
^MEX_POINTING_DESC = "MEX_POINTING_DESC.TXT"
RIGHT_ASCENSION = -1e+32
DECLINATION = -1e+32
OFFSET_ANGLE = -1e+32
SPACECRAFT_SOLAR_DISTANCE = 2.38603e+08
TARGET_NAME = MARS
/* CAMERA DATA ELEMENTS */
DETECTOR_TEMPERATURE = 18.3705
FOCAL_PLANE_TEMPERATURE = 7.5638
INST_CMPRS_NAME = "DISCRETE COSINE TRANSFORMATION (DCT)"
INST_CMPRS_RATIO = 14.5775
INST_CMPRS_QUALITY = 0
INST_CMPRS_QUANTZ_TBL_ID = 0
INSTRUMENT_TEMPERATURE = 11.234
LENS_TEMPERATURE = 8.1755
MACROPIXEL_SIZE = 2
MISSING_FRAMES = 0
PIXEL_SUBSAMPLING_FLAG = N
SIGNAL_CHAIN_ID = 1
/* RADIOMETRIC DATA ELEMENTS */
BANDWIDTH = 178.0
CENTER_FILTER_WAVELENGTH = 679.0
RADIANCE_OFFSET = 2.13639
RADIANCE_SCALING_FACTOR = 0.0106629
REFLECTANCE_SCALING_FACTOR = 0.000321482
MEX:REFLECTANCE_OFFSET = 0.0644112
/* IMAGE OBJECT DEFINITIONS */
OBJECT = IMAGE
  INTERCHANGE_FORMAT = BINARY
  LINES = 25796
  LINE_SAMPLES = 3289
  SAMPLE_TYPE = UNSIGNED_INTEGER
  SAMPLE_BITS = 8
  BANDS = 1
  BAND_STORAGE_TYPE = BAND_SEQUENTIAL
  MAXIMUM = 255
  MEAN = 111.493
  MINIMUM = 1
  STANDARD_DEVIATION = 23.2664
END_OBJECT = IMAGE
/* MAP OBJECT DEFINITIONS */
OBJECT = IMAGE_MAP_PROJECTION
  ^DATA_SET_MAP_PROJECTION_CATALOG= "DSMAP.CAT"
  A_AXIS_RADIUS = 3396.0
  B_AXIS_RADIUS = 3396.0
  C_AXIS_RADIUS = 3396.0
  CENTER_LATITUDE = 0.0
  CENTER_LONGITUDE = 328.0
  COORDINATE_SYSTEM_NAME = PLANETOGRAPHIC
  COORDINATE_SYSTEM_TYPE = "BODY-FIXED ROTATING"
  EASTERNMOST_LONGITUDE = 328.188
  FIRST_STANDARD_PARALLEL = "N/A"
  LINE_FIRST_PIXEL = 1
  LINE_LAST_PIXEL = 25796
  LINE_PROJECTION_OFFSET = -29042.75
  MAP_PROJECTION_ROTATION = 0.0
  MAP_PROJECTION_TYPE = SINUSOIDAL
  MAP_RESOLUTION = 2370.85521546667
  MAP_SCALE = 0.025
  MAXIMUM_LATITUDE = -12.2378
  MINIMUM_LATITUDE = -23.1475
  POSITIVE_LONGITUDE_DIRECTION = EAST
  REFERENCE_LATITUDE = "N/A"
  REFERENCE_LONGITUDE = "N/A"
  SAMPLE_FIRST_PIXEL = 1
  SAMPLE_LAST_PIXEL = 3289
  SAMPLE_PROJECTION_OFFSET = 2764.75
  SECOND_STANDARD_PARALLEL = "N/A"
  WESTERNMOST_LONGITUDE = 326.858
END_OBJECT = IMAGE_MAP_PROJECTION
/* The JPEG2000 image data file associated with this label. */
OBJECT = COMPRESSED_FILE
  FILE_NAME = "HE649_0000_S23.JP2"
  RECORD_TYPE = UNDEFINED
  FILE_RECORDS = UNK
  ENCODING_TYPE = "JP2"
  INTERCHANGE_FORMAT = BINARY
  UNCOMPRESSED_FILE_NAME = "HE649_0000_S23.IMG"
  REQUIRED_STORAGE_BYTES = "84866067"
  ^DESCRIPTION = "JP2INFO.TXT"
END_OBJECT = COMPRESSED_FILE
END
