PDS_VERSION_ID = PDS3
/* FILE DATA ELEMENTS */
RECORD_TYPE = STREAM
/* POINTERS TO DATA OBJECTS */
^COMPRESSED_FILE = "HE652_0000_RE3.JP2"
/* IDENTIFICATION DATA ELEMENTS */
DATA_SET_ID = "MEX-M-HRSC-5-REFDR-MAPPROJECTED-V3.0"
DATA_SET_NAME = "MARS EXPRESS HRSC MAP PROJECTED REFDR V3.0"
DETECTOR_ID = MEX_HRSC_RED
EVENT_TYPE = "MARS-REGIONAL-MAPPING-Im-Fl"
INSTRUMENT_HOST_ID = MEX
INSTRUMENT_HOST_NAME = "MARS EXPRESS"
INSTRUMENT_ID = HRSC
INSTRUMENT_NAME = "HIGH RESOLUTION STEREO CAMERA"
MISSION_NAME = "MARS EXPRESS"
MISSION_PHASE_NAME = ME_Phase_33
PROCESSING_LEVEL_ID = 3
PRODUCT_CREATION_TIME = 2016-10-30T02:40:36.000Z
PRODUCT_ID = "HE652_0000_RE3.JP2"
RELEASE_ID = 0129
REVISION_ID = 0000
/* QUALITY DATA ELEMENTS */
DATA_QUALITY_ID = 1
DATA_QUALITY_DESC = "Data calculated based on original SPICE kernels"
/* TIME DATA ELEMENTS */
SPACECRAFT_CLOCK_START_COUNT = "1/0385558388.08251"
SPACECRAFT_CLOCK_STOP_COUNT = "1/0385558631.48030"
START_TIME = 2015-07-21T11:33:19.854Z
STOP_TIME = 2015-07-21T11:35:57.391Z
/* ORBITAL DATA ELEMENTS */
ASCENDING_NODE_LONGITUDE = 298.54
MAXIMUM_RESOLUTION = 118.8
FOOTPRINT_POINT_LATITUDE = (-14.6531,-14.663,-14.6724,-14.6813, -14.6897,-14.6155,-14.3479,-14.1686, -13.9898,-13.8117,-13.5449,-13.3664, -13.0108,-12.6553,-12.4772,-12.2695, -12.0572,-11.7387,-11.4208,-11.2088, -10.9966,-10.7851,-10.573,-10.3611, -10.0437,-9.83198,-9.62052,-9.40892, -9.19741,-8.98654,-8.77515,-8.56394, -8.24705,-7.93099,-7.72054,-7.51047, -7.30102,-7.08994,-6.88092,-6.67106, -6.45929,-6.13981,-5.92329,-5.59907, -5.38341,-5.16901,-4.95015,-4.6206, -4.39823,-4.35375,-4.34471,-4.33654, -4.31669,-4.30307,-4.52393,-4.74685, -4.96534,-5.18126,-5.39886,-5.72238, -5.93845,-6.15493,-6.36557,-6.57989, -6.89608,-7.10728,-7.31315,-7.52319, -7.73566,-7.94683,-8.15594,-8.36587, -8.57597,-8.89339,-9.10492,-9.42166, -9.63337,-9.95056,-10.1626,-10.3748, -10.6922,-10.9044,-11.1154,-11.3284, -11.6475,-11.8605,-12.073,-12.2867, -12.4811,-12.8302,-13.0081,-13.1862, -13.3645,-13.5473,-13.7275,-13.9949, -14.2624,-14.4406,-14.6194,-14.6531)
FOOTPRINT_POINT_LONGITUDE = (21.9709,21.7728,21.5763,21.3817,21.189 ,20.9066,20.9028,20.9003,20.8978, 20.8951,20.891,20.8883,20.8826,20.8768, 20.8739,20.8703,20.8667,20.8612,20.8555 ,20.8517,20.8478,20.8438,20.8398, 20.8358,20.8296,20.8254,20.8211,20.8169 ,20.8125,20.8081,20.8037,20.7992, 20.7924,20.7854,20.7807,20.7759,20.7711 ,20.7663,20.7614,20.7564,20.7515, 20.7439,20.7386,20.7307,20.7253,20.7199 ,20.7144,20.7059,20.7002,21.0,21.1942, 21.3893,21.8402,22.1919,22.1916,22.19, 22.1904,22.1899,22.1884,22.1882,22.188, 22.1875,22.1877,22.185,22.1847,22.1844, 22.188,22.1887,22.1878,22.1878,22.1894, 22.1906,22.1916,22.1917,22.192,22.1929, 22.1932,22.194,22.1942,22.1944,22.1954, 22.1957,22.1971,22.1969,22.1971,22.1971 ,22.1975,22.197,22.1986,22.205,22.2057, 22.2062,22.2066,22.2036,22.2026,22.2034 ,22.2042,22.2048,22.2051,21.9709)
ORBIT_NUMBER = 14652
ORBITAL_ECCENTRICITY = 0.578
ORBITAL_INCLINATION = 86.91
ORBITAL_SEMIMAJOR_AXIS = 8837.49
PERIAPSIS_ALTITUDE = 333.22
PERIAPSIS_ARGUMENT_ANGLE = 332.33
PERIAPSIS_TIME = 2015-07-21T11:30:28.000Z
SPACECRAFT_ORIENTATION = (0.0,1.0,0.0)
^MEX_ORIENTATION_DESC = "MEX_ORIENTATION_DESC.TXT"
SPACECRAFT_POINTING_MODE = ACROSSTRACK
^MEX_POINTING_DESC = "MEX_POINTING_DESC.TXT"
RIGHT_ASCENSION = -1e+32
DECLINATION = -1e+32
OFFSET_ANGLE = -0.75
SPACECRAFT_SOLAR_DISTANCE = 2.38743e+08
TARGET_NAME = MARS
/* CAMERA DATA ELEMENTS */
DETECTOR_TEMPERATURE = 18.3705
FOCAL_PLANE_TEMPERATURE = 7.5638
INST_CMPRS_NAME = "DISCRETE COSINE TRANSFORMATION (DCT)"
INST_CMPRS_RATIO = 15.4832
INST_CMPRS_QUALITY = 0
INST_CMPRS_QUANTZ_TBL_ID = 0
INSTRUMENT_TEMPERATURE = 11.234
LENS_TEMPERATURE = 7.9716
MACROPIXEL_SIZE = 8
MISSING_FRAMES = 0
PIXEL_SUBSAMPLING_FLAG = N
SIGNAL_CHAIN_ID = 2
/* RADIOMETRIC DATA ELEMENTS */
BANDWIDTH = 48.0
CENTER_FILTER_WAVELENGTH = 748.0
RADIANCE_OFFSET = 0.530214
RADIANCE_SCALING_FACTOR = 0.00501737
REFLECTANCE_SCALING_FACTOR = 0.000652628
MEX:REFLECTANCE_OFFSET = 0.0689669
/* IMAGE OBJECT DEFINITIONS */
OBJECT = IMAGE
  INTERCHANGE_FORMAT = BINARY
  LINES = 6144
  LINE_SAMPLES = 979
  SAMPLE_TYPE = UNSIGNED_INTEGER
  SAMPLE_BITS = 8
  BANDS = 1
  BAND_STORAGE_TYPE = BAND_SEQUENTIAL
  MAXIMUM = 255
  MEAN = 80.6232
  MINIMUM = 1
  STANDARD_DEVIATION = 28.0627
END_OBJECT = IMAGE
/* MAP OBJECT DEFINITIONS */
OBJECT = IMAGE_MAP_PROJECTION
  ^DATA_SET_MAP_PROJECTION_CATALOG= "DSMAP.CAT"
  A_AXIS_RADIUS = 3396.0
  B_AXIS_RADIUS = 3396.0
  C_AXIS_RADIUS = 3396.0
  CENTER_LATITUDE = 0.0
  CENTER_LONGITUDE = 21.0
  COORDINATE_SYSTEM_NAME = PLANETOGRAPHIC
  COORDINATE_SYSTEM_TYPE = "BODY-FIXED ROTATING"
  EASTERNMOST_LONGITUDE = 22.2066
  FIRST_STANDARD_PARALLEL = "N/A"
  LINE_FIRST_PIXEL = 1
  LINE_LAST_PIXEL = 6144
  LINE_PROJECTION_OFFSET = -2560.6875
  MAP_PROJECTION_ROTATION = 0.0
  MAP_PROJECTION_TYPE = SINUSOIDAL
  MAP_RESOLUTION = 592.713803866667
  MAP_SCALE = 0.1
  MAXIMUM_LATITUDE = -4.30307
  MINIMUM_LATITUDE = -14.6897
  POSITIVE_LONGITUDE_DIRECTION = EAST
  REFERENCE_LATITUDE = "N/A"
  REFERENCE_LONGITUDE = "N/A"
  SAMPLE_FIRST_PIXEL = 1
  SAMPLE_LAST_PIXEL = 979
  SAMPLE_PROJECTION_OFFSET = 205.0625
  SECOND_STANDARD_PARALLEL = "N/A"
  WESTERNMOST_LONGITUDE = 20.7002
END_OBJECT = IMAGE_MAP_PROJECTION
/* The JPEG2000 image data file associated with this label. */
OBJECT = COMPRESSED_FILE
  FILE_NAME = "HE652_0000_RE3.JP2"
  RECORD_TYPE = UNDEFINED
  FILE_RECORDS = UNK
  ENCODING_TYPE = "JP2"
  INTERCHANGE_FORMAT = BINARY
  UNCOMPRESSED_FILE_NAME = "HE652_0000_RE3.IMG"
  REQUIRED_STORAGE_BYTES = "6033577"
  ^DESCRIPTION = "JP2INFO.TXT"
END_OBJECT = COMPRESSED_FILE
END
