PDS_VERSION_ID = PDS3
/* FILE DATA ELEMENTS */
RECORD_TYPE = STREAM
/* POINTERS TO DATA OBJECTS */
^COMPRESSED_FILE = "HE655_0001_S13.JP2"
/* IDENTIFICATION DATA ELEMENTS */
DATA_SET_ID = "MEX-M-HRSC-5-REFDR-MAPPROJECTED-V3.0"
DATA_SET_NAME = "MARS EXPRESS HRSC MAP PROJECTED REFDR V3.0"
DETECTOR_ID = MEX_HRSC_S1
EVENT_TYPE = "MARS-LOCAL-STEREO-Im-Fl-Lc"
INSTRUMENT_HOST_ID = MEX
INSTRUMENT_HOST_NAME = "MARS EXPRESS"
INSTRUMENT_ID = HRSC
INSTRUMENT_NAME = "HIGH RESOLUTION STEREO CAMERA"
MISSION_NAME = "MARS EXPRESS"
MISSION_PHASE_NAME = ME_Phase_33
PROCESSING_LEVEL_ID = 3
PRODUCT_CREATION_TIME = 2016-10-30T02:40:36.000Z
PRODUCT_ID = "HE655_0001_S13.JP2"
RELEASE_ID = 0129
REVISION_ID = 0000
/* QUALITY DATA ELEMENTS */
DATA_QUALITY_ID = 1
DATA_QUALITY_DESC = "Data calculated based on original SPICE kernels"
/* TIME DATA ELEMENTS */
SPACECRAFT_CLOCK_START_COUNT = "1/0385633694.09059"
SPACECRAFT_CLOCK_STOP_COUNT = "1/0385633806.01306"
START_TIME = 2015-07-22T08:29:19.906Z
STOP_TIME = 2015-07-22T08:30:10.030Z
/* ORBITAL DATA ELEMENTS */
ASCENDING_NODE_LONGITUDE = 298.48
MAXIMUM_RESOLUTION = 14.2
FOOTPRINT_POINT_LATITUDE = (-28.7431,-28.7428,-28.7425,-28.7421, -28.7417,-28.7412,-28.7408,-28.7402, -28.7397,-28.7391,-28.7384,-28.7375, -28.7902,-28.6924,-28.6273,-28.5623, -28.4643,-28.3667,-28.3017,-28.2366, -28.1717,-28.1065,-28.0415,-27.944, -27.879,-27.8141,-27.7167,-27.6516, -27.554,-27.4561,-27.3584,-27.2936, -27.2283,-27.13,-27.0309,-26.9253, -26.825,-26.7581,-26.6934,-26.594, -26.5283,-26.4314,-26.2702,-26.1736, -26.1086,-26.0107,-25.9111,-25.8421, -25.6822,-25.5262,-25.513,-25.513, -25.5132,-25.5134,-25.5137,-25.5134, -25.5132,-25.5128,-25.512,-25.511, -25.5087,-25.605,-25.7343,-25.832, -25.8966,-25.9977,-26.0963,-26.1946, -26.2596,-26.3571,-26.4223,-26.4873, -26.5851,-26.6517,-26.7514,-26.8526, -26.9497,-27.0472,-27.1124,-27.2101, -27.2753,-27.3406,-27.4388,-27.5379, -27.6369,-27.703,-27.768,-27.8676, -27.9707,-28.0682,-28.1333,-28.2616, -28.3268,-28.3921,-28.4572,-28.5227, -28.6208,-28.6862,-28.7511,-28.7431)
FOOTPRINT_POINT_LONGITUDE = (74.5464,74.4558,74.3781,74.2875,74.184 ,74.0803,73.9897,73.8862,73.7828, 73.6792,73.5627,73.4202,73.3168,73.3181 ,73.319,73.3199,73.3213,73.3225,73.3234 ,73.3242,73.325,73.3258,73.3266,73.3278 ,73.3285,73.3293,73.3304,73.3311, 73.3323,73.3335,73.3347,73.3353,73.3361 ,73.3375,73.3391,73.343,73.345,73.3463, 73.3469,73.3485,73.3494,73.3502,73.3513 ,73.3519,73.3525,73.3536,73.3552, 73.3572,73.3577,73.3569,73.5122,73.6157 ,73.7062,73.8482,73.9514,74.1063, 74.2612,74.3644,74.4416,74.5573,74.6659 ,74.6655,74.6653,74.6653,74.6651, 74.6663,74.6667,74.6669,74.6668,74.6668 ,74.6667,74.6667,74.6667,74.6672, 74.6678,74.6689,74.6686,74.6685,74.6684 ,74.6684,74.6683,74.6683,74.6683, 74.6686,74.6689,74.6692,74.669,74.6695, 74.6712,74.6709,74.6708,74.6698,74.6696 ,74.6696,74.6694,74.6693,74.6692, 74.6691,74.6689,74.5464)
ORBIT_NUMBER = 14655
ORBITAL_ECCENTRICITY = 0.579
ORBITAL_INCLINATION = 86.92
ORBITAL_SEMIMAJOR_AXIS = 8837.77
PERIAPSIS_ALTITUDE = 332.16
PERIAPSIS_ARGUMENT_ANGLE = 331.81
PERIAPSIS_TIME = 2015-07-22T08:29:00.000Z
SPACECRAFT_ORIENTATION = (0.0,1.0,0.0)
^MEX_ORIENTATION_DESC = "MEX_ORIENTATION_DESC.TXT"
SPACECRAFT_POINTING_MODE = NADIR
^MEX_POINTING_DESC = "MEX_POINTING_DESC.TXT"
RIGHT_ASCENSION = -1e+32
DECLINATION = -1e+32
OFFSET_ANGLE = -1e+32
SPACECRAFT_SOLAR_DISTANCE = 2.38883e+08
TARGET_NAME = MARS
/* CAMERA DATA ELEMENTS */
DETECTOR_TEMPERATURE = 17.5549
FOCAL_PLANE_TEMPERATURE = 7.5638
INST_CMPRS_NAME = "DISCRETE COSINE TRANSFORMATION (DCT)"
INST_CMPRS_RATIO = 6.9504
INST_CMPRS_QUALITY = 0
INST_CMPRS_QUANTZ_TBL_ID = 0
INSTRUMENT_TEMPERATURE = 12.0496
LENS_TEMPERATURE = 7.9716
MACROPIXEL_SIZE = 1
MISSING_FRAMES = 0
PIXEL_SUBSAMPLING_FLAG = N
SIGNAL_CHAIN_ID = 2
/* RADIOMETRIC DATA ELEMENTS */
BANDWIDTH = 180.0
CENTER_FILTER_WAVELENGTH = 677.0
RADIANCE_OFFSET = 2.12503
RADIANCE_SCALING_FACTOR = 0.0108587
REFLECTANCE_SCALING_FACTOR = 0.000323289
MEX:REFLECTANCE_OFFSET = 0.0632669
/* IMAGE OBJECT DEFINITIONS */
OBJECT = IMAGE
  INTERCHANGE_FORMAT = BINARY
  LINES = 15554
  LINE_SAMPLES = 5877
  SAMPLE_TYPE = UNSIGNED_INTEGER
  SAMPLE_BITS = 8
  BANDS = 1
  BAND_STORAGE_TYPE = BAND_SEQUENTIAL
  MAXIMUM = 255
  MEAN = 131.028
  MINIMUM = 1
  STANDARD_DEVIATION = 27.2725
END_OBJECT = IMAGE
/* MAP OBJECT DEFINITIONS */
OBJECT = IMAGE_MAP_PROJECTION
  ^DATA_SET_MAP_PROJECTION_CATALOG= "DSMAP.CAT"
  A_AXIS_RADIUS = 3396.0
  B_AXIS_RADIUS = 3396.0
  C_AXIS_RADIUS = 3396.0
  CENTER_LATITUDE = 0.0
  CENTER_LONGITUDE = 74.0
  COORDINATE_SYSTEM_NAME = PLANETOGRAPHIC
  COORDINATE_SYSTEM_TYPE = "BODY-FIXED ROTATING"
  EASTERNMOST_LONGITUDE = 74.6712
  FIRST_STANDARD_PARALLEL = "N/A"
  LINE_FIRST_PIXEL = 1
  LINE_LAST_PIXEL = 15554
  LINE_PROJECTION_OFFSET = -120928.0
  MAP_PROJECTION_ROTATION = 0.0
  MAP_PROJECTION_TYPE = SINUSOIDAL
  MAP_RESOLUTION = 4741.71043093333
  MAP_SCALE = 0.0125
  MAXIMUM_LATITUDE = -25.5087
  MINIMUM_LATITUDE = -28.7902
  POSITIVE_LONGITUDE_DIRECTION = EAST
  REFERENCE_LATITUDE = "N/A"
  REFERENCE_LONGITUDE = "N/A"
  SAMPLE_FIRST_PIXEL = 1
  SAMPLE_LAST_PIXEL = 5877
  SAMPLE_PROJECTION_OFFSET = 2923.0
  SECOND_STANDARD_PARALLEL = "N/A"
  WESTERNMOST_LONGITUDE = 73.3168
END_OBJECT = IMAGE_MAP_PROJECTION
/* The JPEG2000 image data file associated with this label. */
OBJECT = COMPRESSED_FILE
  FILE_NAME = "HE655_0001_S13.JP2"
  RECORD_TYPE = UNDEFINED
  FILE_RECORDS = UNK
  ENCODING_TYPE = "JP2"
  INTERCHANGE_FORMAT = BINARY
  UNCOMPRESSED_FILE_NAME = "HE655_0001_S13.IMG"
  REQUIRED_STORAGE_BYTES = "91440243"
  ^DESCRIPTION = "JP2INFO.TXT"
END_OBJECT = COMPRESSED_FILE
END
