PDS_VERSION_ID = PDS3
/* FILE DATA ELEMENTS */
RECORD_TYPE = STREAM
/* POINTERS TO DATA OBJECTS */
^COMPRESSED_FILE = "HE655_0001_S23.JP2"
/* IDENTIFICATION DATA ELEMENTS */
DATA_SET_ID = "MEX-M-HRSC-5-REFDR-MAPPROJECTED-V3.0"
DATA_SET_NAME = "MARS EXPRESS HRSC MAP PROJECTED REFDR V3.0"
DETECTOR_ID = MEX_HRSC_S2
EVENT_TYPE = "MARS-LOCAL-STEREO-Im-Fl-Lc"
INSTRUMENT_HOST_ID = MEX
INSTRUMENT_HOST_NAME = "MARS EXPRESS"
INSTRUMENT_ID = HRSC
INSTRUMENT_NAME = "HIGH RESOLUTION STEREO CAMERA"
MISSION_NAME = "MARS EXPRESS"
MISSION_PHASE_NAME = ME_Phase_33
PROCESSING_LEVEL_ID = 3
PRODUCT_CREATION_TIME = 2016-10-30T02:40:36.000Z
PRODUCT_ID = "HE655_0001_S23.JP2"
RELEASE_ID = 0129
REVISION_ID = 0000
/* QUALITY DATA ELEMENTS */
DATA_QUALITY_ID = 1
DATA_QUALITY_DESC = "Data calculated based on original SPICE kernels"
/* TIME DATA ELEMENTS */
SPACECRAFT_CLOCK_START_COUNT = "1/0385633694.09059"
SPACECRAFT_CLOCK_STOP_COUNT = "1/0385633806.01306"
START_TIME = 2015-07-22T08:28:20.152Z
STOP_TIME = 2015-07-22T08:29:10.404Z
/* ORBITAL DATA ELEMENTS */
ASCENDING_NODE_LONGITUDE = 298.48
MAXIMUM_RESOLUTION = 14.1
FOOTPRINT_POINT_LATITUDE = (-28.8231,-28.823,-28.8227,-28.8222, -28.8217,-28.8206,-28.8196,-28.8185, -28.8173,-28.816,-28.8145,-28.8122, -28.6904,-28.6254,-28.5277,-28.4626, -28.3974,-28.3321,-28.2668,-28.2016, -28.1364,-28.0385,-27.9406,-27.8425, -27.7772,-27.712,-27.6142,-27.5491, -27.4514,-27.3861,-27.2883,-27.1913, -27.0333,-26.94,-26.8145,-26.7186, -26.654,-26.5555,-26.4898,-26.4241, -26.3253,-26.2269,-26.1295,-26.0328, -25.9371,-25.8069,-25.7047,-25.637, -25.5712,-25.5045,-25.5079,-25.5094, -25.5104,-25.5114,-25.512,-25.5138, -25.5148,-25.5166,-25.5153,-25.5175, -25.5188,-25.5873,-25.6532,-25.752, -25.8179,-25.9464,-26.0436,-26.1079, -26.2048,-26.3021,-26.3676,-26.4328, -26.5307,-26.6285,-26.7882,-26.884, -26.9814,-27.0468,-27.1449,-27.2102, -27.2753,-27.373,-27.4377,-27.5351, -27.6326,-27.7292,-27.8568,-27.951, -28.0474,-28.1128,-28.1792,-28.2455, -28.3109,-28.3762,-28.4413,-28.539, -28.6365,-28.7016,-28.7672,-28.8231)
FOOTPRINT_POINT_LONGITUDE = (74.6144,74.5099,74.3663,74.2618, 74.1573,74.0006,73.8962,73.7919,73.6875 ,73.583,73.4784,73.3346,73.3115,73.3126 ,73.3143,73.3154,73.3165,73.3175, 73.3185,73.3196,73.3206,73.3222,73.3237 ,73.3251,73.3261,73.3271,73.3286, 73.3296,73.3311,73.3321,73.3335,73.3352 ,73.3392,73.342,73.3454,73.3474,73.3485 ,73.3496,73.3503,73.351,73.352,73.3531, 73.3545,73.3561,73.358,73.3597,73.3596, 73.3596,73.3602,73.3605,73.5277,73.6303 ,73.7328,73.8352,73.9248,74.0144, 74.1167,74.2446,74.3471,74.513,74.5893, 74.6586,74.6587,74.6587,74.6588,74.6599 ,74.6605,74.661,74.6617,74.6622,74.6624 ,74.6626,74.6629,74.6632,74.6649, 74.6658,74.6663,74.6664,74.6666,74.6667 ,74.6669,74.6672,74.6676,74.668,74.6683 ,74.6689,74.6702,74.6716,74.6723, 74.6723,74.6721,74.6718,74.6719,74.6719 ,74.6721,74.6723,74.6725,74.6726, 74.6726,74.6144)
ORBIT_NUMBER = 14655
ORBITAL_ECCENTRICITY = 0.579
ORBITAL_INCLINATION = 86.92
ORBITAL_SEMIMAJOR_AXIS = 8837.77
PERIAPSIS_ALTITUDE = 332.16
PERIAPSIS_ARGUMENT_ANGLE = 331.81
PERIAPSIS_TIME = 2015-07-22T08:29:00.000Z
SPACECRAFT_ORIENTATION = (0.0,1.0,0.0)
^MEX_ORIENTATION_DESC = "MEX_ORIENTATION_DESC.TXT"
SPACECRAFT_POINTING_MODE = NADIR
^MEX_POINTING_DESC = "MEX_POINTING_DESC.TXT"
RIGHT_ASCENSION = -1e+32
DECLINATION = -1e+32
OFFSET_ANGLE = -1e+32
SPACECRAFT_SOLAR_DISTANCE = 2.38883e+08
TARGET_NAME = MARS
/* CAMERA DATA ELEMENTS */
DETECTOR_TEMPERATURE = 18.9822
FOCAL_PLANE_TEMPERATURE = 7.5638
INST_CMPRS_NAME = "DISCRETE COSINE TRANSFORMATION (DCT)"
INST_CMPRS_RATIO = 6.5639
INST_CMPRS_QUALITY = 0
INST_CMPRS_QUANTZ_TBL_ID = 0
INSTRUMENT_TEMPERATURE = 12.0496
LENS_TEMPERATURE = 7.9716
MACROPIXEL_SIZE = 1
MISSING_FRAMES = 0
PIXEL_SUBSAMPLING_FLAG = N
SIGNAL_CHAIN_ID = 1
/* RADIOMETRIC DATA ELEMENTS */
BANDWIDTH = 178.0
CENTER_FILTER_WAVELENGTH = 679.0
RADIANCE_OFFSET = 2.14255
RADIANCE_SCALING_FACTOR = 0.011248
REFLECTANCE_SCALING_FACTOR = 0.000339919
MEX:REFLECTANCE_OFFSET = 0.0647485
/* IMAGE OBJECT DEFINITIONS */
OBJECT = IMAGE
  INTERCHANGE_FORMAT = BINARY
  LINES = 15554
  LINE_SAMPLES = 5877
  SAMPLE_TYPE = UNSIGNED_INTEGER
  SAMPLE_BITS = 8
  BANDS = 1
  BAND_STORAGE_TYPE = BAND_SEQUENTIAL
  MAXIMUM = 255
  MEAN = 132.846
  MINIMUM = 1
  STANDARD_DEVIATION = 30.9918
END_OBJECT = IMAGE
/* MAP OBJECT DEFINITIONS */
OBJECT = IMAGE_MAP_PROJECTION
  ^DATA_SET_MAP_PROJECTION_CATALOG= "DSMAP.CAT"
  A_AXIS_RADIUS = 3396.0
  B_AXIS_RADIUS = 3396.0
  C_AXIS_RADIUS = 3396.0
  CENTER_LATITUDE = 0.0
  CENTER_LONGITUDE = 74.0
  COORDINATE_SYSTEM_NAME = PLANETOGRAPHIC
  COORDINATE_SYSTEM_TYPE = "BODY-FIXED ROTATING"
  EASTERNMOST_LONGITUDE = 74.6726
  FIRST_STANDARD_PARALLEL = "N/A"
  LINE_FIRST_PIXEL = 1
  LINE_LAST_PIXEL = 15554
  LINE_PROJECTION_OFFSET = -120928.0
  MAP_PROJECTION_ROTATION = 0.0
  MAP_PROJECTION_TYPE = SINUSOIDAL
  MAP_RESOLUTION = 4741.71043093333
  MAP_SCALE = 0.0125
  MAXIMUM_LATITUDE = -25.5045
  MINIMUM_LATITUDE = -28.8231
  POSITIVE_LONGITUDE_DIRECTION = EAST
  REFERENCE_LATITUDE = "N/A"
  REFERENCE_LONGITUDE = "N/A"
  SAMPLE_FIRST_PIXEL = 1
  SAMPLE_LAST_PIXEL = 5877
  SAMPLE_PROJECTION_OFFSET = 2923.0
  SECOND_STANDARD_PARALLEL = "N/A"
  WESTERNMOST_LONGITUDE = 73.3115
END_OBJECT = IMAGE_MAP_PROJECTION
/* The JPEG2000 image data file associated with this label. */
OBJECT = COMPRESSED_FILE
  FILE_NAME = "HE655_0001_S23.JP2"
  RECORD_TYPE = UNDEFINED
  FILE_RECORDS = UNK
  ENCODING_TYPE = "JP2"
  INTERCHANGE_FORMAT = BINARY
  UNCOMPRESSED_FILE_NAME = "HE655_0001_S23.IMG"
  REQUIRED_STORAGE_BYTES = "91440243"
  ^DESCRIPTION = "JP2INFO.TXT"
END_OBJECT = COMPRESSED_FILE
END
