PDS_VERSION_ID = PDS3
/* FILE DATA ELEMENTS */
RECORD_TYPE = STREAM
/* POINTERS TO DATA OBJECTS */
^COMPRESSED_FILE = "HE663_0000_IR3.JP2"
/* IDENTIFICATION DATA ELEMENTS */
DATA_SET_ID = "MEX-M-HRSC-5-REFDR-MAPPROJECTED-V3.0"
DATA_SET_NAME = "MARS EXPRESS HRSC MAP PROJECTED REFDR V3.0"
DETECTOR_ID = MEX_HRSC_IR
EVENT_TYPE = "MARS-REGIONAL-MAPPING-Im-Fl"
INSTRUMENT_HOST_ID = MEX
INSTRUMENT_HOST_NAME = "MARS EXPRESS"
INSTRUMENT_ID = HRSC
INSTRUMENT_NAME = "HIGH RESOLUTION STEREO CAMERA"
MISSION_NAME = "MARS EXPRESS"
MISSION_PHASE_NAME = ME_Phase_33
PROCESSING_LEVEL_ID = 3
PRODUCT_CREATION_TIME = 2016-10-30T02:40:36.000Z
PRODUCT_ID = "HE663_0000_IR3.JP2"
RELEASE_ID = 0129
REVISION_ID = 0000
/* QUALITY DATA ELEMENTS */
DATA_QUALITY_ID = 1
DATA_QUALITY_DESC = "Data calculated based on original SPICE kernels"
/* TIME DATA ELEMENTS */
SPACECRAFT_CLOCK_START_COUNT = "1/0385835058.09028"
SPACECRAFT_CLOCK_STOP_COUNT = "1/0385835237.32082"
START_TIME = 2015-07-24T16:25:19.042Z
STOP_TIME = 2015-07-24T16:27:16.175Z
/* ORBITAL DATA ELEMENTS */
ASCENDING_NODE_LONGITUDE = 298.34
MAXIMUM_RESOLUTION = 55.5
FOOTPRINT_POINT_LATITUDE = (-30.2605,-30.2643,-30.2679,-30.2713, -30.2747,-30.2778,-30.2809,-30.0017, -29.8516,-29.7015,-29.5516,-29.4019, -29.1774,-29.0278,-28.8779,-28.6533, -28.5036,-28.354,-28.2044,-28.055, -27.9053,-27.6807,-27.5315,-27.3822, -27.2329,-27.0094,-26.7866,-26.6376, -26.4882,-26.3375,-26.1872,-26.0385, -25.7446,-25.5916,-25.4381,-25.2846, -25.1316,-24.9784,-24.8249,-24.6715, -24.5184,-24.2891,-24.1362,-23.9835, -23.8311,-23.6784,-23.5259,-23.3734, -23.2212,-23.0689,-22.9169,-22.7649, -22.7346,-22.7283,-22.7234,-22.7189, -22.7118,-22.7819,-22.9345,-23.0884, -23.2408,-23.3928,-23.5444,-23.7736, -24.0033,-24.1563,-24.3089,-24.4611, -24.6906,-24.8441,-24.9969,-25.1505, -25.3087,-25.5411,-25.693,-25.9882, -26.2115,-26.3605,-26.5097,-26.6589, -26.8072,-27.0315,-27.1807,-27.4046, -27.6302,-27.8542,-28.0044,-28.2297, -28.3792,-28.5289,-28.7533,-28.9032, -29.0533,-29.2036,-29.3533,-29.5037, -29.6541,-29.8047,-30.0303,-30.2605)
FOOTPRINT_POINT_LONGITUDE = (335.825,335.628,335.43,335.23,335.029, 334.826,334.621,334.554,334.557,334.561 ,334.564,334.567,334.571,334.574, 334.577,334.582,334.584,334.587,334.59, 334.592,334.595,334.6,334.602,334.604, 334.607,334.61,334.613,334.615,334.617, 334.621,334.624,334.626,334.626,334.627 ,334.629,334.631,334.632,334.634, 334.636,334.638,334.639,334.641,334.642 ,334.644,334.645,334.646,334.647, 334.648,334.649,334.65,334.651,334.652, 334.854,335.105,335.292,335.465,335.735 ,335.981,335.98,335.979,335.978,335.976 ,335.975,335.973,335.971,335.97,335.969 ,335.967,335.965,335.964,335.963, 335.961,335.96,335.958,335.957,335.954, 335.952,335.95,335.949,335.948,335.946, 335.944,335.943,335.94,335.938,335.936, 335.934,335.932,335.931,335.929,335.927 ,335.925,335.924,335.922,335.92,335.919 ,335.917,335.915,335.913,335.825)
ORBIT_NUMBER = 14663
ORBITAL_ECCENTRICITY = 0.578
ORBITAL_INCLINATION = 86.92
ORBITAL_SEMIMAJOR_AXIS = 8829.64
PERIAPSIS_ALTITUDE = 332.64
PERIAPSIS_ARGUMENT_ANGLE = 330.43
PERIAPSIS_TIME = 2015-07-24T16:25:07.000Z
SPACECRAFT_ORIENTATION = (0.0,1.0,0.0)
^MEX_ORIENTATION_DESC = "MEX_ORIENTATION_DESC.TXT"
SPACECRAFT_POINTING_MODE = ACROSSTRACK
^MEX_POINTING_DESC = "MEX_POINTING_DESC.TXT"
RIGHT_ASCENSION = -1e+32
DECLINATION = -1e+32
OFFSET_ANGLE = 0.6
SPACECRAFT_SOLAR_DISTANCE = 2.39252e+08
TARGET_NAME = MARS
/* CAMERA DATA ELEMENTS */
DETECTOR_TEMPERATURE = 17.351
FOCAL_PLANE_TEMPERATURE = 7.5638
INST_CMPRS_NAME = "DISCRETE COSINE TRANSFORMATION (DCT)"
INST_CMPRS_RATIO = 9.97956
INST_CMPRS_QUALITY = 0
INST_CMPRS_QUANTZ_TBL_ID = 0
INSTRUMENT_TEMPERATURE = 11.234
LENS_TEMPERATURE = 7.9716
MACROPIXEL_SIZE = 4
MISSING_FRAMES = 0
PIXEL_SUBSAMPLING_FLAG = N
SIGNAL_CHAIN_ID = 2
/* RADIOMETRIC DATA ELEMENTS */
BANDWIDTH = 81.0
CENTER_FILTER_WAVELENGTH = 955.5
RADIANCE_OFFSET = 0.324243
RADIANCE_SCALING_FACTOR = 0.0026898
REFLECTANCE_SCALING_FACTOR = 0.000332168
MEX:REFLECTANCE_OFFSET = 0.0400413
/* IMAGE OBJECT DEFINITIONS */
OBJECT = IMAGE
  INTERCHANGE_FORMAT = BINARY
  LINES = 8995
  LINE_SAMPLES = 1605
  SAMPLE_TYPE = UNSIGNED_INTEGER
  SAMPLE_BITS = 8
  BANDS = 1
  BAND_STORAGE_TYPE = BAND_SEQUENTIAL
  MAXIMUM = 255
  MEAN = 121.955
  MINIMUM = 1
  STANDARD_DEVIATION = 25.9258
END_OBJECT = IMAGE
/* MAP OBJECT DEFINITIONS */
OBJECT = IMAGE_MAP_PROJECTION
  ^DATA_SET_MAP_PROJECTION_CATALOG= "DSMAP.CAT"
  A_AXIS_RADIUS = 3396.0
  B_AXIS_RADIUS = 3396.0
  C_AXIS_RADIUS = 3396.0
  CENTER_LATITUDE = 0.0
  CENTER_LONGITUDE = 335.0
  COORDINATE_SYSTEM_NAME = PLANETOGRAPHIC
  COORDINATE_SYSTEM_TYPE = "BODY-FIXED ROTATING"
  EASTERNMOST_LONGITUDE = 335.981
  FIRST_STANDARD_PARALLEL = "N/A"
  LINE_FIRST_PIXEL = 1
  LINE_LAST_PIXEL = 8995
  LINE_PROJECTION_OFFSET = -26922.375
  MAP_PROJECTION_ROTATION = 0.0
  MAP_PROJECTION_TYPE = SINUSOIDAL
  MAP_RESOLUTION = 1185.42760773333
  MAP_SCALE = 0.05
  MAXIMUM_LATITUDE = -22.7118
  MINIMUM_LATITUDE = -30.2809
  POSITIVE_LONGITUDE_DIRECTION = EAST
  REFERENCE_LATITUDE = "N/A"
  REFERENCE_LONGITUDE = "N/A"
  SAMPLE_FIRST_PIXEL = 1
  SAMPLE_LAST_PIXEL = 1605
  SAMPLE_PROJECTION_OFFSET = 542.125
  SECOND_STANDARD_PARALLEL = "N/A"
  WESTERNMOST_LONGITUDE = 334.554
END_OBJECT = IMAGE_MAP_PROJECTION
/* The JPEG2000 image data file associated with this label. */
OBJECT = COMPRESSED_FILE
  FILE_NAME = "HE663_0000_IR3.JP2"
  RECORD_TYPE = UNDEFINED
  FILE_RECORDS = UNK
  ENCODING_TYPE = "JP2"
  INTERCHANGE_FORMAT = BINARY
  UNCOMPRESSED_FILE_NAME = "HE663_0000_IR3.IMG"
  REQUIRED_STORAGE_BYTES = "14456235"
  ^DESCRIPTION = "JP2INFO.TXT"
END_OBJECT = COMPRESSED_FILE
END
