PDS_VERSION_ID = PDS3
/* FILE DATA ELEMENTS */
RECORD_TYPE = STREAM
/* POINTERS TO DATA OBJECTS */
^COMPRESSED_FILE = "HE663_0000_P13.JP2"
/* IDENTIFICATION DATA ELEMENTS */
DATA_SET_ID = "MEX-M-HRSC-5-REFDR-MAPPROJECTED-V3.0"
DATA_SET_NAME = "MARS EXPRESS HRSC MAP PROJECTED REFDR V3.0"
DETECTOR_ID = MEX_HRSC_P1
EVENT_TYPE = "MARS-REGIONAL-MAPPING-Im-Fl"
INSTRUMENT_HOST_ID = MEX
INSTRUMENT_HOST_NAME = "MARS EXPRESS"
INSTRUMENT_ID = HRSC
INSTRUMENT_NAME = "HIGH RESOLUTION STEREO CAMERA"
MISSION_NAME = "MARS EXPRESS"
MISSION_PHASE_NAME = ME_Phase_33
PROCESSING_LEVEL_ID = 3
PRODUCT_CREATION_TIME = 2016-10-30T02:40:36.000Z
PRODUCT_ID = "HE663_0000_P13.JP2"
RELEASE_ID = 0129
REVISION_ID = 0000
/* QUALITY DATA ELEMENTS */
DATA_QUALITY_ID = 1
DATA_QUALITY_DESC = "Data calculated based on original SPICE kernels"
/* TIME DATA ELEMENTS */
SPACECRAFT_CLOCK_START_COUNT = "1/0385835058.09028"
SPACECRAFT_CLOCK_STOP_COUNT = "1/0385835237.32082"
START_TIME = 2015-07-24T16:25:13.922Z
STOP_TIME = 2015-07-24T16:27:10.778Z
/* ORBITAL DATA ELEMENTS */
ASCENDING_NODE_LONGITUDE = 298.34
MAXIMUM_RESOLUTION = 54.6
FOOTPRINT_POINT_LATITUDE = (-30.2687,-30.2713,-30.2737,-30.2759, -30.2779,-30.2798,-30.2261,-30.072, -29.9218,-29.6964,-29.4713,-29.3215, -29.1713,-29.0215,-28.8714,-28.7213, -28.5714,-28.3465,-28.1967,-28.0468, -27.8968,-27.7469,-27.5972,-27.4476, -27.2979,-27.1482,-26.999,-26.8501, -26.7007,-26.5511,-26.4005,-26.2502, -25.9533,-25.5829,-25.357,-25.2033, -25.0497,-24.8957,-24.6649,-24.5111, -24.3578,-24.2043,-24.0511,-23.8212, -23.6679,-23.5149,-23.2854,-23.1323, -22.9796,-22.7505,-22.7263,-22.7199, -22.7165,-22.7113,-22.7833,-22.9365, -23.0907,-23.2437,-23.3963,-23.6254, -23.7792,-23.933,-24.0865,-24.2398, -24.4695,-24.6228,-24.777,-24.9304, -25.0845,-25.2399,-25.3977,-25.5476, -25.8411,-25.9905,-26.2144,-26.4387, -26.5883,-26.8119,-26.9619,-27.1115, -27.2612,-27.4108,-27.5617,-27.7111, -27.8612,-28.0115,-28.1621,-28.3119, -28.462,-28.6121,-28.7619,-28.9121, -29.0625,-29.2128,-29.3629,-29.5888, -29.7395,-29.8903,-30.0406,-30.2687)
FOOTPRINT_POINT_LONGITUDE = (335.813,335.616,335.418,335.219, 335.018,334.815,334.547,334.555,334.558 ,334.563,334.568,334.571,334.574, 334.577,334.58,334.583,334.586,334.591, 334.593,334.596,334.599,334.602,334.604 ,334.607,334.609,334.612,334.614, 334.615,334.618,334.62,334.624,334.627, 334.629,334.631,334.634,334.636,334.637 ,334.639,334.642,334.644,334.645, 334.646,334.647,334.649,334.651,334.652 ,334.653,334.654,334.655,334.657,334.97 ,335.305,335.478,335.734,335.979, 335.978,335.977,335.975,335.974,335.972 ,335.971,335.97,335.969,335.967,335.965 ,335.964,335.963,335.962,335.96,335.959 ,335.958,335.956,335.954,335.952,335.95 ,335.948,335.947,335.945,335.944, 335.942,335.941,335.939,335.938,335.936 ,335.935,335.934,335.932,335.931, 335.929,335.928,335.926,335.924,335.923 ,335.921,335.92,335.917,335.916,335.914 ,335.912,335.813)
ORBIT_NUMBER = 14663
ORBITAL_ECCENTRICITY = 0.578
ORBITAL_INCLINATION = 86.92
ORBITAL_SEMIMAJOR_AXIS = 8829.64
PERIAPSIS_ALTITUDE = 332.64
PERIAPSIS_ARGUMENT_ANGLE = 330.43
PERIAPSIS_TIME = 2015-07-24T16:25:07.000Z
SPACECRAFT_ORIENTATION = (0.0,1.0,0.0)
^MEX_ORIENTATION_DESC = "MEX_ORIENTATION_DESC.TXT"
SPACECRAFT_POINTING_MODE = ACROSSTRACK
^MEX_POINTING_DESC = "MEX_POINTING_DESC.TXT"
RIGHT_ASCENSION = -1e+32
DECLINATION = -1e+32
OFFSET_ANGLE = 0.6
SPACECRAFT_SOLAR_DISTANCE = 2.39252e+08
TARGET_NAME = MARS
/* CAMERA DATA ELEMENTS */
DETECTOR_TEMPERATURE = 17.351
FOCAL_PLANE_TEMPERATURE = 7.5638
INST_CMPRS_NAME = "DISCRETE COSINE TRANSFORMATION (DCT)"
INST_CMPRS_RATIO = 11.8776
INST_CMPRS_QUALITY = 0
INST_CMPRS_QUANTZ_TBL_ID = 0
INSTRUMENT_TEMPERATURE = 11.234
LENS_TEMPERATURE = 7.9716
MACROPIXEL_SIZE = 4
MISSING_FRAMES = 0
PIXEL_SUBSAMPLING_FLAG = N
SIGNAL_CHAIN_ID = 3
/* RADIOMETRIC DATA ELEMENTS */
BANDWIDTH = 174.0
CENTER_FILTER_WAVELENGTH = 675.0
RADIANCE_OFFSET = 1.64705
RADIANCE_SCALING_FACTOR = 0.0106574
REFLECTANCE_SCALING_FACTOR = 0.000328129
MEX:REFLECTANCE_OFFSET = 0.0507108
/* IMAGE OBJECT DEFINITIONS */
OBJECT = IMAGE
  INTERCHANGE_FORMAT = BINARY
  LINES = 8995
  LINE_SAMPLES = 1605
  SAMPLE_TYPE = UNSIGNED_INTEGER
  SAMPLE_BITS = 8
  BANDS = 1
  BAND_STORAGE_TYPE = BAND_SEQUENTIAL
  MAXIMUM = 255
  MEAN = 128.383
  MINIMUM = 1
  STANDARD_DEVIATION = 25.8358
END_OBJECT = IMAGE
/* MAP OBJECT DEFINITIONS */
OBJECT = IMAGE_MAP_PROJECTION
  ^DATA_SET_MAP_PROJECTION_CATALOG= "DSMAP.CAT"
  A_AXIS_RADIUS = 3396.0
  B_AXIS_RADIUS = 3396.0
  C_AXIS_RADIUS = 3396.0
  CENTER_LATITUDE = 0.0
  CENTER_LONGITUDE = 335.0
  COORDINATE_SYSTEM_NAME = PLANETOGRAPHIC
  COORDINATE_SYSTEM_TYPE = "BODY-FIXED ROTATING"
  EASTERNMOST_LONGITUDE = 335.979
  FIRST_STANDARD_PARALLEL = "N/A"
  LINE_FIRST_PIXEL = 1
  LINE_LAST_PIXEL = 8995
  LINE_PROJECTION_OFFSET = -26922.375
  MAP_PROJECTION_ROTATION = 0.0
  MAP_PROJECTION_TYPE = SINUSOIDAL
  MAP_RESOLUTION = 1185.42760773333
  MAP_SCALE = 0.05
  MAXIMUM_LATITUDE = -22.7113
  MINIMUM_LATITUDE = -30.2798
  POSITIVE_LONGITUDE_DIRECTION = EAST
  REFERENCE_LATITUDE = "N/A"
  REFERENCE_LONGITUDE = "N/A"
  SAMPLE_FIRST_PIXEL = 1
  SAMPLE_LAST_PIXEL = 1605
  SAMPLE_PROJECTION_OFFSET = 542.125
  SECOND_STANDARD_PARALLEL = "N/A"
  WESTERNMOST_LONGITUDE = 334.547
END_OBJECT = IMAGE_MAP_PROJECTION
/* The JPEG2000 image data file associated with this label. */
OBJECT = COMPRESSED_FILE
  FILE_NAME = "HE663_0000_P13.JP2"
  RECORD_TYPE = UNDEFINED
  FILE_RECORDS = UNK
  ENCODING_TYPE = "JP2"
  INTERCHANGE_FORMAT = BINARY
  UNCOMPRESSED_FILE_NAME = "HE663_0000_P13.IMG"
  REQUIRED_STORAGE_BYTES = "14456235"
  ^DESCRIPTION = "JP2INFO.TXT"
END_OBJECT = COMPRESSED_FILE
END
