PDS_VERSION_ID = PDS3
/* FILE DATA ELEMENTS */
RECORD_TYPE = STREAM
/* POINTERS TO DATA OBJECTS */
^COMPRESSED_FILE = "HE664_0000_BL3.JP2"
/* IDENTIFICATION DATA ELEMENTS */
DATA_SET_ID = "MEX-M-HRSC-5-REFDR-MAPPROJECTED-V3.0"
DATA_SET_NAME = "MARS EXPRESS HRSC MAP PROJECTED REFDR V3.0"
DETECTOR_ID = MEX_HRSC_BLUE
EVENT_TYPE = "MARS-REGIONAL-MAPPING-Vo-Gl"
INSTRUMENT_HOST_ID = MEX
INSTRUMENT_HOST_NAME = "MARS EXPRESS"
INSTRUMENT_ID = HRSC
INSTRUMENT_NAME = "HIGH RESOLUTION STEREO CAMERA"
MISSION_NAME = "MARS EXPRESS"
MISSION_PHASE_NAME = ME_Phase_33
PROCESSING_LEVEL_ID = 3
PRODUCT_CREATION_TIME = 2016-10-30T02:40:36.000Z
PRODUCT_ID = "HE664_0000_BL3.JP2"
RELEASE_ID = 0129
REVISION_ID = 0000
/* QUALITY DATA ELEMENTS */
DATA_QUALITY_ID = 1
DATA_QUALITY_DESC = "Data calculated based on original SPICE kernels"
/* TIME DATA ELEMENTS */
SPACECRAFT_CLOCK_START_COUNT = "1/0385860518.09062"
SPACECRAFT_CLOCK_STOP_COUNT = "1/0385860849.09966"
START_TIME = 2015-07-24T23:29:13.456Z
STOP_TIME = 2015-07-24T23:33:02.422Z
/* ORBITAL DATA ELEMENTS */
ASCENDING_NODE_LONGITUDE = 298.32
MAXIMUM_RESOLUTION = 124.7
FOOTPRINT_POINT_LATITUDE = (-11.3169,-11.3242,-11.3321,-11.3391, -10.9128,-10.6234,-10.3345,-9.90155, -9.46914,-9.18131,-8.89386,-8.60692, -8.1769,-7.89031,-7.46065,-7.17595, -6.74875,-6.4644,-6.18034,-5.89665, -5.61332,-5.33056,-4.90663,-4.62457, -4.34291,-4.06193,-3.78101,-3.50044, -3.22076,-2.94117,-2.66212,-2.38336, -2.10512,-1.8272,-1.54975,-1.27268, -0.9961,-0.720002,-0.444317,-0.169052, 0.105779,0.380156,0.653991,0.927459, 1.20064,1.47321,1.74528,2.28812,2.77876 ,2.7871,2.79318,2.7995,2.80531,2.81261, 2.2708,1.7287,1.45685,1.18398,0.910611, 0.636794,0.362537,0.0878716,-0.187353, -0.462886,-0.738894,-1.01535,-1.29229, -1.56968,-1.84748,-2.12578,-2.40448, -2.68357,-2.96306,-3.24296,-3.52329, -3.80396,-4.08518,-4.36684,-4.6488, -4.93124,-5.2138,-5.49687,-5.78021, -6.06406,-6.3484,-6.6328,-6.91781, -7.20306,-7.63208,-7.91807,-8.20468, -8.49162,-8.77887,-9.06678,-9.49955, -9.93228,-10.2211,-10.5102,-10.8002, -11.3169)
FOOTPRINT_POINT_LONGITUDE = (235.185,234.82,234.394,233.975,233.764 ,233.758,233.751,233.742,233.732, 233.725,233.718,233.711,233.7,233.693, 233.682,233.675,233.663,233.656,233.648 ,233.64,233.632,233.624,233.612,233.604 ,233.595,233.587,233.578,233.57,233.561 ,233.552,233.543,233.534,233.525, 233.516,233.507,233.498,233.488,233.479 ,233.469,233.46,233.45,233.44,233.43, 233.42,233.41,233.4,233.39,233.369, 233.35,233.766,234.065,234.4,234.736, 235.229,235.223,235.221,235.22,235.217, 235.215,235.212,235.21,235.208,235.205, 235.203,235.201,235.199,235.197,235.196 ,235.194,235.192,235.19,235.188,235.186 ,235.185,235.183,235.182,235.18,235.178 ,235.177,235.175,235.175,235.174, 235.173,235.172,235.17,235.17,235.169, 235.168,235.166,235.166,235.165,235.164 ,235.164,235.162,235.159,235.158, 235.158,235.158,235.156,235.185)
ORBIT_NUMBER = 14664
ORBITAL_ECCENTRICITY = 0.579
ORBITAL_INCLINATION = 86.91
ORBITAL_SEMIMAJOR_AXIS = 8836.34
PERIAPSIS_ALTITUDE = 331.89
PERIAPSIS_ARGUMENT_ANGLE = 330.24
PERIAPSIS_TIME = 2015-07-24T23:24:36.000Z
SPACECRAFT_ORIENTATION = (0.0,1.0,0.0)
^MEX_ORIENTATION_DESC = "MEX_ORIENTATION_DESC.TXT"
SPACECRAFT_POINTING_MODE = ACROSSTRACK
^MEX_POINTING_DESC = "MEX_POINTING_DESC.TXT"
RIGHT_ASCENSION = -1e+32
DECLINATION = -1e+32
OFFSET_ANGLE = -0.75
SPACECRAFT_SOLAR_DISTANCE = 2.39298e+08
TARGET_NAME = MARS
/* CAMERA DATA ELEMENTS */
DETECTOR_TEMPERATURE = 17.9627
FOCAL_PLANE_TEMPERATURE = 7.7677
INST_CMPRS_NAME = "DISCRETE COSINE TRANSFORMATION (DCT)"
INST_CMPRS_RATIO = 15.7703
INST_CMPRS_QUALITY = 0
INST_CMPRS_QUANTZ_TBL_ID = 0
INSTRUMENT_TEMPERATURE = 10.8262
LENS_TEMPERATURE = 7.7677
MACROPIXEL_SIZE = 8
MISSING_FRAMES = 0
PIXEL_SUBSAMPLING_FLAG = N
SIGNAL_CHAIN_ID = 2
/* RADIOMETRIC DATA ELEMENTS */
BANDWIDTH = 76.0
CENTER_FILTER_WAVELENGTH = 444.0
RADIANCE_OFFSET = 0.314576
RADIANCE_SCALING_FACTOR = 0.00280371
REFLECTANCE_SCALING_FACTOR = 0.000164956
MEX:REFLECTANCE_OFFSET = 0.018508
/* IMAGE OBJECT DEFINITIONS */
OBJECT = IMAGE
  INTERCHANGE_FORMAT = BINARY
  LINES = 8390
  LINE_SAMPLES = 1200
  SAMPLE_TYPE = UNSIGNED_INTEGER
  SAMPLE_BITS = 8
  BANDS = 1
  BAND_STORAGE_TYPE = BAND_SEQUENTIAL
  MAXIMUM = 255
  MEAN = 127.06
  MINIMUM = 1
  STANDARD_DEVIATION = 18.7724
END_OBJECT = IMAGE
/* MAP OBJECT DEFINITIONS */
OBJECT = IMAGE_MAP_PROJECTION
  ^DATA_SET_MAP_PROJECTION_CATALOG= "DSMAP.CAT"
  A_AXIS_RADIUS = 3396.0
  B_AXIS_RADIUS = 3396.0
  C_AXIS_RADIUS = 3396.0
  CENTER_LATITUDE = 0.0
  CENTER_LONGITUDE = 234.0
  COORDINATE_SYSTEM_NAME = PLANETOGRAPHIC
  COORDINATE_SYSTEM_TYPE = "BODY-FIXED ROTATING"
  EASTERNMOST_LONGITUDE = 235.229
  FIRST_STANDARD_PARALLEL = "N/A"
  LINE_FIRST_PIXEL = 1
  LINE_LAST_PIXEL = 8390
  LINE_PROJECTION_OFFSET = 1664.4375
  MAP_PROJECTION_ROTATION = 0.0
  MAP_PROJECTION_TYPE = SINUSOIDAL
  MAP_RESOLUTION = 592.713803866667
  MAP_SCALE = 0.1
  MAXIMUM_LATITUDE = 2.81261
  MINIMUM_LATITUDE = -11.3391
  POSITIVE_LONGITUDE_DIRECTION = EAST
  REFERENCE_LATITUDE = "N/A"
  REFERENCE_LONGITUDE = "N/A"
  SAMPLE_FIRST_PIXEL = 1
  SAMPLE_LAST_PIXEL = 1200
  SAMPLE_PROJECTION_OFFSET = 406.9375
  SECOND_STANDARD_PARALLEL = "N/A"
  WESTERNMOST_LONGITUDE = 233.35
END_OBJECT = IMAGE_MAP_PROJECTION
/* The JPEG2000 image data file associated with this label. */
OBJECT = COMPRESSED_FILE
  FILE_NAME = "HE664_0000_BL3.JP2"
  RECORD_TYPE = UNDEFINED
  FILE_RECORDS = UNK
  ENCODING_TYPE = "JP2"
  INTERCHANGE_FORMAT = BINARY
  UNCOMPRESSED_FILE_NAME = "HE664_0000_BL3.IMG"
  REQUIRED_STORAGE_BYTES = "10086000"
  ^DESCRIPTION = "JP2INFO.TXT"
END_OBJECT = COMPRESSED_FILE
END
