PDS_VERSION_ID = PDS3
/* FILE DATA ELEMENTS */
RECORD_TYPE = STREAM
/* POINTERS TO DATA OBJECTS */
^COMPRESSED_FILE = "HE668_0000_RE3.JP2"
/* IDENTIFICATION DATA ELEMENTS */
DATA_SET_ID = "MEX-M-HRSC-5-REFDR-MAPPROJECTED-V3.0"
DATA_SET_NAME = "MARS EXPRESS HRSC MAP PROJECTED REFDR V3.0"
DETECTOR_ID = MEX_HRSC_RED
EVENT_TYPE = "MARS-REGIONAL-MAPPING-Im-Fl"
INSTRUMENT_HOST_ID = MEX
INSTRUMENT_HOST_NAME = "MARS EXPRESS"
INSTRUMENT_ID = HRSC
INSTRUMENT_NAME = "HIGH RESOLUTION STEREO CAMERA"
MISSION_NAME = "MARS EXPRESS"
MISSION_PHASE_NAME = ME_Phase_33
PROCESSING_LEVEL_ID = 3
PRODUCT_CREATION_TIME = 2016-10-30T02:40:36.000Z
PRODUCT_ID = "HE668_0000_RE3.JP2"
RELEASE_ID = 0129
REVISION_ID = 0000
/* QUALITY DATA ELEMENTS */
DATA_QUALITY_ID = 1
DATA_QUALITY_DESC = "Data calculated based on original SPICE kernels"
/* TIME DATA ELEMENTS */
SPACECRAFT_CLOCK_START_COUNT = "1/0385961088.08270"
SPACECRAFT_CLOCK_STOP_COUNT = "1/0385961298.21743"
START_TIME = 2015-07-26T03:24:59.451Z
STOP_TIME = 2015-07-26T03:27:13.391Z
/* ORBITAL DATA ELEMENTS */
ASCENDING_NODE_LONGITUDE = 298.24
MAXIMUM_RESOLUTION = 115.1
FOOTPRINT_POINT_LATITUDE = (-20.3078,-20.3051,-20.3027,-20.3001, -20.2971,-20.1237,-19.9595,-19.7956, -19.5497,-19.3853,-19.2214,-19.0581, -18.8945,-18.7302,-18.4842,-18.3204, -18.1564,-17.9922,-17.828,-17.6643, -17.4995,-17.3337,-17.0902,-16.9255, -16.6005,-16.4343,-16.2689,-16.1046, -15.9407,-15.6949,-15.4489,-15.2848, -15.12,-14.7971,-14.6325,-14.4681, -14.1729,-13.9757,-13.7827,-13.5878, -13.3901,-13.1916,-12.9972,-12.6993, -12.5016,-12.2152,-12.0197,-11.8183, -11.6228,-11.4541,-11.4565,-11.461, -11.4561,-11.456,-11.5552,-11.7517, -11.9517,-12.2447,-12.4408,-12.6374, -12.9308,-13.1271,-13.3224,-13.618, -13.8176,-14.0105,-14.2043,-14.491, -14.6546,-14.8188,-14.9834,-15.148, -15.3126,-15.4767,-15.7243,-15.8901, -16.0537,-16.2182,-16.4653,-16.6306, -16.7959,-16.961,-17.1238,-17.2854, -17.5336,-17.78,-18.0261,-18.1906, -18.436,-18.6818,-18.846,-19.0109, -19.1754,-19.3392,-19.5034,-19.6674, -19.914,-20.0784,-20.2419,-20.3078)
FOOTPRINT_POINT_LONGITUDE = (184.835,184.514,184.299,184.108, 183.916,183.846,183.846,183.846,183.845 ,183.844,183.844,183.843,183.843, 183.842,183.841,183.84,183.839,183.838, 183.837,183.836,183.834,183.833,183.832 ,183.83,183.829,183.826,183.824,183.822 ,183.821,183.818,183.816,183.814, 183.812,183.81,183.808,183.805,183.801, 183.797,183.796,183.793,183.789,183.785 ,183.783,183.776,183.772,183.77,183.766 ,183.76,183.756,183.896,184.132,184.445 ,184.68,184.953,185.143,185.142,185.14, 185.14,185.139,185.138,185.137,185.137, 185.136,185.135,185.134,185.134,185.134 ,185.134,185.134,185.134,185.133, 185.133,185.132,185.132,185.131,185.13, 185.13,185.13,185.129,185.128,185.128, 185.127,185.127,185.127,185.127,185.126 ,185.126,185.125,185.125,185.125, 185.124,185.124,185.124,185.123,185.123 ,185.123,185.122,185.122,185.122, 184.835)
ORBIT_NUMBER = 14668
ORBITAL_ECCENTRICITY = 0.578
ORBITAL_INCLINATION = 86.92
ORBITAL_SEMIMAJOR_AXIS = 8828.15
PERIAPSIS_ALTITUDE = 332.57
PERIAPSIS_ARGUMENT_ANGLE = 329.59
PERIAPSIS_TIME = 2015-07-26T03:22:51.000Z
SPACECRAFT_ORIENTATION = (0.0,1.0,0.0)
^MEX_ORIENTATION_DESC = "MEX_ORIENTATION_DESC.TXT"
SPACECRAFT_POINTING_MODE = ACROSSTRACK
^MEX_POINTING_DESC = "MEX_POINTING_DESC.TXT"
RIGHT_ASCENSION = -1e+32
DECLINATION = -1e+32
OFFSET_ANGLE = 0.17
SPACECRAFT_SOLAR_DISTANCE = 2.3948e+08
TARGET_NAME = MARS
/* CAMERA DATA ELEMENTS */
DETECTOR_TEMPERATURE = 18.5744
FOCAL_PLANE_TEMPERATURE = 7.9716
INST_CMPRS_NAME = "DISCRETE COSINE TRANSFORMATION (DCT)"
INST_CMPRS_RATIO = 8.13152
INST_CMPRS_QUALITY = 0
INST_CMPRS_QUANTZ_TBL_ID = 0
INSTRUMENT_TEMPERATURE = 11.4379
LENS_TEMPERATURE = 8.5833
MACROPIXEL_SIZE = 8
MISSING_FRAMES = 0
PIXEL_SUBSAMPLING_FLAG = N
SIGNAL_CHAIN_ID = 2
/* RADIOMETRIC DATA ELEMENTS */
BANDWIDTH = 48.0
CENTER_FILTER_WAVELENGTH = 748.0
RADIANCE_OFFSET = 0.570049
RADIANCE_SCALING_FACTOR = 0.00651484
REFLECTANCE_SCALING_FACTOR = 0.000852648
MEX:REFLECTANCE_OFFSET = 0.0746067
/* IMAGE OBJECT DEFINITIONS */
OBJECT = IMAGE
  INTERCHANGE_FORMAT = BINARY
  LINES = 5236
  LINE_SAMPLES = 882
  SAMPLE_TYPE = UNSIGNED_INTEGER
  SAMPLE_BITS = 8
  BANDS = 1
  BAND_STORAGE_TYPE = BAND_SEQUENTIAL
  MAXIMUM = 255
  MEAN = 122.119
  MINIMUM = 1
  STANDARD_DEVIATION = 21.823
END_OBJECT = IMAGE
/* MAP OBJECT DEFINITIONS */
OBJECT = IMAGE_MAP_PROJECTION
  ^DATA_SET_MAP_PROJECTION_CATALOG= "DSMAP.CAT"
  A_AXIS_RADIUS = 3396.0
  B_AXIS_RADIUS = 3396.0
  C_AXIS_RADIUS = 3396.0
  CENTER_LATITUDE = 0.0
  CENTER_LONGITUDE = 184.0
  COORDINATE_SYSTEM_NAME = PLANETOGRAPHIC
  COORDINATE_SYSTEM_TYPE = "BODY-FIXED ROTATING"
  EASTERNMOST_LONGITUDE = 185.143
  FIRST_STANDARD_PARALLEL = "N/A"
  LINE_FIRST_PIXEL = 1
  LINE_LAST_PIXEL = 5236
  LINE_PROJECTION_OFFSET = -6797.8125
  MAP_PROJECTION_ROTATION = 0.0
  MAP_PROJECTION_TYPE = SINUSOIDAL
  MAP_RESOLUTION = 592.713803866667
  MAP_SCALE = 0.1
  MAXIMUM_LATITUDE = -11.4541
  MINIMUM_LATITUDE = -20.3078
  POSITIVE_LONGITUDE_DIRECTION = EAST
  REFERENCE_LATITUDE = "N/A"
  REFERENCE_LONGITUDE = "N/A"
  SAMPLE_FIRST_PIXEL = 1
  SAMPLE_LAST_PIXEL = 882
  SAMPLE_PROJECTION_OFFSET = 187.6875
  SECOND_STANDARD_PARALLEL = "N/A"
  WESTERNMOST_LONGITUDE = 183.756
END_OBJECT = IMAGE_MAP_PROJECTION
/* The JPEG2000 image data file associated with this label. */
OBJECT = COMPRESSED_FILE
  FILE_NAME = "HE668_0000_RE3.JP2"
  RECORD_TYPE = UNDEFINED
  FILE_RECORDS = UNK
  ENCODING_TYPE = "JP2"
  INTERCHANGE_FORMAT = BINARY
  UNCOMPRESSED_FILE_NAME = "HE668_0000_RE3.IMG"
  REQUIRED_STORAGE_BYTES = "4636674"
  ^DESCRIPTION = "JP2INFO.TXT"
END_OBJECT = COMPRESSED_FILE
END
