PDS_VERSION_ID = PDS3
/* FILE DATA ELEMENTS */
RECORD_TYPE = STREAM
/* POINTERS TO DATA OBJECTS */
^COMPRESSED_FILE = "HE673_0000_RE3.JP2"
/* IDENTIFICATION DATA ELEMENTS */
DATA_SET_ID = "MEX-M-HRSC-5-REFDR-MAPPROJECTED-V3.0"
DATA_SET_NAME = "MARS EXPRESS HRSC MAP PROJECTED REFDR V3.0"
DETECTOR_ID = MEX_HRSC_RED
EVENT_TYPE = "MARS-REGIONAL-MAPPING-Im-Fl"
INSTRUMENT_HOST_ID = MEX
INSTRUMENT_HOST_NAME = "MARS EXPRESS"
INSTRUMENT_ID = HRSC
INSTRUMENT_NAME = "HIGH RESOLUTION STEREO CAMERA"
MISSION_NAME = "MARS EXPRESS"
MISSION_PHASE_NAME = ME_Phase_33
PROCESSING_LEVEL_ID = 3
PRODUCT_CREATION_TIME = 2016-10-30T02:40:36.000Z
PRODUCT_ID = "HE673_0000_RE3.JP2"
RELEASE_ID = 0129
REVISION_ID = 0000
/* QUALITY DATA ELEMENTS */
DATA_QUALITY_ID = 1
DATA_QUALITY_DESC = "Data calculated based on original SPICE kernels"
/* TIME DATA ELEMENTS */
SPACECRAFT_CLOCK_START_COUNT = "1/0386087042.09059"
SPACECRAFT_CLOCK_STOP_COUNT = "1/0386087296.07691"
START_TIME = 2015-07-27T14:24:14.021Z
STOP_TIME = 2015-07-27T14:26:54.225Z
/* ORBITAL DATA ELEMENTS */
ASCENDING_NODE_LONGITUDE = 298.15
MAXIMUM_RESOLUTION = 123.5
FOOTPRINT_POINT_LATITUDE = (-15.0964,-15.0861,-15.0803,-15.0738, -14.8701,-14.6663,-14.361,-14.1575, -13.9544,-13.7509,-13.5477,-13.3446, -13.1418,-12.9391,-12.7367,-12.5343, -12.3314,-12.1286,-11.9257,-11.7233, -11.5212,-11.3189,-11.1182,-10.9092, -10.6055,-10.4027,-10.2008,-10.0026, -9.79728,-9.4937,-9.18284,-8.97577, -8.66537,-8.46511,-8.15027,-7.93567, -7.72258,-7.51048,-7.2961,-7.08234, -6.76088,-6.54377,-6.32768,-6.11096, -5.89171,-5.6705,-5.44903,-5.11569, -4.89315,-4.62908,-4.63448,-4.63853, -4.64054,-4.64397,-4.76406,-4.99113, -5.32353,-5.54513,-5.76683,-6.09883, -6.3153,-6.53199,-6.74878,-6.96594, -7.18155,-7.39364,-7.71217,-8.03, -8.34664,-8.55487,-8.76382,-8.97067, -9.17806,-9.38593,-9.59085,-9.89481, -10.0975,-10.2989,-10.4965,-10.7048, -11.0088,-11.2122,-11.4148,-11.7177, -11.9224,-12.1248,-12.3279,-12.5312, -12.8361,-13.1418,-13.4459,-13.6488, -13.8521,-14.0555,-14.2593,-14.4629, -14.6667,-14.8702,-15.0739,-15.0964)
FOOTPRINT_POINT_LONGITUDE = (33.0879,32.6855,32.4826,32.0966, 32.0945,32.0922,32.0889,32.0866,32.0843 ,32.0818,32.0793,32.0768,32.0744, 32.0719,32.0695,32.067,32.0641,32.0611, 32.0579,32.0549,32.0521,32.0489,32.0467 ,32.039,32.0335,32.0296,32.026,32.0247, 32.0188,32.0125,32.0062,32.002,31.9956, 31.9954,31.9874,31.9811,31.9756,31.9706 ,31.964,31.9579,31.9525,31.9469,31.9419 ,31.9362,31.9308,31.9253,31.9194, 31.9097,31.9039,32.0013,32.3174,32.5417 ,32.7792,33.0604,33.4807,33.4796, 33.4781,33.4771,33.4761,33.4745,33.4736 ,33.4726,33.4717,33.4707,33.4698, 33.4688,33.4674,33.4661,33.4647,33.4638 ,33.4627,33.4619,33.461,33.4601,33.4593 ,33.458,33.4571,33.4563,33.4558,33.4545 ,33.4532,33.4523,33.4515,33.4503, 33.4493,33.4485,33.4476,33.4467,33.4454 ,33.4441,33.4428,33.442,33.4411,33.4402 ,33.4393,33.4384,33.4375,33.4366, 33.4357,33.0879)
ORBIT_NUMBER = 14673
ORBITAL_ECCENTRICITY = 0.579
ORBITAL_INCLINATION = 86.9
ORBITAL_SEMIMAJOR_AXIS = 8833.34
PERIAPSIS_ALTITUDE = 332.27
PERIAPSIS_ARGUMENT_ANGLE = 328.74
PERIAPSIS_TIME = 2015-07-27T14:20:34.000Z
SPACECRAFT_ORIENTATION = (0.0,1.0,0.0)
^MEX_ORIENTATION_DESC = "MEX_ORIENTATION_DESC.TXT"
SPACECRAFT_POINTING_MODE = ACROSSTRACK
^MEX_POINTING_DESC = "MEX_POINTING_DESC.TXT"
RIGHT_ASCENSION = -1e+32
DECLINATION = -1e+32
OFFSET_ANGLE = 0.55
SPACECRAFT_SOLAR_DISTANCE = 2.39706e+08
TARGET_NAME = MARS
/* CAMERA DATA ELEMENTS */
DETECTOR_TEMPERATURE = 18.1666
FOCAL_PLANE_TEMPERATURE = 7.5638
INST_CMPRS_NAME = "DISCRETE COSINE TRANSFORMATION (DCT)"
INST_CMPRS_RATIO = 16.0245
INST_CMPRS_QUALITY = 0
INST_CMPRS_QUANTZ_TBL_ID = 0
INSTRUMENT_TEMPERATURE = 10.8262
LENS_TEMPERATURE = 7.9716
MACROPIXEL_SIZE = 8
MISSING_FRAMES = 0
PIXEL_SUBSAMPLING_FLAG = N
SIGNAL_CHAIN_ID = 2
/* RADIOMETRIC DATA ELEMENTS */
BANDWIDTH = 48.0
CENTER_FILTER_WAVELENGTH = 748.0
RADIANCE_OFFSET = 0.4448
RADIANCE_SCALING_FACTOR = 0.00765248
REFLECTANCE_SCALING_FACTOR = 0.00100343
MEX:REFLECTANCE_OFFSET = 0.0583243
/* IMAGE OBJECT DEFINITIONS */
OBJECT = IMAGE
  INTERCHANGE_FORMAT = BINARY
  LINES = 6202
  LINE_SAMPLES = 1034
  SAMPLE_TYPE = UNSIGNED_INTEGER
  SAMPLE_BITS = 8
  BANDS = 1
  BAND_STORAGE_TYPE = BAND_SEQUENTIAL
  MAXIMUM = 255
  MEAN = 85.0295
  MINIMUM = 1
  STANDARD_DEVIATION = 40.2703
END_OBJECT = IMAGE
/* MAP OBJECT DEFINITIONS */
OBJECT = IMAGE_MAP_PROJECTION
  ^DATA_SET_MAP_PROJECTION_CATALOG= "DSMAP.CAT"
  A_AXIS_RADIUS = 3396.0
  B_AXIS_RADIUS = 3396.0
  C_AXIS_RADIUS = 3396.0
  CENTER_LATITUDE = 0.0
  CENTER_LONGITUDE = 33.0
  COORDINATE_SYSTEM_NAME = PLANETOGRAPHIC
  COORDINATE_SYSTEM_TYPE = "BODY-FIXED ROTATING"
  EASTERNMOST_LONGITUDE = 33.4807
  FIRST_STANDARD_PARALLEL = "N/A"
  LINE_FIRST_PIXEL = 1
  LINE_LAST_PIXEL = 6202
  LINE_PROJECTION_OFFSET = -2741.5625
  MAP_PROJECTION_ROTATION = 0.0
  MAP_PROJECTION_TYPE = SINUSOIDAL
  MAP_RESOLUTION = 592.713803866667
  MAP_SCALE = 0.1
  MAXIMUM_LATITUDE = -4.62908
  MINIMUM_LATITUDE = -15.0964
  POSITIVE_LONGITUDE_DIRECTION = EAST
  REFERENCE_LATITUDE = "N/A"
  REFERENCE_LONGITUDE = "N/A"
  SAMPLE_FIRST_PIXEL = 1
  SAMPLE_LAST_PIXEL = 1034
  SAMPLE_PROJECTION_OFFSET = 717.3125
  SECOND_STANDARD_PARALLEL = "N/A"
  WESTERNMOST_LONGITUDE = 31.9039
END_OBJECT = IMAGE_MAP_PROJECTION
/* The JPEG2000 image data file associated with this label. */
OBJECT = COMPRESSED_FILE
  FILE_NAME = "HE673_0000_RE3.JP2"
  RECORD_TYPE = UNDEFINED
  FILE_RECORDS = UNK
  ENCODING_TYPE = "JP2"
  INTERCHANGE_FORMAT = BINARY
  UNCOMPRESSED_FILE_NAME = "HE673_0000_RE3.IMG"
  REQUIRED_STORAGE_BYTES = "6431480"
  ^DESCRIPTION = "JP2INFO.TXT"
END_OBJECT = COMPRESSED_FILE
END
