PDS_VERSION_ID = PDS3
/* FILE DATA ELEMENTS */
RECORD_TYPE = STREAM
/* POINTERS TO DATA OBJECTS */
^COMPRESSED_FILE = "HE674_0000_GR3.JP2"
/* IDENTIFICATION DATA ELEMENTS */
DATA_SET_ID = "MEX-M-HRSC-5-REFDR-MAPPROJECTED-V3.0"
DATA_SET_NAME = "MARS EXPRESS HRSC MAP PROJECTED REFDR V3.0"
DETECTOR_ID = MEX_HRSC_GREEN
EVENT_TYPE = "MARS-REGIONAL-MAPPING-Vo"
INSTRUMENT_HOST_ID = MEX
INSTRUMENT_HOST_NAME = "MARS EXPRESS"
INSTRUMENT_ID = HRSC
INSTRUMENT_NAME = "HIGH RESOLUTION STEREO CAMERA"
MISSION_NAME = "MARS EXPRESS"
MISSION_PHASE_NAME = ME_Phase_33
PROCESSING_LEVEL_ID = 3
PRODUCT_CREATION_TIME = 2016-10-30T02:40:36.000Z
PRODUCT_ID = "HE674_0000_GR3.JP2"
RELEASE_ID = 0129
REVISION_ID = 0000
/* QUALITY DATA ELEMENTS */
DATA_QUALITY_ID = 1
DATA_QUALITY_DESC = "Data calculated based on original SPICE kernels"
/* TIME DATA ELEMENTS */
SPACECRAFT_CLOCK_START_COUNT = "1/0386111998.09052"
SPACECRAFT_CLOCK_STOP_COUNT = "1/0386112185.57358"
START_TIME = 2015-07-27T21:20:39.069Z
STOP_TIME = 2015-07-27T21:22:43.390Z
/* ORBITAL DATA ELEMENTS */
ASCENDING_NODE_LONGITUDE = 298.13
MAXIMUM_RESOLUTION = 104.7
FOOTPRINT_POINT_LATITUDE = (-29.8474,-29.8465,-29.8452,-29.842, -29.84,-29.7565,-29.5996,-29.4427, -29.2855,-29.1284,-28.9713,-28.8142, -28.6571,-28.5001,-28.2646,-28.1076, -27.7951,-27.5598,-27.4027,-27.245, -27.0875,-26.9307,-26.774,-26.6172, -26.382,-26.2253,-26.0687,-25.912, -25.6772,-25.3641,-25.1295,-24.8882, -24.7266,-24.5652,-24.4039,-24.2425, -24.0812,-23.9199,-23.7589,-23.5172, -23.356,-23.1951,-22.9537,-22.7929, -22.6321,-22.4713,-22.3107,-22.1501, -21.9092,-21.7579,-21.7584,-21.7573, -21.7572,-21.8389,-21.9996,-22.1603, -22.3211,-22.482,-22.6429,-22.8039, -22.9649,-23.126,-23.2872,-23.4484, -23.6097,-23.771,-23.9324,-24.0938, -24.2553,-24.4169,-24.5785,-24.7401, -24.9018,-25.1431,-25.2997,-25.5346, -25.7697,-25.9264,-26.0832,-26.2401, -26.397,-26.6323,-26.8678,-27.0248, -27.1819,-27.3389,-27.496,-27.6531, -27.8104,-27.9676,-28.1247,-28.2818, -28.4389,-28.5961,-28.7533,-29.0669, -29.2243,-29.461,-29.6186,-29.8474)
FOOTPRINT_POINT_LONGITUDE = (291.546,291.362,291.167,290.8,290.604, 290.392,290.394,290.396,290.398,290.4, 290.402,290.404,290.405,290.407,290.41, 290.411,290.411,290.413,290.415,290.419 ,290.421,290.423,290.424,290.425, 290.427,290.428,290.429,290.43,290.432, 290.434,290.435,290.436,290.437,290.437 ,290.437,290.438,290.438,290.439, 290.439,290.439,290.439,290.439,290.44, 290.439,290.439,290.439,290.439,290.439 ,290.439,290.664,291.028,291.366, 291.548,291.725,291.724,291.724,291.723 ,291.723,291.722,291.722,291.721, 291.721,291.72,291.72,291.719,291.719, 291.718,291.718,291.717,291.717,291.716 ,291.716,291.715,291.714,291.714, 291.713,291.712,291.712,291.711,291.71, 291.71,291.709,291.708,291.708,291.707, 291.706,291.706,291.705,291.704,291.704 ,291.703,291.702,291.701,291.7,291.699, 291.695,291.694,291.694,291.694, 291.546)
ORBIT_NUMBER = 14674
ORBITAL_ECCENTRICITY = 0.579
ORBITAL_INCLINATION = 86.9
ORBITAL_SEMIMAJOR_AXIS = 8832.43
PERIAPSIS_ALTITUDE = 332.1
PERIAPSIS_ARGUMENT_ANGLE = 328.57
PERIAPSIS_TIME = 2015-07-27T21:20:11.000Z
SPACECRAFT_ORIENTATION = (0.0,1.0,0.0)
^MEX_ORIENTATION_DESC = "MEX_ORIENTATION_DESC.TXT"
SPACECRAFT_POINTING_MODE = NADIR
^MEX_POINTING_DESC = "MEX_POINTING_DESC.TXT"
RIGHT_ASCENSION = -1e+32
DECLINATION = -1e+32
OFFSET_ANGLE = -1e+32
SPACECRAFT_SOLAR_DISTANCE = 2.39751e+08
TARGET_NAME = MARS
/* CAMERA DATA ELEMENTS */
DETECTOR_TEMPERATURE = 18.3705
FOCAL_PLANE_TEMPERATURE = 7.5638
INST_CMPRS_NAME = "DISCRETE COSINE TRANSFORMATION (DCT)"
INST_CMPRS_RATIO = 14.4346
INST_CMPRS_QUALITY = 0
INST_CMPRS_QUANTZ_TBL_ID = 0
INSTRUMENT_TEMPERATURE = 11.234
LENS_TEMPERATURE = 7.9716
MACROPIXEL_SIZE = 8
MISSING_FRAMES = 0
PIXEL_SUBSAMPLING_FLAG = N
SIGNAL_CHAIN_ID = 2
/* RADIOMETRIC DATA ELEMENTS */
BANDWIDTH = 88.0
CENTER_FILTER_WAVELENGTH = 538.0
RADIANCE_OFFSET = 0.355092
RADIANCE_SCALING_FACTOR = 0.00475777
REFLECTANCE_SCALING_FACTOR = 0.000235457
MEX:REFLECTANCE_OFFSET = 0.0175732
/* IMAGE OBJECT DEFINITIONS */
OBJECT = IMAGE
  INTERCHANGE_FORMAT = BINARY
  LINES = 4798
  LINE_SAMPLES = 766
  SAMPLE_TYPE = UNSIGNED_INTEGER
  SAMPLE_BITS = 8
  BANDS = 1
  BAND_STORAGE_TYPE = BAND_SEQUENTIAL
  MAXIMUM = 255
  MEAN = 133.135
  MINIMUM = 1
  STANDARD_DEVIATION = 15.7537
END_OBJECT = IMAGE
/* MAP OBJECT DEFINITIONS */
OBJECT = IMAGE_MAP_PROJECTION
  ^DATA_SET_MAP_PROJECTION_CATALOG= "DSMAP.CAT"
  A_AXIS_RADIUS = 3396.0
  B_AXIS_RADIUS = 3396.0
  C_AXIS_RADIUS = 3396.0
  CENTER_LATITUDE = 0.0
  CENTER_LONGITUDE = 291.0
  COORDINATE_SYSTEM_NAME = PLANETOGRAPHIC
  COORDINATE_SYSTEM_TYPE = "BODY-FIXED ROTATING"
  EASTERNMOST_LONGITUDE = 291.725
  FIRST_STANDARD_PARALLEL = "N/A"
  LINE_FIRST_PIXEL = 1
  LINE_LAST_PIXEL = 4798
  LINE_PROJECTION_OFFSET = -12903.3125
  MAP_PROJECTION_ROTATION = 0.0
  MAP_PROJECTION_TYPE = SINUSOIDAL
  MAP_RESOLUTION = 592.713803866667
  MAP_SCALE = 0.1
  MAXIMUM_LATITUDE = -21.7572
  MINIMUM_LATITUDE = -29.8474
  POSITIVE_LONGITUDE_DIRECTION = EAST
  REFERENCE_LATITUDE = "N/A"
  REFERENCE_LONGITUDE = "N/A"
  SAMPLE_FIRST_PIXEL = 1
  SAMPLE_LAST_PIXEL = 766
  SAMPLE_PROJECTION_OFFSET = 343.5625
  SECOND_STANDARD_PARALLEL = "N/A"
  WESTERNMOST_LONGITUDE = 290.392
END_OBJECT = IMAGE_MAP_PROJECTION
/* The JPEG2000 image data file associated with this label. */
OBJECT = COMPRESSED_FILE
  FILE_NAME = "HE674_0000_GR3.JP2"
  RECORD_TYPE = UNDEFINED
  FILE_RECORDS = UNK
  ENCODING_TYPE = "JP2"
  INTERCHANGE_FORMAT = BINARY
  UNCOMPRESSED_FILE_NAME = "HE674_0000_GR3.IMG"
  REQUIRED_STORAGE_BYTES = "3693652"
  ^DESCRIPTION = "JP2INFO.TXT"
END_OBJECT = COMPRESSED_FILE
END
