PDS_VERSION_ID = PDS3
/* FILE DATA ELEMENTS */
RECORD_TYPE = STREAM
/* POINTERS TO DATA OBJECTS */
^COMPRESSED_FILE = "HE674_0000_IR3.JP2"
/* IDENTIFICATION DATA ELEMENTS */
DATA_SET_ID = "MEX-M-HRSC-5-REFDR-MAPPROJECTED-V3.0"
DATA_SET_NAME = "MARS EXPRESS HRSC MAP PROJECTED REFDR V3.0"
DETECTOR_ID = MEX_HRSC_IR
EVENT_TYPE = "MARS-REGIONAL-MAPPING-Vo"
INSTRUMENT_HOST_ID = MEX
INSTRUMENT_HOST_NAME = "MARS EXPRESS"
INSTRUMENT_ID = HRSC
INSTRUMENT_NAME = "HIGH RESOLUTION STEREO CAMERA"
MISSION_NAME = "MARS EXPRESS"
MISSION_PHASE_NAME = ME_Phase_33
PROCESSING_LEVEL_ID = 3
PRODUCT_CREATION_TIME = 2016-10-30T02:40:36.000Z
PRODUCT_ID = "HE674_0000_IR3.JP2"
RELEASE_ID = 0129
REVISION_ID = 0000
/* QUALITY DATA ELEMENTS */
DATA_QUALITY_ID = 1
DATA_QUALITY_DESC = "Data calculated based on original SPICE kernels"
/* TIME DATA ELEMENTS */
SPACECRAFT_CLOCK_START_COUNT = "1/0386111998.09052"
SPACECRAFT_CLOCK_STOP_COUNT = "1/0386112185.57358"
START_TIME = 2015-07-27T21:20:58.731Z
STOP_TIME = 2015-07-27T21:23:04.554Z
/* ORBITAL DATA ELEMENTS */
ASCENDING_NODE_LONGITUDE = 298.13
MAXIMUM_RESOLUTION = 109.8
FOOTPRINT_POINT_LATITUDE = (-29.824,-29.8231,-29.8212,-29.8196, -29.818,-29.8111,-29.6525,-29.4155, -29.2561,-29.0977,-28.9385,-28.7793, -28.6204,-28.4618,-28.3033,-28.1444, -27.9121,-27.7562,-27.5181,-27.275, -27.1132,-26.8757,-26.7175,-26.559, -26.4005,-26.2374,-26.0741,-25.9107, -25.7477,-25.584,-25.3396,-25.1767, -25.0145,-24.8515,-24.6076,-24.4458, -24.2837,-24.1212,-23.9593,-23.798, -23.5555,-23.3934,-23.1511,-22.9094, -22.7483,-22.5874,-22.346,-22.1854, -22.024,-21.7867,-21.7535,-21.7509, -21.7465,-21.7472,-21.7471,-21.9898, -22.2309,-22.3918,-22.5533,-22.7144, -22.8758,-23.1181,-23.2796,-23.4415, -23.6034,-23.7654,-23.9274,-24.0896, -24.2519,-24.4143,-24.6582,-24.8209, -24.9836,-25.1464,-25.3907,-25.554, -25.7987,-25.9619,-26.1255,-26.2892, -26.4509,-26.6089,-26.7677,-27.0058, -27.1645,-27.3232,-27.4818,-27.6406, -27.7999,-28.0388,-28.1971,-28.4347, -28.5934,-28.8314,-28.9866,-29.1444, -29.3051,-29.4677,-29.6283,-29.824)
FOOTPRINT_POINT_LONGITUDE = (291.576,291.391,291.057,290.823, 290.626,290.387,290.388,290.391,290.393 ,290.394,290.396,290.398,290.4,290.401, 290.403,290.404,290.404,290.404,290.406 ,290.411,290.413,290.415,290.416, 290.417,290.418,290.419,290.42,290.421, 290.422,290.423,290.424,290.425,290.425 ,290.426,290.426,290.427,290.427, 290.427,290.427,290.427,290.427,290.427 ,290.427,290.427,290.427,290.426, 290.426,290.425,290.425,290.423,290.767 ,291.027,291.2,291.435,291.658,291.739, 291.738,291.737,291.737,291.736,291.735 ,291.734,291.733,291.733,291.732, 291.731,291.731,291.73,291.729,291.729, 291.728,291.727,291.726,291.725,291.724 ,291.724,291.722,291.721,291.721,291.72 ,291.719,291.718,291.718,291.717, 291.716,291.715,291.714,291.713,291.713 ,291.711,291.71,291.708,291.707,291.705 ,291.703,291.701,291.701,291.701,291.7, 291.576)
ORBIT_NUMBER = 14674
ORBITAL_ECCENTRICITY = 0.579
ORBITAL_INCLINATION = 86.9
ORBITAL_SEMIMAJOR_AXIS = 8832.43
PERIAPSIS_ALTITUDE = 332.1
PERIAPSIS_ARGUMENT_ANGLE = 328.57
PERIAPSIS_TIME = 2015-07-27T21:20:11.000Z
SPACECRAFT_ORIENTATION = (0.0,1.0,0.0)
^MEX_ORIENTATION_DESC = "MEX_ORIENTATION_DESC.TXT"
SPACECRAFT_POINTING_MODE = NADIR
^MEX_POINTING_DESC = "MEX_POINTING_DESC.TXT"
RIGHT_ASCENSION = -1e+32
DECLINATION = -1e+32
OFFSET_ANGLE = -1e+32
SPACECRAFT_SOLAR_DISTANCE = 2.39751e+08
TARGET_NAME = MARS
/* CAMERA DATA ELEMENTS */
DETECTOR_TEMPERATURE = 17.351
FOCAL_PLANE_TEMPERATURE = 7.5638
INST_CMPRS_NAME = "DISCRETE COSINE TRANSFORMATION (DCT)"
INST_CMPRS_RATIO = 17.9464
INST_CMPRS_QUALITY = 0
INST_CMPRS_QUANTZ_TBL_ID = 0
INSTRUMENT_TEMPERATURE = 11.234
LENS_TEMPERATURE = 7.9716
MACROPIXEL_SIZE = 8
MISSING_FRAMES = 0
PIXEL_SUBSAMPLING_FLAG = N
SIGNAL_CHAIN_ID = 2
/* RADIOMETRIC DATA ELEMENTS */
BANDWIDTH = 81.0
CENTER_FILTER_WAVELENGTH = 955.5
RADIANCE_OFFSET = 0.176756
RADIANCE_SCALING_FACTOR = 0.00371335
REFLECTANCE_SCALING_FACTOR = 0.000460485
MEX:REFLECTANCE_OFFSET = 0.0219191
/* IMAGE OBJECT DEFINITIONS */
OBJECT = IMAGE
  INTERCHANGE_FORMAT = BINARY
  LINES = 4798
  LINE_SAMPLES = 766
  SAMPLE_TYPE = UNSIGNED_INTEGER
  SAMPLE_BITS = 8
  BANDS = 1
  BAND_STORAGE_TYPE = BAND_SEQUENTIAL
  MAXIMUM = 255
  MEAN = 109.506
  MINIMUM = 1
  STANDARD_DEVIATION = 20.0378
END_OBJECT = IMAGE
/* MAP OBJECT DEFINITIONS */
OBJECT = IMAGE_MAP_PROJECTION
  ^DATA_SET_MAP_PROJECTION_CATALOG= "DSMAP.CAT"
  A_AXIS_RADIUS = 3396.0
  B_AXIS_RADIUS = 3396.0
  C_AXIS_RADIUS = 3396.0
  CENTER_LATITUDE = 0.0
  CENTER_LONGITUDE = 291.0
  COORDINATE_SYSTEM_NAME = PLANETOGRAPHIC
  COORDINATE_SYSTEM_TYPE = "BODY-FIXED ROTATING"
  EASTERNMOST_LONGITUDE = 291.739
  FIRST_STANDARD_PARALLEL = "N/A"
  LINE_FIRST_PIXEL = 1
  LINE_LAST_PIXEL = 4798
  LINE_PROJECTION_OFFSET = -12903.3125
  MAP_PROJECTION_ROTATION = 0.0
  MAP_PROJECTION_TYPE = SINUSOIDAL
  MAP_RESOLUTION = 592.713803866667
  MAP_SCALE = 0.1
  MAXIMUM_LATITUDE = -21.7465
  MINIMUM_LATITUDE = -29.824
  POSITIVE_LONGITUDE_DIRECTION = EAST
  REFERENCE_LATITUDE = "N/A"
  REFERENCE_LONGITUDE = "N/A"
  SAMPLE_FIRST_PIXEL = 1
  SAMPLE_LAST_PIXEL = 766
  SAMPLE_PROJECTION_OFFSET = 343.5625
  SECOND_STANDARD_PARALLEL = "N/A"
  WESTERNMOST_LONGITUDE = 290.387
END_OBJECT = IMAGE_MAP_PROJECTION
/* The JPEG2000 image data file associated with this label. */
OBJECT = COMPRESSED_FILE
  FILE_NAME = "HE674_0000_IR3.JP2"
  RECORD_TYPE = UNDEFINED
  FILE_RECORDS = UNK
  ENCODING_TYPE = "JP2"
  INTERCHANGE_FORMAT = BINARY
  UNCOMPRESSED_FILE_NAME = "HE674_0000_IR3.IMG"
  REQUIRED_STORAGE_BYTES = "3693652"
  ^DESCRIPTION = "JP2INFO.TXT"
END_OBJECT = COMPRESSED_FILE
END
