PDS_VERSION_ID = PDS3
/* FILE DATA ELEMENTS */
RECORD_TYPE = STREAM
/* POINTERS TO DATA OBJECTS */
^COMPRESSED_FILE = "HE680_0000_IR3.JP2"
/* IDENTIFICATION DATA ELEMENTS */
DATA_SET_ID = "MEX-M-HRSC-5-REFDR-MAPPROJECTED-V3.0"
DATA_SET_NAME = "MARS EXPRESS HRSC MAP PROJECTED REFDR V3.0"
DETECTOR_ID = MEX_HRSC_IR
EVENT_TYPE = "MARS-REGIONAL-MAPPING-Im-Fl"
INSTRUMENT_HOST_ID = MEX
INSTRUMENT_HOST_NAME = "MARS EXPRESS"
INSTRUMENT_ID = HRSC
INSTRUMENT_NAME = "HIGH RESOLUTION STEREO CAMERA"
MISSION_NAME = "MARS EXPRESS"
MISSION_PHASE_NAME = ME_Phase_33
PROCESSING_LEVEL_ID = 3
PRODUCT_CREATION_TIME = 2016-10-30T02:40:36.000Z
PRODUCT_ID = "HE680_0000_IR3.JP2"
RELEASE_ID = 0129
REVISION_ID = 0000
/* QUALITY DATA ELEMENTS */
DATA_QUALITY_ID = 1
DATA_QUALITY_DESC = "Data calculated based on original SPICE kernels"
/* TIME DATA ELEMENTS */
SPACECRAFT_CLOCK_START_COUNT = "1/0386262942.09041"
SPACECRAFT_CLOCK_STOP_COUNT = "1/0386263108.57809"
START_TIME = 2015-07-29T15:16:43.926Z
STOP_TIME = 2015-07-29T15:18:27.945Z
/* ORBITAL DATA ELEMENTS */
ASCENDING_NODE_LONGITUDE = 298.02
MAXIMUM_RESOLUTION = 110.4
FOOTPRINT_POINT_LATITUDE = (-36.8907,-36.8886,-36.8841,-36.8806, -36.8774,-36.8999,-36.7652,-36.6306, -36.4956,-36.3607,-36.1589,-36.0243, -35.8894,-35.7546,-35.6181,-35.4837, -35.3484,-35.2147,-35.0803,-34.9462, -34.7436,-34.6109,-34.4773,-34.2758, -34.1415,-34.0074,-33.8731,-33.7391, -33.6047,-33.4703,-33.3363,-33.2023, -33.0683,-32.9336,-32.7988,-32.6654, -32.5319,-32.3316,-32.198,-32.0651, -31.9304,-31.797,-31.6633,-31.5298, -31.3313,-31.1968,-31.0635,-30.8015, -30.6681,-30.5349,-30.3997,-30.2606, -30.1274,-30.0929,-30.1024,-30.1067, -30.0998,-30.1038,-30.3672,-30.5674, -30.7023,-30.8361,-30.9699,-31.1035, -31.3035,-31.4372,-31.5716,-31.7071, -31.9733,-32.175,-32.3097,-32.444, -32.578,-32.7118,-32.9776,-33.1787, -33.3147,-33.4492,-33.5841,-33.7184, -33.9831,-34.1176,-34.2522,-34.3863, -34.5241,-34.7278,-34.9294,-35.065, -35.266,-35.4682,-35.6031,-35.7377, -35.8727,-36.0748,-36.2096,-36.3442, -36.4789,-36.6135,-36.7483,-36.8907)
FOOTPRINT_POINT_LONGITUDE = (37.9336,37.7333,37.3727,37.119,36.9054 ,36.6309,36.6357,36.6403,36.6451, 36.6497,36.6563,36.6607,36.6652,36.6696 ,36.6747,36.6788,36.6833,36.6869, 36.6909,36.6947,36.7009,36.7038,36.7072 ,36.7127,36.7163,36.7197,36.7232, 36.7266,36.7301,36.7335,36.7366,36.7398 ,36.743,36.7464,36.7498,36.7525,36.7553 ,36.7594,36.7621,36.7644,36.7676, 36.7701,36.7727,36.7752,36.7782,36.781, 36.7833,36.7858,36.7881,36.7902,36.7933 ,36.7979,36.8,37.0861,37.2598,37.536, 37.8858,38.1322,38.1292,38.128,38.1278, 38.1272,38.1264,38.1256,38.1241,38.1232 ,38.1227,38.1225,38.1201,38.119,38.1185 ,38.1176,38.1167,38.1156,38.1126, 38.1111,38.1108,38.1099,38.1092,38.1081 ,38.1043,38.1032,38.1022,38.1009, 38.1013,38.1005,38.0986,38.0979,38.0957 ,38.094,38.0929,38.0916,38.0905,38.0886 ,38.0873,38.0859,38.0845,38.0831, 38.0817,37.9336)
ORBIT_NUMBER = 14680
ORBITAL_ECCENTRICITY = 0.579
ORBITAL_INCLINATION = 86.9
ORBITAL_SEMIMAJOR_AXIS = 8831.68
PERIAPSIS_ALTITUDE = 332.06
PERIAPSIS_ARGUMENT_ANGLE = 327.55
PERIAPSIS_TIME = 2015-07-29T15:17:29.000Z
SPACECRAFT_ORIENTATION = (0.0,1.0,0.0)
^MEX_ORIENTATION_DESC = "MEX_ORIENTATION_DESC.TXT"
SPACECRAFT_POINTING_MODE = NADIR
^MEX_POINTING_DESC = "MEX_POINTING_DESC.TXT"
RIGHT_ASCENSION = -1e+32
DECLINATION = -1e+32
OFFSET_ANGLE = -1e+32
SPACECRAFT_SOLAR_DISTANCE = 2.40019e+08
TARGET_NAME = MARS
/* CAMERA DATA ELEMENTS */
DETECTOR_TEMPERATURE = 17.351
FOCAL_PLANE_TEMPERATURE = 7.7677
INST_CMPRS_NAME = "DISCRETE COSINE TRANSFORMATION (DCT)"
INST_CMPRS_RATIO = 11.7829
INST_CMPRS_QUALITY = 0
INST_CMPRS_QUANTZ_TBL_ID = 0
INSTRUMENT_TEMPERATURE = 11.4379
LENS_TEMPERATURE = 8.3794
MACROPIXEL_SIZE = 8
MISSING_FRAMES = 0
PIXEL_SUBSAMPLING_FLAG = N
SIGNAL_CHAIN_ID = 2
/* RADIOMETRIC DATA ELEMENTS */
BANDWIDTH = 81.0
CENTER_FILTER_WAVELENGTH = 955.5
RADIANCE_OFFSET = 0.274906
RADIANCE_SCALING_FACTOR = 0.00283889
REFLECTANCE_SCALING_FACTOR = 0.00035283
MEX:REFLECTANCE_OFFSET = 0.0341664
/* IMAGE OBJECT DEFINITIONS */
OBJECT = IMAGE
  INTERCHANGE_FORMAT = BINARY
  LINES = 4041
  LINE_SAMPLES = 788
  SAMPLE_TYPE = UNSIGNED_INTEGER
  SAMPLE_BITS = 8
  BANDS = 1
  BAND_STORAGE_TYPE = BAND_SEQUENTIAL
  MAXIMUM = 255
  MEAN = 115.903
  MINIMUM = 1
  STANDARD_DEVIATION = 25.965
END_OBJECT = IMAGE
/* MAP OBJECT DEFINITIONS */
OBJECT = IMAGE_MAP_PROJECTION
  ^DATA_SET_MAP_PROJECTION_CATALOG= "DSMAP.CAT"
  A_AXIS_RADIUS = 3396.0
  B_AXIS_RADIUS = 3396.0
  C_AXIS_RADIUS = 3396.0
  CENTER_LATITUDE = 0.0
  CENTER_LONGITUDE = 37.0
  COORDINATE_SYSTEM_NAME = PLANETOGRAPHIC
  COORDINATE_SYSTEM_TYPE = "BODY-FIXED ROTATING"
  EASTERNMOST_LONGITUDE = 38.1322
  FIRST_STANDARD_PARALLEL = "N/A"
  LINE_FIRST_PIXEL = 1
  LINE_LAST_PIXEL = 4041
  LINE_PROJECTION_OFFSET = -17851.0625
  MAP_PROJECTION_ROTATION = 0.0
  MAP_PROJECTION_TYPE = SINUSOIDAL
  MAP_RESOLUTION = 592.713803866667
  MAP_SCALE = 0.1
  MAXIMUM_LATITUDE = -30.0929
  MINIMUM_LATITUDE = -36.8999
  POSITIVE_LONGITUDE_DIRECTION = EAST
  REFERENCE_LATITUDE = "N/A"
  REFERENCE_LONGITUDE = "N/A"
  SAMPLE_FIRST_PIXEL = 1
  SAMPLE_LAST_PIXEL = 788
  SAMPLE_PROJECTION_OFFSET = 194.1875
  SECOND_STANDARD_PARALLEL = "N/A"
  WESTERNMOST_LONGITUDE = 36.6309
END_OBJECT = IMAGE_MAP_PROJECTION
/* The JPEG2000 image data file associated with this label. */
OBJECT = COMPRESSED_FILE
  FILE_NAME = "HE680_0000_IR3.JP2"
  RECORD_TYPE = UNDEFINED
  FILE_RECORDS = UNK
  ENCODING_TYPE = "JP2"
  INTERCHANGE_FORMAT = BINARY
  UNCOMPRESSED_FILE_NAME = "HE680_0000_IR3.IMG"
  REQUIRED_STORAGE_BYTES = "3201644"
  ^DESCRIPTION = "JP2INFO.TXT"
END_OBJECT = COMPRESSED_FILE
END
