PDS_VERSION_ID = PDS3
/* FILE DATA ELEMENTS */
RECORD_TYPE = STREAM
/* POINTERS TO DATA OBJECTS */
^COMPRESSED_FILE = "HE681_0000_ND3.JP2"
/* IDENTIFICATION DATA ELEMENTS */
DATA_SET_ID = "MEX-M-HRSC-5-REFDR-MAPPROJECTED-V3.0"
DATA_SET_NAME = "MARS EXPRESS HRSC MAP PROJECTED REFDR V3.0"
DETECTOR_ID = MEX_HRSC_NADIR
EVENT_TYPE = "MARS-REGIONAL-MAPPING-Vo-Te"
INSTRUMENT_HOST_ID = MEX
INSTRUMENT_HOST_NAME = "MARS EXPRESS"
INSTRUMENT_ID = HRSC
INSTRUMENT_NAME = "HIGH RESOLUTION STEREO CAMERA"
MISSION_NAME = "MARS EXPRESS"
MISSION_PHASE_NAME = ME_Phase_33
PROCESSING_LEVEL_ID = 3
PRODUCT_CREATION_TIME = 2016-10-30T02:40:36.000Z
PRODUCT_ID = "HE681_0000_ND3.JP2"
RELEASE_ID = 0129
REVISION_ID = 0000
/* QUALITY DATA ELEMENTS */
DATA_QUALITY_ID = 1
DATA_QUALITY_DESC = "Data calculated based on original SPICE kernels"
/* TIME DATA ELEMENTS */
SPACECRAFT_CLOCK_START_COUNT = "1/0386288316.08270"
SPACECRAFT_CLOCK_STOP_COUNT = "1/0386288521.08195"
START_TIME = 2015-07-29T22:19:12.666Z
STOP_TIME = 2015-07-29T22:21:27.659Z
/* ORBITAL DATA ELEMENTS */
ASCENDING_NODE_LONGITUDE = 297.99
MAXIMUM_RESOLUTION = 13.6
FOOTPRINT_POINT_LATITUDE = (-24.2518,-24.2512,-24.2503,-24.2491, -24.2477,-24.2459,-24.1611,-23.9958, -23.8306,-23.6654,-23.5002,-23.3352, -23.1701,-23.0051,-22.8402,-22.6754, -22.5106,-22.3458,-22.1811,-22.0165, -21.8519,-21.6874,-21.523,-21.3586, -21.1943,-21.03,-20.8658,-20.7017, -20.5376,-20.3736,-20.046,-19.8004, -19.4731,-19.1462,-18.9012,-18.5748, -18.3904,-18.1959,-18.0015,-17.8073, -17.6131,-17.4191,-17.2252,-17.0314, -16.8377,-16.6442,-16.4508,-16.2576, -16.0644,-15.8714,-15.6786,-15.5697, -15.5692,-15.568,-15.567,-15.5663, -15.7593,-15.9525,-16.1459,-16.3393, -16.5329,-16.7266,-16.9204,-17.1144, -17.3085,-17.5027,-17.697,-17.8915, -18.0861,-18.2808,-18.5648,-18.8916, -19.2187,-19.5462,-19.8739,-20.2019, -20.366,-20.5302,-20.6945,-20.8588, -21.0232,-21.1877,-21.3522,-21.5168, -21.6815,-21.8462,-22.011,-22.1759, -22.3408,-22.5057,-22.6708,-22.8358, -23.001,-23.1662,-23.3314,-23.4967, -23.6621,-23.8275,-23.993,-24.2518)
FOOTPRINT_POINT_LONGITUDE = (295.279,295.074,294.868,294.661, 294.453,294.244,294.053,294.054,294.055 ,294.056,294.056,294.057,294.058, 294.058,294.059,294.06,294.06,294.061, 294.061,294.062,294.062,294.062,294.062 ,294.062,294.062,294.062,294.062, 294.062,294.059,294.058,294.062,294.061 ,294.058,294.058,294.056,294.055, 294.054,294.052,294.051,294.05,294.048, 294.047,294.045,294.044,294.042,294.04, 294.038,294.036,294.034,294.032,294.029 ,294.266,294.654,295.026,295.244, 295.427,295.426,295.425,295.424,295.423 ,295.421,295.42,295.419,295.418,295.417 ,295.416,295.414,295.413,295.412, 295.411,295.409,295.407,295.405,295.402 ,295.4,295.398,295.397,295.396,295.395, 295.394,295.392,295.391,295.39,295.389, 295.388,295.387,295.385,295.384,295.383 ,295.382,295.38,295.379,295.378,295.377 ,295.375,295.374,295.373,295.371,295.37 ,295.279)
ORBIT_NUMBER = 14681
ORBITAL_ECCENTRICITY = 0.578
ORBITAL_INCLINATION = 86.9
ORBITAL_SEMIMAJOR_AXIS = 8829.67
PERIAPSIS_ALTITUDE = 331.98
PERIAPSIS_ARGUMENT_ANGLE = 327.38
PERIAPSIS_TIME = 2015-07-29T22:17:06.000Z
SPACECRAFT_ORIENTATION = (0.0,1.0,0.0)
^MEX_ORIENTATION_DESC = "MEX_ORIENTATION_DESC.TXT"
SPACECRAFT_POINTING_MODE = ACROSSTRACK
^MEX_POINTING_DESC = "MEX_POINTING_DESC.TXT"
RIGHT_ASCENSION = -1e+32
DECLINATION = -1e+32
OFFSET_ANGLE = 0.45
SPACECRAFT_SOLAR_DISTANCE = 2.40063e+08
TARGET_NAME = MARS
/* CAMERA DATA ELEMENTS */
DETECTOR_TEMPERATURE = 18.3705
FOCAL_PLANE_TEMPERATURE = 7.7677
INST_CMPRS_NAME = "DISCRETE COSINE TRANSFORMATION (DCT)"
INST_CMPRS_RATIO = 8.31605
INST_CMPRS_QUALITY = 0
INST_CMPRS_QUANTZ_TBL_ID = 0
INSTRUMENT_TEMPERATURE = 11.4379
LENS_TEMPERATURE = 8.3794
MACROPIXEL_SIZE = 1
MISSING_FRAMES = 0
PIXEL_SUBSAMPLING_FLAG = N
SIGNAL_CHAIN_ID = 0
/* RADIOMETRIC DATA ELEMENTS */
BANDWIDTH = 177.0
CENTER_FILTER_WAVELENGTH = 677.5
RADIANCE_OFFSET = 0.93176
RADIANCE_SCALING_FACTOR = 0.0162045
REFLECTANCE_SCALING_FACTOR = 0.000496104
MEX:REFLECTANCE_OFFSET = 0.028526
/* IMAGE OBJECT DEFINITIONS */
OBJECT = IMAGE
  INTERCHANGE_FORMAT = BINARY
  LINES = 41188
  LINE_SAMPLES = 6780
  SAMPLE_TYPE = UNSIGNED_INTEGER
  SAMPLE_BITS = 8
  BANDS = 1
  BAND_STORAGE_TYPE = BAND_SEQUENTIAL
  MAXIMUM = 255
  MEAN = 106.913
  MINIMUM = 1
  STANDARD_DEVIATION = 24.2253
END_OBJECT = IMAGE
/* MAP OBJECT DEFINITIONS */
OBJECT = IMAGE_MAP_PROJECTION
  ^DATA_SET_MAP_PROJECTION_CATALOG= "DSMAP.CAT"
  A_AXIS_RADIUS = 3396.0
  B_AXIS_RADIUS = 3396.0
  C_AXIS_RADIUS = 3396.0
  CENTER_LATITUDE = 0.0
  CENTER_LONGITUDE = 295.0
  COORDINATE_SYSTEM_NAME = PLANETOGRAPHIC
  COORDINATE_SYSTEM_TYPE = "BODY-FIXED ROTATING"
  EASTERNMOST_LONGITUDE = 295.427
  FIRST_STANDARD_PARALLEL = "N/A"
  LINE_FIRST_PIXEL = 1
  LINE_LAST_PIXEL = 41188
  LINE_PROJECTION_OFFSET = -73810.0
  MAP_PROJECTION_ROTATION = 0.0
  MAP_PROJECTION_TYPE = SINUSOIDAL
  MAP_RESOLUTION = 4741.71043093333
  MAP_SCALE = 0.0125
  MAXIMUM_LATITUDE = -15.5663
  MINIMUM_LATITUDE = -24.2518
  POSITIVE_LONGITUDE_DIRECTION = EAST
  REFERENCE_LATITUDE = "N/A"
  REFERENCE_LONGITUDE = "N/A"
  SAMPLE_FIRST_PIXEL = 1
  SAMPLE_LAST_PIXEL = 6780
  SAMPLE_PROJECTION_OFFSET = 4769.0
  SECOND_STANDARD_PARALLEL = "N/A"
  WESTERNMOST_LONGITUDE = 294.029
END_OBJECT = IMAGE_MAP_PROJECTION
/* The JPEG2000 image data file associated with this label. */
OBJECT = COMPRESSED_FILE
  FILE_NAME = "HE681_0000_ND3.JP2"
  RECORD_TYPE = UNDEFINED
  FILE_RECORDS = UNK
  ENCODING_TYPE = "JP2"
  INTERCHANGE_FORMAT = BINARY
  UNCOMPRESSED_FILE_NAME = "HE681_0000_ND3.IMG"
  REQUIRED_STORAGE_BYTES = "279288540"
  ^DESCRIPTION = "JP2INFO.TXT"
END_OBJECT = COMPRESSED_FILE
END
