PDS_VERSION_ID = PDS3
/* FILE DATA ELEMENTS */
RECORD_TYPE = STREAM
/* POINTERS TO DATA OBJECTS */
^COMPRESSED_FILE = "HE688_0000_S13.JP2"
/* IDENTIFICATION DATA ELEMENTS */
DATA_SET_ID = "MEX-M-HRSC-5-REFDR-MAPPROJECTED-V3.0"
DATA_SET_NAME = "MARS EXPRESS HRSC MAP PROJECTED REFDR V3.0"
DETECTOR_ID = MEX_HRSC_S1
EVENT_TYPE = "MARS-REGIONAL-MAPPING-Vo-Lc-La"
INSTRUMENT_HOST_ID = MEX
INSTRUMENT_HOST_NAME = "MARS EXPRESS"
INSTRUMENT_ID = HRSC
INSTRUMENT_NAME = "HIGH RESOLUTION STEREO CAMERA"
MISSION_NAME = "MARS EXPRESS"
MISSION_PHASE_NAME = ME_Phase_33
PROCESSING_LEVEL_ID = 3
PRODUCT_CREATION_TIME = 2016-10-30T02:40:36.000Z
PRODUCT_ID = "HE688_0000_S13.JP2"
RELEASE_ID = 0129
REVISION_ID = 0000
/* QUALITY DATA ELEMENTS */
DATA_QUALITY_ID = 1
DATA_QUALITY_DESC = "Data calculated based on original SPICE kernels"
/* TIME DATA ELEMENTS */
SPACECRAFT_CLOCK_START_COUNT = "1/0386464594.09044"
SPACECRAFT_CLOCK_STOP_COUNT = "1/0386464844.51013"
START_TIME = 2015-07-31T23:17:45.809Z
STOP_TIME = 2015-07-31T23:20:48.791Z
/* ORBITAL DATA ELEMENTS */
ASCENDING_NODE_LONGITUDE = 297.86
MAXIMUM_RESOLUTION = 31.4
FOOTPRINT_POINT_LATITUDE = (-21.2925,-21.2963,-21.3,-21.3037, -21.3009,-20.9726,-20.7549,-20.5394, -20.3256,-20.1154,-19.8027,-19.4822, -19.2694,-19.0569,-18.8449,-18.6332, -18.4217,-18.2104,-17.9988,-17.7879, -17.578,-17.3683,-17.1584,-16.9488, -16.74,-16.4244,-16.108,-15.8939, -15.6807,-15.3612,-15.0417,-14.8235, -14.6265,-14.3955,-14.1775,-13.8701, -13.6568,-13.3457,-13.1318,-12.9072, -12.6686,-12.417,-12.1732,-11.9451, -11.6034,-11.3764,-11.1455,-10.9122, -10.5676,-10.4319,-10.4259,-10.4172, -10.411,-10.4062,-10.5159,-10.747, -10.9785,-11.3252,-11.5526,-11.7817, -12.0081,-12.2353,-12.4595,-12.8153, -13.0494,-13.4075,-13.614,-13.832, -14.0429,-14.2333,-14.4508,-14.6902, -15.0077,-15.2106,-15.421,-15.7401, -15.9532,-16.1665,-16.3766,-16.6929, -17.0067,-17.2163,-17.4264,-17.7417, -17.9526,-18.2697,-18.4811,-18.6934, -18.9062,-19.1175,-19.3302,-19.6501, -19.8636,-20.0754,-20.3921,-20.6052, -20.8245,-21.0434,-21.2623,-21.2925)
FOOTPRINT_POINT_LONGITUDE = (299.325,299.109,298.893,298.675, 298.334,298.334,298.335,298.334,298.332 ,298.328,298.322,298.32,298.318,298.316 ,298.314,298.311,298.309,298.307, 298.304,298.302,298.299,298.296,298.293 ,298.29,298.287,298.282,298.277,298.274 ,298.271,298.265,298.259,298.256, 298.243,298.245,298.242,298.226,298.218 ,298.203,298.195,298.19,298.191,298.198 ,298.201,298.195,298.187,298.181, 298.175,298.17,298.16,298.301,298.626, 298.997,299.271,299.512,299.821,299.819 ,299.817,299.813,299.811,299.809, 299.807,299.805,299.803,299.803,299.803 ,299.805,299.801,299.798,299.794, 299.787,299.785,299.788,299.783,299.779 ,299.776,299.773,299.772,299.77,299.768 ,299.765,299.762,299.76,299.759,299.756 ,299.754,299.751,299.75,299.748,299.746 ,299.744,299.742,299.739,299.738, 299.735,299.732,299.73,299.729,299.727, 299.726,299.325)
ORBIT_NUMBER = 14688
ORBITAL_ECCENTRICITY = 0.578
ORBITAL_INCLINATION = 86.9
ORBITAL_SEMIMAJOR_AXIS = 8826.8
PERIAPSIS_ALTITUDE = 331.76
PERIAPSIS_ARGUMENT_ANGLE = 326.19
PERIAPSIS_TIME = 2015-07-31T23:14:02.000Z
SPACECRAFT_ORIENTATION = (0.0,1.0,0.0)
^MEX_ORIENTATION_DESC = "MEX_ORIENTATION_DESC.TXT"
SPACECRAFT_POINTING_MODE = ACROSSTRACK
^MEX_POINTING_DESC = "MEX_POINTING_DESC.TXT"
RIGHT_ASCENSION = -1e+32
DECLINATION = -1e+32
OFFSET_ANGLE = 0.3
SPACECRAFT_SOLAR_DISTANCE = 2.40371e+08
TARGET_NAME = MARS
/* CAMERA DATA ELEMENTS */
DETECTOR_TEMPERATURE = 17.7588
FOCAL_PLANE_TEMPERATURE = 7.5638
INST_CMPRS_NAME = "DISCRETE COSINE TRANSFORMATION (DCT)"
INST_CMPRS_RATIO = 8.61824
INST_CMPRS_QUALITY = 0
INST_CMPRS_QUANTZ_TBL_ID = 0
INSTRUMENT_TEMPERATURE = 11.234
LENS_TEMPERATURE = 8.1755
MACROPIXEL_SIZE = 2
MISSING_FRAMES = 1
PIXEL_SUBSAMPLING_FLAG = N
SIGNAL_CHAIN_ID = 1
/* RADIOMETRIC DATA ELEMENTS */
BANDWIDTH = 180.0
CENTER_FILTER_WAVELENGTH = 677.0
RADIANCE_OFFSET = 1.42138
RADIANCE_SCALING_FACTOR = 0.0209027
REFLECTANCE_SCALING_FACTOR = 0.000630101
MEX:REFLECTANCE_OFFSET = 0.0428468
/* IMAGE OBJECT DEFINITIONS */
OBJECT = IMAGE
  INTERCHANGE_FORMAT = BINARY
  LINES = 25789
  LINE_SAMPLES = 3858
  SAMPLE_TYPE = UNSIGNED_INTEGER
  SAMPLE_BITS = 8
  BANDS = 1
  BAND_STORAGE_TYPE = BAND_SEQUENTIAL
  MAXIMUM = 255
  MEAN = 99.6875
  MINIMUM = 1
  STANDARD_DEVIATION = 24.6952
END_OBJECT = IMAGE
/* MAP OBJECT DEFINITIONS */
OBJECT = IMAGE_MAP_PROJECTION
  ^DATA_SET_MAP_PROJECTION_CATALOG= "DSMAP.CAT"
  A_AXIS_RADIUS = 3396.0
  B_AXIS_RADIUS = 3396.0
  C_AXIS_RADIUS = 3396.0
  CENTER_LATITUDE = 0.0
  CENTER_LONGITUDE = 299.0
  COORDINATE_SYSTEM_NAME = PLANETOGRAPHIC
  COORDINATE_SYSTEM_TYPE = "BODY-FIXED ROTATING"
  EASTERNMOST_LONGITUDE = 299.821
  FIRST_STANDARD_PARALLEL = "N/A"
  LINE_FIRST_PIXEL = 1
  LINE_LAST_PIXEL = 25789
  LINE_PROJECTION_OFFSET = -24752.75
  MAP_PROJECTION_ROTATION = 0.0
  MAP_PROJECTION_TYPE = SINUSOIDAL
  MAP_RESOLUTION = 2370.85521546667
  MAP_SCALE = 0.025
  MAXIMUM_LATITUDE = -10.4062
  MINIMUM_LATITUDE = -21.3037
  POSITIVE_LONGITUDE_DIRECTION = EAST
  REFERENCE_LATITUDE = "N/A"
  REFERENCE_LONGITUDE = "N/A"
  SAMPLE_FIRST_PIXEL = 1
  SAMPLE_LAST_PIXEL = 3858
  SAMPLE_PROJECTION_OFFSET = 2002.25
  SECOND_STANDARD_PARALLEL = "N/A"
  WESTERNMOST_LONGITUDE = 298.16
END_OBJECT = IMAGE_MAP_PROJECTION
/* The JPEG2000 image data file associated with this label. */
OBJECT = COMPRESSED_FILE
  FILE_NAME = "HE688_0000_S13.JP2"
  RECORD_TYPE = UNDEFINED
  FILE_RECORDS = UNK
  ENCODING_TYPE = "JP2"
  INTERCHANGE_FORMAT = BINARY
  UNCOMPRESSED_FILE_NAME = "HE688_0000_S13.IMG"
  REQUIRED_STORAGE_BYTES = "99517110"
  ^DESCRIPTION = "JP2INFO.TXT"
END_OBJECT = COMPRESSED_FILE
END
