PDS_VERSION_ID = PDS3
/* FILE DATA ELEMENTS */
RECORD_TYPE = STREAM
/* POINTERS TO DATA OBJECTS */
^COMPRESSED_FILE = "HE689_0000_GR3.JP2"
/* IDENTIFICATION DATA ELEMENTS */
DATA_SET_ID = "MEX-M-HRSC-5-REFDR-MAPPROJECTED-V3.0"
DATA_SET_NAME = "MARS EXPRESS HRSC MAP PROJECTED REFDR V3.0"
DETECTOR_ID = MEX_HRSC_GREEN
EVENT_TYPE = "MARS-REGIONAL-MAPPING-Te-Im-Fl"
INSTRUMENT_HOST_ID = MEX
INSTRUMENT_HOST_NAME = "MARS EXPRESS"
INSTRUMENT_ID = HRSC
INSTRUMENT_NAME = "HIGH RESOLUTION STEREO CAMERA"
MISSION_NAME = "MARS EXPRESS"
MISSION_PHASE_NAME = ME_Phase_33
PROCESSING_LEVEL_ID = 3
PRODUCT_CREATION_TIME = 2016-10-30T02:40:36.000Z
PRODUCT_ID = "HE689_0000_GR3.JP2"
RELEASE_ID = 0129
REVISION_ID = 0000
/* QUALITY DATA ELEMENTS */
DATA_QUALITY_ID = 1
DATA_QUALITY_DESC = "Data calculated based on original SPICE kernels"
/* TIME DATA ELEMENTS */
SPACECRAFT_CLOCK_START_COUNT = "1/0386489688.08261"
SPACECRAFT_CLOCK_STOP_COUNT = "1/0386489880.17335"
START_TIME = 2015-08-01T06:15:25.722Z
STOP_TIME = 2015-08-01T06:17:38.228Z
/* ORBITAL DATA ELEMENTS */
ASCENDING_NODE_LONGITUDE = 297.84
MAXIMUM_RESOLUTION = 110.1
FOOTPRINT_POINT_LATITUDE = (-27.3719,-27.3726,-27.3732,-27.3733, -27.3773,-27.1962,-26.9253,-26.6538, -26.4727,-26.2918,-26.1144,-25.9343, -25.6634,-25.4828,-25.3024,-25.1219, -24.9415,-24.7611,-24.4907,-24.3101, -24.1285,-23.9488,-23.7692,-23.5892, -23.4093,-23.2292,-23.0491,-22.7794, -22.5992,-22.3299,-22.0601,-21.8801, -21.7001,-21.5204,-21.341,-21.0715, -20.8918,-20.7124,-20.4436,-20.2641, -20.0834,-19.8775,-19.6631,-19.3421, -19.128,-18.9136,-18.5921,-18.3777, -17.9892,-17.9886,-17.9867,-17.9853, -17.9838,-18.0914,-18.3058,-18.6274, -18.8417,-19.0562,-19.2707,-19.4852, -19.8069,-20.0214,-20.2032,-20.383, -20.5627,-20.7426,-20.9223,-21.1021, -21.2818,-21.4616,-21.6409,-21.9106, -22.0907,-22.3608,-22.6307,-22.8106, -22.9906,-23.1709,-23.3509,-23.5311, -23.7111,-23.8918,-24.0723,-24.2522, -24.4316,-24.702,-24.8823,-25.0623, -25.2432,-25.5136,-25.6943,-25.9655, -26.147,-26.3262,-26.5069,-26.6877, -26.8685,-27.1398,-27.3208,-27.3719)
FOOTPRINT_POINT_LONGITUDE = (197.202,196.977,196.627,196.426, 196.175,196.178,196.181,196.185,196.188 ,196.19,196.189,196.191,196.194,196.196 ,196.198,196.199,196.201,196.203, 196.205,196.206,196.21,196.21,196.211, 196.211,196.212,196.213,196.214,196.215 ,196.216,196.216,196.216,196.217, 196.218,196.218,196.217,196.217,196.217 ,196.216,196.214,196.213,196.215, 196.215,196.214,196.211,196.209,196.208 ,196.207,196.206,196.204,196.465, 196.871,197.131,197.364,197.592,197.591 ,197.588,197.587,197.585,197.584, 197.582,197.58,197.578,197.577,197.576, 197.574,197.573,197.571,197.57,197.569, 197.567,197.565,197.563,197.562,197.56, 197.557,197.556,197.555,197.553,197.552 ,197.55,197.549,197.547,197.546,197.544 ,197.542,197.54,197.538,197.536,197.535 ,197.533,197.531,197.529,197.527, 197.525,197.523,197.522,197.52,197.517, 197.516,197.202)
ORBIT_NUMBER = 14689
ORBITAL_ECCENTRICITY = 0.578
ORBITAL_INCLINATION = 86.92
ORBITAL_SEMIMAJOR_AXIS = 8823.4
PERIAPSIS_ALTITUDE = 331.63
PERIAPSIS_ARGUMENT_ANGLE = 326.0
PERIAPSIS_TIME = 2015-08-01T06:13:31.000Z
SPACECRAFT_ORIENTATION = (0.0,1.0,0.0)
^MEX_ORIENTATION_DESC = "MEX_ORIENTATION_DESC.TXT"
SPACECRAFT_POINTING_MODE = INERT
^MEX_POINTING_DESC = "MEX_POINTING_DESC.TXT"
RIGHT_ASCENSION = 191.965
DECLINATION = 63.631
OFFSET_ANGLE = -1e+32
SPACECRAFT_SOLAR_DISTANCE = 2.40415e+08
TARGET_NAME = MARS
/* CAMERA DATA ELEMENTS */
DETECTOR_TEMPERATURE = 18.1666
FOCAL_PLANE_TEMPERATURE = 7.7677
INST_CMPRS_NAME = "DISCRETE COSINE TRANSFORMATION (DCT)"
INST_CMPRS_RATIO = 7.99697
INST_CMPRS_QUALITY = 0
INST_CMPRS_QUANTZ_TBL_ID = 0
INSTRUMENT_TEMPERATURE = 11.0301
LENS_TEMPERATURE = 8.3794
MACROPIXEL_SIZE = 8
MISSING_FRAMES = 0
PIXEL_SUBSAMPLING_FLAG = N
SIGNAL_CHAIN_ID = 2
/* RADIOMETRIC DATA ELEMENTS */
BANDWIDTH = 88.0
CENTER_FILTER_WAVELENGTH = 538.0
RADIANCE_OFFSET = 0.437915
RADIANCE_SCALING_FACTOR = 0.00652579
REFLECTANCE_SCALING_FACTOR = 0.000324747
MEX:REFLECTANCE_OFFSET = 0.0217922
/* IMAGE OBJECT DEFINITIONS */
OBJECT = IMAGE
  INTERCHANGE_FORMAT = BINARY
  LINES = 5575
  LINE_SAMPLES = 832
  SAMPLE_TYPE = UNSIGNED_INTEGER
  SAMPLE_BITS = 8
  BANDS = 1
  BAND_STORAGE_TYPE = BAND_SEQUENTIAL
  MAXIMUM = 255
  MEAN = 137.024
  MINIMUM = 1
  STANDARD_DEVIATION = 28.5069
END_OBJECT = IMAGE
/* MAP OBJECT DEFINITIONS */
OBJECT = IMAGE_MAP_PROJECTION
  ^DATA_SET_MAP_PROJECTION_CATALOG= "DSMAP.CAT"
  A_AXIS_RADIUS = 3396.0
  B_AXIS_RADIUS = 3396.0
  C_AXIS_RADIUS = 3396.0
  CENTER_LATITUDE = 0.0
  CENTER_LONGITUDE = 197.0
  COORDINATE_SYSTEM_NAME = PLANETOGRAPHIC
  COORDINATE_SYSTEM_TYPE = "BODY-FIXED ROTATING"
  EASTERNMOST_LONGITUDE = 197.592
  FIRST_STANDARD_PARALLEL = "N/A"
  LINE_FIRST_PIXEL = 1
  LINE_LAST_PIXEL = 5575
  LINE_PROJECTION_OFFSET = -10656.9375
  MAP_PROJECTION_ROTATION = 0.0
  MAP_PROJECTION_TYPE = SINUSOIDAL
  MAP_RESOLUTION = 592.713803866667
  MAP_SCALE = 0.1
  MAXIMUM_LATITUDE = -17.9838
  MINIMUM_LATITUDE = -27.3773
  POSITIVE_LONGITUDE_DIRECTION = EAST
  REFERENCE_LATITUDE = "N/A"
  REFERENCE_LONGITUDE = "N/A"
  SAMPLE_FIRST_PIXEL = 1
  SAMPLE_LAST_PIXEL = 832
  SAMPLE_PROJECTION_OFFSET = 484.9375
  SECOND_STANDARD_PARALLEL = "N/A"
  WESTERNMOST_LONGITUDE = 196.175
END_OBJECT = IMAGE_MAP_PROJECTION
/* The JPEG2000 image data file associated with this label. */
OBJECT = COMPRESSED_FILE
  FILE_NAME = "HE689_0000_GR3.JP2"
  RECORD_TYPE = UNDEFINED
  FILE_RECORDS = UNK
  ENCODING_TYPE = "JP2"
  INTERCHANGE_FORMAT = BINARY
  UNCOMPRESSED_FILE_NAME = "HE689_0000_GR3.IMG"
  REQUIRED_STORAGE_BYTES = "4656704"
  ^DESCRIPTION = "JP2INFO.TXT"
END_OBJECT = COMPRESSED_FILE
END
