PDS_VERSION_ID = PDS3
/* FILE DATA ELEMENTS */
RECORD_TYPE = STREAM
/* POINTERS TO DATA OBJECTS */
^COMPRESSED_FILE = "HE689_0000_IR3.JP2"
/* IDENTIFICATION DATA ELEMENTS */
DATA_SET_ID = "MEX-M-HRSC-5-REFDR-MAPPROJECTED-V3.0"
DATA_SET_NAME = "MARS EXPRESS HRSC MAP PROJECTED REFDR V3.0"
DETECTOR_ID = MEX_HRSC_IR
EVENT_TYPE = "MARS-REGIONAL-MAPPING-Te-Im-Fl"
INSTRUMENT_HOST_ID = MEX
INSTRUMENT_HOST_NAME = "MARS EXPRESS"
INSTRUMENT_ID = HRSC
INSTRUMENT_NAME = "HIGH RESOLUTION STEREO CAMERA"
MISSION_NAME = "MARS EXPRESS"
MISSION_PHASE_NAME = ME_Phase_33
PROCESSING_LEVEL_ID = 3
PRODUCT_CREATION_TIME = 2016-10-30T02:40:36.000Z
PRODUCT_ID = "HE689_0000_IR3.JP2"
RELEASE_ID = 0129
REVISION_ID = 0000
/* QUALITY DATA ELEMENTS */
DATA_QUALITY_ID = 1
DATA_QUALITY_DESC = "Data calculated based on original SPICE kernels"
/* TIME DATA ELEMENTS */
SPACECRAFT_CLOCK_START_COUNT = "1/0386489688.08261"
SPACECRAFT_CLOCK_STOP_COUNT = "1/0386489880.17335"
START_TIME = 2015-08-01T06:15:45.404Z
STOP_TIME = 2015-08-01T06:17:59.193Z
/* ORBITAL DATA ELEMENTS */
ASCENDING_NODE_LONGITUDE = 297.84
MAXIMUM_RESOLUTION = 118.8
FOOTPRINT_POINT_LATITUDE = (-27.3397,-27.3424,-27.345,-27.3475, -27.3499,-27.3523,-27.3546,-27.101, -26.9238,-26.7478,-26.4822,-26.3053, -25.9618,-25.786,-25.61,-25.4339, -25.2581,-25.0822,-24.9064,-24.731, -24.5556,-24.3784,-24.2017,-23.9395, -23.7659,-23.591,-23.4166,-23.2417, -23.0668,-22.8933,-22.6305,-22.3709, -22.1973,-22.0229,-21.8481,-21.6735, -21.4998,-21.3004,-21.0936,-20.7842, -20.577,-20.3749,-20.1658,-19.8532, -19.6462,-19.3397,-19.1352,-18.9288, -18.7224,-18.5163,-18.3103,-18.1042, -17.9902,-17.9809,-17.9788,-17.9767, -17.9736,-18.2838,-18.5929,-18.799, -19.0054,-19.2122,-19.4187,-19.625, -19.832,-20.0389,-20.2457,-20.5558, -20.7633,-21.0739,-21.2811,-21.6533, -21.9144,-22.0891,-22.2635,-22.525, -22.699,-22.8732,-23.0478,-23.3099, -23.4847,-23.7467,-23.923,-24.1858, -24.3591,-24.5331,-24.7081,-24.8834, -25.1467,-25.325,-25.6739,-25.8498, -26.0279,-26.2046,-26.3775,-26.5537, -26.7302,-26.9068,-27.0839,-27.3397)
FOOTPRINT_POINT_LONGITUDE = (197.456,197.25,197.043,196.836,196.628 ,196.42,196.21,196.163,196.166,196.169, 196.173,196.176,196.176,196.179,196.181 ,196.183,196.185,196.187,196.189, 196.191,196.192,196.195,196.197,196.199 ,196.2,196.201,196.202,196.203,196.205, 196.205,196.207,196.207,196.208,196.209 ,196.21,196.21,196.211,196.21,196.211, 196.21,196.21,196.208,196.209,196.21, 196.21,196.208,196.206,196.206,196.205, 196.204,196.203,196.203,196.533,196.866 ,197.077,197.275,197.524,197.61,197.608 ,197.607,197.606,197.605,197.604, 197.602,197.601,197.6,197.599,197.597, 197.596,197.594,197.592,197.589,197.588 ,197.587,197.586,197.584,197.583, 197.582,197.581,197.579,197.578,197.576 ,197.575,197.573,197.572,197.57,197.569 ,197.568,197.566,197.565,197.562, 197.561,197.56,197.559,197.557,197.556, 197.554,197.553,197.552,197.456)
ORBIT_NUMBER = 14689
ORBITAL_ECCENTRICITY = 0.578
ORBITAL_INCLINATION = 86.92
ORBITAL_SEMIMAJOR_AXIS = 8823.4
PERIAPSIS_ALTITUDE = 331.63
PERIAPSIS_ARGUMENT_ANGLE = 326.0
PERIAPSIS_TIME = 2015-08-01T06:13:31.000Z
SPACECRAFT_ORIENTATION = (0.0,1.0,0.0)
^MEX_ORIENTATION_DESC = "MEX_ORIENTATION_DESC.TXT"
SPACECRAFT_POINTING_MODE = INERT
^MEX_POINTING_DESC = "MEX_POINTING_DESC.TXT"
RIGHT_ASCENSION = 191.965
DECLINATION = 63.631
OFFSET_ANGLE = -1e+32
SPACECRAFT_SOLAR_DISTANCE = 2.40415e+08
TARGET_NAME = MARS
/* CAMERA DATA ELEMENTS */
DETECTOR_TEMPERATURE = 17.351
FOCAL_PLANE_TEMPERATURE = 7.7677
INST_CMPRS_NAME = "DISCRETE COSINE TRANSFORMATION (DCT)"
INST_CMPRS_RATIO = 8.13488
INST_CMPRS_QUALITY = 0
INST_CMPRS_QUANTZ_TBL_ID = 0
INSTRUMENT_TEMPERATURE = 11.0301
LENS_TEMPERATURE = 8.3794
MACROPIXEL_SIZE = 8
MISSING_FRAMES = 0
PIXEL_SUBSAMPLING_FLAG = N
SIGNAL_CHAIN_ID = 2
/* RADIOMETRIC DATA ELEMENTS */
BANDWIDTH = 81.0
CENTER_FILTER_WAVELENGTH = 955.5
RADIANCE_OFFSET = 0.21091
RADIANCE_SCALING_FACTOR = 0.0068531
REFLECTANCE_SCALING_FACTOR = 0.000854547
MEX:REFLECTANCE_OFFSET = 0.0262994
/* IMAGE OBJECT DEFINITIONS */
OBJECT = IMAGE
  INTERCHANGE_FORMAT = BINARY
  LINES = 5575
  LINE_SAMPLES = 832
  SAMPLE_TYPE = UNSIGNED_INTEGER
  SAMPLE_BITS = 8
  BANDS = 1
  BAND_STORAGE_TYPE = BAND_SEQUENTIAL
  MAXIMUM = 255
  MEAN = 110.845
  MINIMUM = 1
  STANDARD_DEVIATION = 36.5333
END_OBJECT = IMAGE
/* MAP OBJECT DEFINITIONS */
OBJECT = IMAGE_MAP_PROJECTION
  ^DATA_SET_MAP_PROJECTION_CATALOG= "DSMAP.CAT"
  A_AXIS_RADIUS = 3396.0
  B_AXIS_RADIUS = 3396.0
  C_AXIS_RADIUS = 3396.0
  CENTER_LATITUDE = 0.0
  CENTER_LONGITUDE = 197.0
  COORDINATE_SYSTEM_NAME = PLANETOGRAPHIC
  COORDINATE_SYSTEM_TYPE = "BODY-FIXED ROTATING"
  EASTERNMOST_LONGITUDE = 197.61
  FIRST_STANDARD_PARALLEL = "N/A"
  LINE_FIRST_PIXEL = 1
  LINE_LAST_PIXEL = 5575
  LINE_PROJECTION_OFFSET = -10656.9375
  MAP_PROJECTION_ROTATION = 0.0
  MAP_PROJECTION_TYPE = SINUSOIDAL
  MAP_RESOLUTION = 592.713803866667
  MAP_SCALE = 0.1
  MAXIMUM_LATITUDE = -17.9736
  MINIMUM_LATITUDE = -27.3546
  POSITIVE_LONGITUDE_DIRECTION = EAST
  REFERENCE_LATITUDE = "N/A"
  REFERENCE_LONGITUDE = "N/A"
  SAMPLE_FIRST_PIXEL = 1
  SAMPLE_LAST_PIXEL = 832
  SAMPLE_PROJECTION_OFFSET = 484.9375
  SECOND_STANDARD_PARALLEL = "N/A"
  WESTERNMOST_LONGITUDE = 196.163
END_OBJECT = IMAGE_MAP_PROJECTION
/* The JPEG2000 image data file associated with this label. */
OBJECT = COMPRESSED_FILE
  FILE_NAME = "HE689_0000_IR3.JP2"
  RECORD_TYPE = UNDEFINED
  FILE_RECORDS = UNK
  ENCODING_TYPE = "JP2"
  INTERCHANGE_FORMAT = BINARY
  UNCOMPRESSED_FILE_NAME = "HE689_0000_IR3.IMG"
  REQUIRED_STORAGE_BYTES = "4656704"
  ^DESCRIPTION = "JP2INFO.TXT"
END_OBJECT = COMPRESSED_FILE
END
