PDS_VERSION_ID = PDS3
/* FILE DATA ELEMENTS */
RECORD_TYPE = STREAM
/* POINTERS TO DATA OBJECTS */
^COMPRESSED_FILE = "HE689_0000_P23.JP2"
/* IDENTIFICATION DATA ELEMENTS */
DATA_SET_ID = "MEX-M-HRSC-5-REFDR-MAPPROJECTED-V3.0"
DATA_SET_NAME = "MARS EXPRESS HRSC MAP PROJECTED REFDR V3.0"
DETECTOR_ID = MEX_HRSC_P2
EVENT_TYPE = "MARS-REGIONAL-MAPPING-Te-Im-Fl"
INSTRUMENT_HOST_ID = MEX
INSTRUMENT_HOST_NAME = "MARS EXPRESS"
INSTRUMENT_ID = HRSC
INSTRUMENT_NAME = "HIGH RESOLUTION STEREO CAMERA"
MISSION_NAME = "MARS EXPRESS"
MISSION_PHASE_NAME = ME_Phase_33
PROCESSING_LEVEL_ID = 3
PRODUCT_CREATION_TIME = 2016-10-30T02:40:36.000Z
PRODUCT_ID = "HE689_0000_P23.JP2"
RELEASE_ID = 0129
REVISION_ID = 0000
/* QUALITY DATA ELEMENTS */
DATA_QUALITY_ID = 1
DATA_QUALITY_DESC = "Data calculated based on original SPICE kernels"
/* TIME DATA ELEMENTS */
SPACECRAFT_CLOCK_START_COUNT = "1/0386489688.08261"
SPACECRAFT_CLOCK_STOP_COUNT = "1/0386489880.17335"
START_TIME = 2015-08-01T06:15:02.871Z
STOP_TIME = 2015-08-01T06:17:12.866Z
/* ORBITAL DATA ELEMENTS */
ASCENDING_NODE_LONGITUDE = 297.84
MAXIMUM_RESOLUTION = 53.9
FOOTPRINT_POINT_LATITUDE = (-27.4083,-27.407,-27.4042,-27.4, -27.3929,-27.1161,-26.9316,-26.7468, -26.5621,-26.2855,-26.098,-25.9131, -25.7282,-25.4508,-25.2658,-25.0809, -24.8958,-24.7107,-24.5255,-24.3408, -24.1569,-23.9715,-23.7854,-23.5998, -23.3215,-23.0436,-22.8571,-22.5791, -22.3927,-22.1138,-21.8356,-21.6502, -21.4636,-21.1836,-20.9973,-20.8102, -20.5297,-20.3401,-20.1556,-19.9714, -19.7846,-19.5982,-19.4097,-19.2202, -19.0325,-18.8457,-18.5648,-18.3775, -18.1805,-17.9741,-17.9772,-17.9808, -17.9855,-17.9849,-18.0974,-18.3095, -18.4969,-18.6842,-18.9651,-19.2452, -19.4321,-19.619,-19.8061,-20.0858, -20.2724,-20.4591,-20.6458,-20.9256, -21.1121,-21.2982,-21.4847,-21.6721, -21.8591,-22.1373,-22.4162,-22.602, -22.788,-22.9736,-23.1593,-23.345, -23.5304,-23.7161,-23.9008,-24.0862, -24.2727,-24.5511,-24.7364,-24.9218, -25.1999,-25.3847,-25.57,-25.755, -26.0314,-26.2169,-26.4951,-26.6799, -26.8647,-27.0495,-27.2343,-27.4083)
FOOTPRINT_POINT_LONGITUDE = (197.47,197.173,196.792,196.408,196.182 ,196.186,196.189,196.191,196.193, 196.197,196.195,196.196,196.198,196.201 ,196.202,196.204,196.205,196.206, 196.207,196.209,196.211,196.212,196.212 ,196.213,196.213,196.215,196.214, 196.215,196.215,196.215,196.215,196.215 ,196.215,196.214,196.213,196.212, 196.211,196.208,196.208,196.209,196.208 ,196.208,196.206,196.203,196.201,196.2, 196.198,196.197,196.195,196.194,196.477 ,196.683,197.093,197.398,197.567, 197.565,197.563,197.562,197.559,197.557 ,197.555,197.553,197.552,197.549, 197.547,197.546,197.544,197.541,197.54, 197.538,197.536,197.534,197.532,197.529 ,197.527,197.525,197.523,197.521, 197.519,197.518,197.516,197.514,197.512 ,197.51,197.508,197.505,197.503,197.501 ,197.498,197.496,197.494,197.492, 197.489,197.487,197.483,197.481,197.479 ,197.477,197.475,197.47)
ORBIT_NUMBER = 14689
ORBITAL_ECCENTRICITY = 0.578
ORBITAL_INCLINATION = 86.92
ORBITAL_SEMIMAJOR_AXIS = 8823.4
PERIAPSIS_ALTITUDE = 331.63
PERIAPSIS_ARGUMENT_ANGLE = 326.0
PERIAPSIS_TIME = 2015-08-01T06:13:31.000Z
SPACECRAFT_ORIENTATION = (0.0,1.0,0.0)
^MEX_ORIENTATION_DESC = "MEX_ORIENTATION_DESC.TXT"
SPACECRAFT_POINTING_MODE = INERT
^MEX_POINTING_DESC = "MEX_POINTING_DESC.TXT"
RIGHT_ASCENSION = 191.965
DECLINATION = 63.631
OFFSET_ANGLE = -1e+32
SPACECRAFT_SOLAR_DISTANCE = 2.40415e+08
TARGET_NAME = MARS
/* CAMERA DATA ELEMENTS */
DETECTOR_TEMPERATURE = 18.3705
FOCAL_PLANE_TEMPERATURE = 7.7677
INST_CMPRS_NAME = "DISCRETE COSINE TRANSFORMATION (DCT)"
INST_CMPRS_RATIO = 7.21982
INST_CMPRS_QUALITY = 0
INST_CMPRS_QUANTZ_TBL_ID = 0
INSTRUMENT_TEMPERATURE = 11.0301
LENS_TEMPERATURE = 8.3794
MACROPIXEL_SIZE = 4
MISSING_FRAMES = 0
PIXEL_SUBSAMPLING_FLAG = N
SIGNAL_CHAIN_ID = 3
/* RADIOMETRIC DATA ELEMENTS */
BANDWIDTH = 177.0
CENTER_FILTER_WAVELENGTH = 676.5
RADIANCE_OFFSET = 1.05525
RADIANCE_SCALING_FACTOR = 0.024077
REFLECTANCE_SCALING_FACTOR = 0.000737872
MEX:REFLECTANCE_OFFSET = 0.0323396
/* IMAGE OBJECT DEFINITIONS */
OBJECT = IMAGE
  INTERCHANGE_FORMAT = BINARY
  LINES = 11150
  LINE_SAMPLES = 1663
  SAMPLE_TYPE = UNSIGNED_INTEGER
  SAMPLE_BITS = 8
  BANDS = 1
  BAND_STORAGE_TYPE = BAND_SEQUENTIAL
  MAXIMUM = 255
  MEAN = 116.988
  MINIMUM = 1
  STANDARD_DEVIATION = 34.6794
END_OBJECT = IMAGE
/* MAP OBJECT DEFINITIONS */
OBJECT = IMAGE_MAP_PROJECTION
  ^DATA_SET_MAP_PROJECTION_CATALOG= "DSMAP.CAT"
  A_AXIS_RADIUS = 3396.0
  B_AXIS_RADIUS = 3396.0
  C_AXIS_RADIUS = 3396.0
  CENTER_LATITUDE = 0.0
  CENTER_LONGITUDE = 197.0
  COORDINATE_SYSTEM_NAME = PLANETOGRAPHIC
  COORDINATE_SYSTEM_TYPE = "BODY-FIXED ROTATING"
  EASTERNMOST_LONGITUDE = 197.567
  FIRST_STANDARD_PARALLEL = "N/A"
  LINE_FIRST_PIXEL = 1
  LINE_LAST_PIXEL = 11150
  LINE_PROJECTION_OFFSET = -21313.375
  MAP_PROJECTION_ROTATION = 0.0
  MAP_PROJECTION_TYPE = SINUSOIDAL
  MAP_RESOLUTION = 1185.42760773333
  MAP_SCALE = 0.05
  MAXIMUM_LATITUDE = -17.9741
  MINIMUM_LATITUDE = -27.4083
  POSITIVE_LONGITUDE_DIRECTION = EAST
  REFERENCE_LATITUDE = "N/A"
  REFERENCE_LONGITUDE = "N/A"
  SAMPLE_FIRST_PIXEL = 1
  SAMPLE_LAST_PIXEL = 1663
  SAMPLE_PROJECTION_OFFSET = 970.375
  SECOND_STANDARD_PARALLEL = "N/A"
  WESTERNMOST_LONGITUDE = 196.182
END_OBJECT = IMAGE_MAP_PROJECTION
/* The JPEG2000 image data file associated with this label. */
OBJECT = COMPRESSED_FILE
  FILE_NAME = "HE689_0000_P23.JP2"
  RECORD_TYPE = UNDEFINED
  FILE_RECORDS = UNK
  ENCODING_TYPE = "JP2"
  INTERCHANGE_FORMAT = BINARY
  UNCOMPRESSED_FILE_NAME = "HE689_0000_P23.IMG"
  REQUIRED_STORAGE_BYTES = "18562406"
  ^DESCRIPTION = "JP2INFO.TXT"
END_OBJECT = COMPRESSED_FILE
END
