PDS_VERSION_ID = PDS3
/* FILE DATA ELEMENTS */
RECORD_TYPE = STREAM
/* POINTERS TO DATA OBJECTS */
^COMPRESSED_FILE = "HE695_0000_S23.JP2"
/* IDENTIFICATION DATA ELEMENTS */
DATA_SET_ID = "MEX-M-HRSC-5-REFDR-MAPPROJECTED-V3.0"
DATA_SET_NAME = "MARS EXPRESS HRSC MAP PROJECTED REFDR V3.0"
DETECTOR_ID = MEX_HRSC_S2
EVENT_TYPE = "MARS-REGIONAL-MAPPING-Vo-Lc-La"
INSTRUMENT_HOST_ID = MEX
INSTRUMENT_HOST_NAME = "MARS EXPRESS"
INSTRUMENT_ID = HRSC
INSTRUMENT_NAME = "HIGH RESOLUTION STEREO CAMERA"
MISSION_NAME = "MARS EXPRESS"
MISSION_PHASE_NAME = ME_Phase_33
PROCESSING_LEVEL_ID = 3
PRODUCT_CREATION_TIME = 2016-10-30T02:40:36.000Z
PRODUCT_ID = "HE695_0000_S23.JP2"
RELEASE_ID = 0129
REVISION_ID = 0000
/* QUALITY DATA ELEMENTS */
DATA_QUALITY_ID = 1
DATA_QUALITY_DESC = "Data calculated based on original SPICE kernels"
/* TIME DATA ELEMENTS */
SPACECRAFT_CLOCK_START_COUNT = "1/0386640885.07331"
SPACECRAFT_CLOCK_STOP_COUNT = "1/0386641122.62951"
START_TIME = 2015-08-03T00:14:51.188Z
STOP_TIME = 2015-08-03T00:17:13.688Z
/* ORBITAL DATA ELEMENTS */
ASCENDING_NODE_LONGITUDE = 297.73
MAXIMUM_RESOLUTION = 32
FOOTPRINT_POINT_LATITUDE = (-17.3394,-17.348,-17.3559,-17.3633, -17.37,-17.3763,-17.1041,-16.9211, -16.739,-16.5575,-16.3755,-16.1008, -15.9163,-15.7297,-15.4565,-15.2574, -15.0502,-14.8711,-14.5952,-14.4097, -14.2291,-14.0617,-13.7885,-13.5332, -13.3647,-13.1832,-13.0017,-12.8206, -12.6391,-12.4536,-12.2675,-12.0811, -11.8949,-11.6157,-11.4298,-11.24, -11.0491,-10.7625,-10.5714,-10.3806, -10.188,-9.89543,-9.70007,-9.40728, -9.21333,-8.91359,-8.71037,-8.51099, -8.31292,-8.11409,-8.0076,-7.99189, -7.99061,-7.97535,-7.96341,-8.05107, -8.25146,-8.45253,-8.64173,-8.84023, -9.04359,-9.24848,-9.44332,-9.63908, -9.83548,-10.1299,-10.3222,-10.5136, -10.7989,-10.9924,-11.1829,-11.3728, -11.5591,-11.7456,-12.0256,-12.2121, -12.3982,-12.6747,-12.8562,-13.1292, -13.4023,-13.5849,-13.7668,-14.0926, -14.2649,-14.4626,-14.7642,-15.093, -15.2712,-15.4552,-15.644,-15.8508, -16.1382,-16.4125,-16.5956,-16.779, -16.9573,-17.1444,-17.3274,-17.3394)
FOOTPRINT_POINT_LONGITUDE = (304.507,304.289,304.073,303.857, 303.644,303.431,303.329,303.326,303.324 ,303.321,303.318,303.313,303.31,303.306 ,303.301,303.297,303.291,303.288, 303.283,303.279,303.275,303.273,303.267 ,303.263,303.261,303.257,303.253, 303.249,303.245,303.241,303.237,303.232 ,303.228,303.222,303.217,303.213, 303.208,303.201,303.196,303.191,303.186 ,303.179,303.174,303.166,303.161, 303.152,303.147,303.141,303.136,303.13, 303.249,303.51,303.772,304.129,304.395, 304.731,304.731,304.73,304.734,304.735, 304.733,304.728,304.728,304.728,304.727 ,304.726,304.726,304.725,304.726, 304.724,304.725,304.725,304.725,304.724 ,304.724,304.724,304.724,304.725, 304.725,304.725,304.725,304.725,304.725 ,304.745,304.75,304.742,304.728,304.747 ,304.749,304.749,304.746,304.733, 304.726,304.727,304.727,304.726,304.729 ,304.727,304.727,304.507)
ORBIT_NUMBER = 14695
ORBITAL_ECCENTRICITY = 0.578
ORBITAL_INCLINATION = 86.91
ORBITAL_SEMIMAJOR_AXIS = 8823.91
PERIAPSIS_ALTITUDE = 331.54
PERIAPSIS_ARGUMENT_ANGLE = 325.0
PERIAPSIS_TIME = 2015-08-03T00:10:55.000Z
SPACECRAFT_ORIENTATION = (0.0,1.0,0.0)
^MEX_ORIENTATION_DESC = "MEX_ORIENTATION_DESC.TXT"
SPACECRAFT_POINTING_MODE = ACROSSTRACK
^MEX_POINTING_DESC = "MEX_POINTING_DESC.TXT"
RIGHT_ASCENSION = -1e+32
DECLINATION = -1e+32
OFFSET_ANGLE = -0.5
SPACECRAFT_SOLAR_DISTANCE = 2.40675e+08
TARGET_NAME = MARS
/* CAMERA DATA ELEMENTS */
DETECTOR_TEMPERATURE = 19.5939
FOCAL_PLANE_TEMPERATURE = 8.1755
INST_CMPRS_NAME = "DISCRETE COSINE TRANSFORMATION (DCT)"
INST_CMPRS_RATIO = 13.1994
INST_CMPRS_QUALITY = 0
INST_CMPRS_QUANTZ_TBL_ID = 0
INSTRUMENT_TEMPERATURE = 11.6418
LENS_TEMPERATURE = 8.5833
MACROPIXEL_SIZE = 2
MISSING_FRAMES = 0
PIXEL_SUBSAMPLING_FLAG = N
SIGNAL_CHAIN_ID = 1
/* RADIOMETRIC DATA ELEMENTS */
BANDWIDTH = 178.0
CENTER_FILTER_WAVELENGTH = 679.0
RADIANCE_OFFSET = 1.6743
RADIANCE_SCALING_FACTOR = 0.0153204
REFLECTANCE_SCALING_FACTOR = 0.00046996
MEX:REFLECTANCE_OFFSET = 0.0513599
/* IMAGE OBJECT DEFINITIONS */
OBJECT = IMAGE
  INTERCHANGE_FORMAT = BINARY
  LINES = 22251
  LINE_SAMPLES = 4197
  SAMPLE_TYPE = UNSIGNED_INTEGER
  SAMPLE_BITS = 8
  BANDS = 1
  BAND_STORAGE_TYPE = BAND_SEQUENTIAL
  MAXIMUM = 255
  MEAN = 117.172
  MINIMUM = 1
  STANDARD_DEVIATION = 20.7872
END_OBJECT = IMAGE
/* MAP OBJECT DEFINITIONS */
OBJECT = IMAGE_MAP_PROJECTION
  ^DATA_SET_MAP_PROJECTION_CATALOG= "DSMAP.CAT"
  A_AXIS_RADIUS = 3396.0
  B_AXIS_RADIUS = 3396.0
  C_AXIS_RADIUS = 3396.0
  CENTER_LATITUDE = 0.0
  CENTER_LONGITUDE = 304.0
  COORDINATE_SYSTEM_NAME = PLANETOGRAPHIC
  COORDINATE_SYSTEM_TYPE = "BODY-FIXED ROTATING"
  EASTERNMOST_LONGITUDE = 304.75
  FIRST_STANDARD_PARALLEL = "N/A"
  LINE_FIRST_PIXEL = 1
  LINE_LAST_PIXEL = 22251
  LINE_PROJECTION_OFFSET = -18876.25
  MAP_PROJECTION_ROTATION = 0.0
  MAP_PROJECTION_TYPE = SINUSOIDAL
  MAP_RESOLUTION = 2370.85521546667
  MAP_SCALE = 0.025
  MAXIMUM_LATITUDE = -7.96341
  MINIMUM_LATITUDE = -17.3763
  POSITIVE_LONGITUDE_DIRECTION = EAST
  REFERENCE_LATITUDE = "N/A"
  REFERENCE_LONGITUDE = "N/A"
  SAMPLE_FIRST_PIXEL = 1
  SAMPLE_LAST_PIXEL = 4197
  SAMPLE_PROJECTION_OFFSET = 2211.25
  SECOND_STANDARD_PARALLEL = "N/A"
  WESTERNMOST_LONGITUDE = 303.13
END_OBJECT = IMAGE_MAP_PROJECTION
/* The JPEG2000 image data file associated with this label. */
OBJECT = COMPRESSED_FILE
  FILE_NAME = "HE695_0000_S23.JP2"
  RECORD_TYPE = UNDEFINED
  FILE_RECORDS = UNK
  ENCODING_TYPE = "JP2"
  INTERCHANGE_FORMAT = BINARY
  UNCOMPRESSED_FILE_NAME = "HE695_0000_S23.IMG"
  REQUIRED_STORAGE_BYTES = "93412629"
  ^DESCRIPTION = "JP2INFO.TXT"
END_OBJECT = COMPRESSED_FILE
END
