PDS_VERSION_ID = PDS3
/* FILE DATA ELEMENTS */
RECORD_TYPE = STREAM
/* POINTERS TO DATA OBJECTS */
^COMPRESSED_FILE = "HE700_0000_IR3.JP2"
/* IDENTIFICATION DATA ELEMENTS */
DATA_SET_ID = "MEX-M-HRSC-5-REFDR-MAPPROJECTED-V3.0"
DATA_SET_NAME = "MARS EXPRESS HRSC MAP PROJECTED REFDR V3.0"
DETECTOR_ID = MEX_HRSC_IR
EVENT_TYPE = "MARS-REGIONAL-MAPPING-Im-Fl"
INSTRUMENT_HOST_ID = MEX
INSTRUMENT_HOST_NAME = "MARS EXPRESS"
INSTRUMENT_ID = HRSC
INSTRUMENT_NAME = "HIGH RESOLUTION STEREO CAMERA"
MISSION_NAME = "MARS EXPRESS"
MISSION_PHASE_NAME = ME_Phase_33
PROCESSING_LEVEL_ID = 3
PRODUCT_CREATION_TIME = 2016-10-30T02:40:36.000Z
PRODUCT_ID = "HE700_0000_IR3.JP2"
RELEASE_ID = 0129
REVISION_ID = 0000
/* QUALITY DATA ELEMENTS */
DATA_QUALITY_ID = 1
DATA_QUALITY_DESC = "Data calculated based on original SPICE kernels"
/* TIME DATA ELEMENTS */
SPACECRAFT_CLOCK_START_COUNT = "1/0386766496.08281"
SPACECRAFT_CLOCK_STOP_COUNT = "1/0386766653.47010"
START_TIME = 2015-08-04T11:09:16.619Z
STOP_TIME = 2015-08-04T11:10:52.540Z
/* ORBITAL DATA ELEMENTS */
ASCENDING_NODE_LONGITUDE = 297.63
MAXIMUM_RESOLUTION = 110.7
FOOTPRINT_POINT_LATITUDE = (-34.8988,-34.8946,-34.8901,-34.8854, -34.8806,-34.8756,-34.8331,-34.7094, -34.586,-34.4623,-34.3391,-34.2155, -34.0923,-33.9075,-33.784,-33.6607, -33.476,-33.3524,-33.2294,-33.1061, -32.9832,-32.8604,-32.6764,-32.5536, -32.3696,-32.1864,-32.0631,-31.9408, -31.8184,-31.6961,-31.5735,-31.3902, -31.1468,-31.0251,-30.8397,-30.7139, -30.5872,-30.4611,-30.3349,-30.209, -30.0825,-29.9565,-29.7685,-29.6429, -29.5171,-29.392,-29.2663,-29.1431, -29.0168,-28.8285,-28.7037,-28.7046, -28.7086,-28.7124,-28.7175,-28.7205, -28.7268,-28.8523,-28.9776,-29.1034, -29.2289,-29.3545,-29.48,-29.6056, -29.7314,-29.8572,-29.9826,-30.1082, -30.2339,-30.3593,-30.5507,-30.6805, -30.807,-31.0493,-31.2336,-31.4769, -31.6603,-31.7831,-31.9045,-32.0271, -32.211,-32.3341,-32.4579,-32.5843, -32.8275,-33.0119,-33.1348,-33.261, -33.4429,-33.5659,-33.7508,-33.874, -34.0588,-34.1822,-34.3669,-34.4902, -34.6749,-34.7987,-34.9225,-34.8988)
FOOTPRINT_POINT_LONGITUDE = (152.966,152.757,152.548,152.34,152.133 ,151.927,151.762,151.765,151.767,151.77 ,151.772,151.774,151.777,151.78,151.782 ,151.784,151.787,151.79,151.792,151.794 ,151.795,151.797,151.8,151.802,151.804, 151.807,151.808,151.81,151.811,151.813, 151.814,151.816,151.819,151.82,151.821, 151.823,151.824,151.825,151.826,151.827 ,151.828,151.829,151.83,151.831,151.832 ,151.833,151.834,151.834,151.835, 151.836,151.836,152.025,152.229,152.446 ,152.716,152.91,153.204,153.203,153.203 ,153.202,153.202,153.201,153.201,153.2, 153.199,153.199,153.198,153.197,153.196 ,153.195,153.196,153.197,153.197, 153.191,153.191,153.188,153.187,153.187 ,153.185,153.184,153.183,153.183, 153.183,153.184,153.181,153.18,153.179, 153.18,153.177,153.177,153.175,153.175, 153.173,153.172,153.171,153.17,153.168, 153.167,153.167,152.966)
ORBIT_NUMBER = 14700
ORBITAL_ECCENTRICITY = 0.578
ORBITAL_INCLINATION = 86.9
ORBITAL_SEMIMAJOR_AXIS = 8822.84
PERIAPSIS_ALTITUDE = 331.91
PERIAPSIS_ARGUMENT_ANGLE = 324.15
PERIAPSIS_TIME = 2015-08-04T11:08:39.000Z
SPACECRAFT_ORIENTATION = (0.0,1.0,0.0)
^MEX_ORIENTATION_DESC = "MEX_ORIENTATION_DESC.TXT"
SPACECRAFT_POINTING_MODE = ACROSSTRACK
^MEX_POINTING_DESC = "MEX_POINTING_DESC.TXT"
RIGHT_ASCENSION = -1e+32
DECLINATION = -1e+32
OFFSET_ANGLE = -0.3
SPACECRAFT_SOLAR_DISTANCE = 2.40889e+08
TARGET_NAME = MARS
/* CAMERA DATA ELEMENTS */
DETECTOR_TEMPERATURE = 17.5549
FOCAL_PLANE_TEMPERATURE = 7.9716
INST_CMPRS_NAME = "DISCRETE COSINE TRANSFORMATION (DCT)"
INST_CMPRS_RATIO = 12.3197
INST_CMPRS_QUALITY = 0
INST_CMPRS_QUANTZ_TBL_ID = 0
INSTRUMENT_TEMPERATURE = 11.6418
LENS_TEMPERATURE = 8.3794
MACROPIXEL_SIZE = 8
MISSING_FRAMES = 0
PIXEL_SUBSAMPLING_FLAG = N
SIGNAL_CHAIN_ID = 2
/* RADIOMETRIC DATA ELEMENTS */
BANDWIDTH = 81.0
CENTER_FILTER_WAVELENGTH = 955.5
RADIANCE_OFFSET = 0.214632
RADIANCE_SCALING_FACTOR = 0.00302019
REFLECTANCE_SCALING_FACTOR = 0.000378092
MEX:REFLECTANCE_OFFSET = 0.0268693
/* IMAGE OBJECT DEFINITIONS */
OBJECT = IMAGE
  INTERCHANGE_FORMAT = BINARY
  LINES = 3687
  LINE_SAMPLES = 774
  SAMPLE_TYPE = UNSIGNED_INTEGER
  SAMPLE_BITS = 8
  BANDS = 1
  BAND_STORAGE_TYPE = BAND_SEQUENTIAL
  MAXIMUM = 254
  MEAN = 101.383
  MINIMUM = 1
  STANDARD_DEVIATION = 17.3862
END_OBJECT = IMAGE
/* MAP OBJECT DEFINITIONS */
OBJECT = IMAGE_MAP_PROJECTION
  ^DATA_SET_MAP_PROJECTION_CATALOG= "DSMAP.CAT"
  A_AXIS_RADIUS = 3396.0
  B_AXIS_RADIUS = 3396.0
  C_AXIS_RADIUS = 3396.0
  CENTER_LATITUDE = 0.0
  CENTER_LONGITUDE = 152.0
  COORDINATE_SYSTEM_NAME = PLANETOGRAPHIC
  COORDINATE_SYSTEM_TYPE = "BODY-FIXED ROTATING"
  EASTERNMOST_LONGITUDE = 153.204
  FIRST_STANDARD_PARALLEL = "N/A"
  LINE_FIRST_PIXEL = 1
  LINE_LAST_PIXEL = 3687
  LINE_PROJECTION_OFFSET = -17023.1875
  MAP_PROJECTION_ROTATION = 0.0
  MAP_PROJECTION_TYPE = SINUSOIDAL
  MAP_RESOLUTION = 592.713803866667
  MAP_SCALE = 0.1
  MAXIMUM_LATITUDE = -28.7037
  MINIMUM_LATITUDE = -34.9225
  POSITIVE_LONGITUDE_DIRECTION = EAST
  REFERENCE_LATITUDE = "N/A"
  REFERENCE_LONGITUDE = "N/A"
  SAMPLE_FIRST_PIXEL = 1
  SAMPLE_LAST_PIXEL = 774
  SAMPLE_PROJECTION_OFFSET = 127.5625
  SECOND_STANDARD_PARALLEL = "N/A"
  WESTERNMOST_LONGITUDE = 151.762
END_OBJECT = IMAGE_MAP_PROJECTION
/* The JPEG2000 image data file associated with this label. */
OBJECT = COMPRESSED_FILE
  FILE_NAME = "HE700_0000_IR3.JP2"
  RECORD_TYPE = UNDEFINED
  FILE_RECORDS = UNK
  ENCODING_TYPE = "JP2"
  INTERCHANGE_FORMAT = BINARY
  UNCOMPRESSED_FILE_NAME = "HE700_0000_IR3.IMG"
  REQUIRED_STORAGE_BYTES = "2872314"
  ^DESCRIPTION = "JP2INFO.TXT"
END_OBJECT = COMPRESSED_FILE
END
