PDS_VERSION_ID = PDS3
/* FILE DATA ELEMENTS */
RECORD_TYPE = STREAM
/* POINTERS TO DATA OBJECTS */
^COMPRESSED_FILE = "HE700_0000_ND3.JP2"
/* IDENTIFICATION DATA ELEMENTS */
DATA_SET_ID = "MEX-M-HRSC-5-REFDR-MAPPROJECTED-V3.0"
DATA_SET_NAME = "MARS EXPRESS HRSC MAP PROJECTED REFDR V3.0"
DETECTOR_ID = MEX_HRSC_NADIR
EVENT_TYPE = "MARS-REGIONAL-MAPPING-Im-Fl"
INSTRUMENT_HOST_ID = MEX
INSTRUMENT_HOST_NAME = "MARS EXPRESS"
INSTRUMENT_ID = HRSC
INSTRUMENT_NAME = "HIGH RESOLUTION STEREO CAMERA"
MISSION_NAME = "MARS EXPRESS"
MISSION_PHASE_NAME = ME_Phase_33
PROCESSING_LEVEL_ID = 3
PRODUCT_CREATION_TIME = 2016-10-30T02:40:36.000Z
PRODUCT_ID = "HE700_0000_ND3.JP2"
RELEASE_ID = 0129
REVISION_ID = 0000
/* QUALITY DATA ELEMENTS */
DATA_QUALITY_ID = 1
DATA_QUALITY_DESC = "Data calculated based on original SPICE kernels"
/* TIME DATA ELEMENTS */
SPACECRAFT_CLOCK_START_COUNT = "1/0386766496.08281"
SPACECRAFT_CLOCK_STOP_COUNT = "1/0386766653.47010"
START_TIME = 2015-08-04T11:08:51.822Z
STOP_TIME = 2015-08-04T11:10:26.808Z
/* ORBITAL DATA ELEMENTS */
ASCENDING_NODE_LONGITUDE = 297.63
MAXIMUM_RESOLUTION = 13.2
FOOTPRINT_POINT_LATITUDE = (-34.9391,-34.938,-34.9364,-34.9344, -34.931,-34.9279,-34.7402,-34.6167, -34.4313,-34.3078,-34.1842,-34.0606, -33.8753,-33.7518,-33.6282,-33.4429, -33.3194,-33.1959,-33.0724,-32.9489, -32.8253,-32.7018,-32.5784,-32.4549, -32.3314,-32.1462,-32.0228,-31.8993, -31.7759,-31.6525,-31.5291,-31.344, -31.2206,-31.0973,-30.9123,-30.7889, -30.6656,-30.5424,-30.3575,-30.1726, -30.0494,-29.9262,-29.7414,-29.6183, -29.4952,-29.3105,-29.1199,-28.9928, -28.8657,-28.7386,-28.7214,-28.7225, -28.7234,-28.7238,-28.724,-28.7877, -28.915,-29.0423,-29.1696,-29.3589, -29.4822,-29.6055,-29.7288,-29.8521, -29.9755,-30.0988,-30.2222,-30.3456, -30.5308,-30.6541,-30.8393,-30.9628, -31.1482,-31.2717,-31.3952,-31.5188, -31.6424,-31.7659,-31.8895,-32.0131, -32.1367,-32.3222,-32.5076,-32.693, -32.8167,-32.9404,-33.0641,-33.2495, -33.3733,-33.5589,-33.6826,-33.8063, -33.9919,-34.1157,-34.2394,-34.3632, -34.4869,-34.6107,-34.7344,-34.9391)
FOOTPRINT_POINT_LONGITUDE = (153.06,152.839,152.618,152.398,152.084 ,151.853,151.751,151.753,151.757,151.76 ,151.763,151.765,151.769,151.771, 151.773,151.777,151.779,151.781,151.784 ,151.786,151.788,151.79,151.792,151.794 ,151.795,151.798,151.8,151.801,151.803, 151.805,151.806,151.809,151.81,151.811, 151.813,151.815,151.816,151.817,151.819 ,151.821,151.822,151.823,151.825, 151.826,151.827,151.828,151.829,151.83, 151.831,151.832,152.136,152.336,152.549 ,152.737,153.019,153.188,153.188, 153.188,153.187,153.187,153.186,153.186 ,153.185,153.185,153.184,153.183, 153.183,153.182,153.182,153.185,153.184 ,153.181,153.179,153.179,153.177, 153.176,153.176,153.175,153.174,153.174 ,153.173,153.173,153.173,153.173, 153.171,153.171,153.17,153.172,153.169, 153.168,153.167,153.166,153.165,153.165 ,153.164,153.163,153.162,153.161, 153.161,153.06)
ORBIT_NUMBER = 14700
ORBITAL_ECCENTRICITY = 0.578
ORBITAL_INCLINATION = 86.9
ORBITAL_SEMIMAJOR_AXIS = 8822.84
PERIAPSIS_ALTITUDE = 331.91
PERIAPSIS_ARGUMENT_ANGLE = 324.15
PERIAPSIS_TIME = 2015-08-04T11:08:39.000Z
SPACECRAFT_ORIENTATION = (0.0,1.0,0.0)
^MEX_ORIENTATION_DESC = "MEX_ORIENTATION_DESC.TXT"
SPACECRAFT_POINTING_MODE = ACROSSTRACK
^MEX_POINTING_DESC = "MEX_POINTING_DESC.TXT"
RIGHT_ASCENSION = -1e+32
DECLINATION = -1e+32
OFFSET_ANGLE = -0.3
SPACECRAFT_SOLAR_DISTANCE = 2.40889e+08
TARGET_NAME = MARS
/* CAMERA DATA ELEMENTS */
DETECTOR_TEMPERATURE = 18.5744
FOCAL_PLANE_TEMPERATURE = 7.9716
INST_CMPRS_NAME = "DISCRETE COSINE TRANSFORMATION (DCT)"
INST_CMPRS_RATIO = 7.67602
INST_CMPRS_QUALITY = 0
INST_CMPRS_QUANTZ_TBL_ID = 0
INSTRUMENT_TEMPERATURE = 11.6418
LENS_TEMPERATURE = 8.3794
MACROPIXEL_SIZE = 1
MISSING_FRAMES = 0
PIXEL_SUBSAMPLING_FLAG = N
SIGNAL_CHAIN_ID = 0
/* RADIOMETRIC DATA ELEMENTS */
BANDWIDTH = 177.0
CENTER_FILTER_WAVELENGTH = 677.5
RADIANCE_OFFSET = 1.01538
RADIANCE_SCALING_FACTOR = 0.011756
REFLECTANCE_SCALING_FACTOR = 0.000362391
MEX:REFLECTANCE_OFFSET = 0.0313001
/* IMAGE OBJECT DEFINITIONS */
OBJECT = IMAGE
  INTERCHANGE_FORMAT = BINARY
  LINES = 29492
  LINE_SAMPLES = 6191
  SAMPLE_TYPE = UNSIGNED_INTEGER
  SAMPLE_BITS = 8
  BANDS = 1
  BAND_STORAGE_TYPE = BAND_SEQUENTIAL
  MAXIMUM = 255
  MEAN = 103.454
  MINIMUM = 1
  STANDARD_DEVIATION = 18.5404
END_OBJECT = IMAGE
/* MAP OBJECT DEFINITIONS */
OBJECT = IMAGE_MAP_PROJECTION
  ^DATA_SET_MAP_PROJECTION_CATALOG= "DSMAP.CAT"
  A_AXIS_RADIUS = 3396.0
  B_AXIS_RADIUS = 3396.0
  C_AXIS_RADIUS = 3396.0
  CENTER_LATITUDE = 0.0
  CENTER_LONGITUDE = 152.0
  COORDINATE_SYSTEM_NAME = PLANETOGRAPHIC
  COORDINATE_SYSTEM_TYPE = "BODY-FIXED ROTATING"
  EASTERNMOST_LONGITUDE = 153.188
  FIRST_STANDARD_PARALLEL = "N/A"
  LINE_FIRST_PIXEL = 1
  LINE_LAST_PIXEL = 29492
  LINE_PROJECTION_OFFSET = -136182.0
  MAP_PROJECTION_ROTATION = 0.0
  MAP_PROJECTION_TYPE = SINUSOIDAL
  MAP_RESOLUTION = 4741.71043093333
  MAP_SCALE = 0.0125
  MAXIMUM_LATITUDE = -28.7214
  MINIMUM_LATITUDE = -34.9391
  POSITIVE_LONGITUDE_DIRECTION = EAST
  REFERENCE_LATITUDE = "N/A"
  REFERENCE_LONGITUDE = "N/A"
  SAMPLE_FIRST_PIXEL = 1
  SAMPLE_LAST_PIXEL = 6191
  SAMPLE_PROJECTION_OFFSET = 1024.0
  SECOND_STANDARD_PARALLEL = "N/A"
  WESTERNMOST_LONGITUDE = 151.751
END_OBJECT = IMAGE_MAP_PROJECTION
/* The JPEG2000 image data file associated with this label. */
OBJECT = COMPRESSED_FILE
  FILE_NAME = "HE700_0000_ND3.JP2"
  RECORD_TYPE = UNDEFINED
  FILE_RECORDS = UNK
  ENCODING_TYPE = "JP2"
  INTERCHANGE_FORMAT = BINARY
  UNCOMPRESSED_FILE_NAME = "HE700_0000_ND3.IMG"
  REQUIRED_STORAGE_BYTES = "182615927"
  ^DESCRIPTION = "JP2INFO.TXT"
END_OBJECT = COMPRESSED_FILE
END
