PDS_VERSION_ID = PDS3
/* FILE DATA ELEMENTS */
RECORD_TYPE = STREAM
/* POINTERS TO DATA OBJECTS */
^COMPRESSED_FILE = "HE715_0000_GR3.JP2"
/* IDENTIFICATION DATA ELEMENTS */
DATA_SET_ID = "MEX-M-HRSC-5-REFDR-MAPPROJECTED-V3.0"
DATA_SET_NAME = "MARS EXPRESS HRSC MAP PROJECTED REFDR V3.0"
DETECTOR_ID = MEX_HRSC_GREEN
EVENT_TYPE = "MARS-REGIONAL-MAPPING-Gl-Pf-La"
INSTRUMENT_HOST_ID = MEX
INSTRUMENT_HOST_NAME = "MARS EXPRESS"
INSTRUMENT_ID = HRSC
INSTRUMENT_NAME = "HIGH RESOLUTION STEREO CAMERA"
MISSION_NAME = "MARS EXPRESS"
MISSION_PHASE_NAME = ME_Phase_33
PROCESSING_LEVEL_ID = 3
PRODUCT_CREATION_TIME = 2016-10-30T02:40:36.000Z
PRODUCT_ID = "HE715_0000_GR3.JP2"
RELEASE_ID = 0129
REVISION_ID = 0000
/* QUALITY DATA ELEMENTS */
DATA_QUALITY_ID = 1
DATA_QUALITY_DESC = "Data calculated based on original SPICE kernels"
/* TIME DATA ELEMENTS */
SPACECRAFT_CLOCK_START_COUNT = "1/0387144144.08228"
SPACECRAFT_CLOCK_STOP_COUNT = "1/0387144349.64805"
START_TIME = 2015-08-08T20:03:04.981Z
STOP_TIME = 2015-08-08T20:05:24.772Z
/* ORBITAL DATA ELEMENTS */
ASCENDING_NODE_LONGITUDE = 297.35
MAXIMUM_RESOLUTION = 109.7
FOOTPRINT_POINT_LATITUDE = (-32.6415,-32.6402,-32.6386,-32.6355, -32.6293,-32.4644,-32.291,-32.1177, -31.9443,-31.7708,-31.5973,-31.4201, -31.241,-31.062,-30.8826,-30.7033, -30.5244,-30.2564,-30.0775,-29.8992, -29.7212,-29.4534,-29.2749,-29.0969, -28.9197,-28.742,-28.4754,-28.2089, -28.0311,-27.8534,-27.6761,-27.4988, -27.3215,-27.1436,-26.9676,-26.7916, -26.6142,-26.3485,-26.1721,-25.9958, -25.8195,-25.6433,-25.4672,-25.2032, -25.0274,-24.8516,-24.6759,-24.5003, -24.2371,-23.9244,-23.7154,-23.6245, -23.6228,-23.6232,-23.6254,-23.8364, -24.0456,-24.2518,-24.4274,-24.6034, -24.8673,-25.0432,-25.2186,-25.395, -25.5714,-25.748,-26.0129,-26.1896, -26.3664,-26.5432,-26.7198,-26.9858, -27.1633,-27.4294,-27.6069,-27.7843, -27.9611,-28.1393,-28.3172,-28.4952, -28.6735,-28.8518,-29.1192,-29.2976, -29.4764,-29.7452,-29.9246,-30.1034, -30.3715,-30.5503,-30.7293,-30.9975, -31.2662,-31.4455,-31.6221,-31.8825, -32.056,-32.3164,-32.4901,-32.6415)
FOOTPRINT_POINT_LONGITUDE = (59.1893,58.9837,58.7788,58.4599, 57.9782,57.8834,57.8856,57.8877,57.8899 ,57.8923,57.8945,57.8971,57.8993, 57.9012,57.9038,57.9062,57.9081,57.9106 ,57.9124,57.9136,57.9144,57.9167, 57.9182,57.919,57.9188,57.9193,57.9203, 57.921,57.9218,57.9225,57.9228,57.923, 57.9233,57.9245,57.9231,57.9219,57.9224 ,57.923,57.9225,57.9219,57.9214,57.9208 ,57.9201,57.919,57.9182,57.9174,57.9165 ,57.9155,57.9141,57.9121,57.9107, 58.3164,58.5787,58.8026,59.0588,59.3213 ,59.3203,59.3195,59.3187,59.3189, 59.3179,59.3167,59.3136,59.3135,59.3132 ,59.3129,59.3118,59.3111,59.3103, 59.3094,59.3072,59.3073,59.3075,59.3066 ,59.3059,59.3047,59.3013,59.3019, 59.3014,59.3009,59.3013,59.3011,59.3006 ,59.3002,59.3008,59.3033,59.3055, 59.3052,59.304,59.3034,59.3028,59.3009, 59.3,59.2997,59.2989,59.2981,59.2973, 59.2957,59.2948,59.1893)
ORBIT_NUMBER = 14715
ORBITAL_ECCENTRICITY = 0.578
ORBITAL_INCLINATION = 86.92
ORBITAL_SEMIMAJOR_AXIS = 8820.53
PERIAPSIS_ALTITUDE = 330.51
PERIAPSIS_ARGUMENT_ANGLE = 321.56
PERIAPSIS_TIME = 2015-08-08T20:01:33.000Z
SPACECRAFT_ORIENTATION = (0.0,1.0,0.0)
^MEX_ORIENTATION_DESC = "MEX_ORIENTATION_DESC.TXT"
SPACECRAFT_POINTING_MODE = ACROSSTRACK
^MEX_POINTING_DESC = "MEX_POINTING_DESC.TXT"
RIGHT_ASCENSION = -1e+32
DECLINATION = -1e+32
OFFSET_ANGLE = -0.25
SPACECRAFT_SOLAR_DISTANCE = 2.41518e+08
TARGET_NAME = MARS
/* CAMERA DATA ELEMENTS */
DETECTOR_TEMPERATURE = 17.5549
FOCAL_PLANE_TEMPERATURE = 7.156
INST_CMPRS_NAME = "DISCRETE COSINE TRANSFORMATION (DCT)"
INST_CMPRS_RATIO = 15.8636
INST_CMPRS_QUALITY = 0
INST_CMPRS_QUANTZ_TBL_ID = 0
INSTRUMENT_TEMPERATURE = 10.4184
LENS_TEMPERATURE = 7.5638
MACROPIXEL_SIZE = 8
MISSING_FRAMES = 0
PIXEL_SUBSAMPLING_FLAG = N
SIGNAL_CHAIN_ID = 2
/* RADIOMETRIC DATA ELEMENTS */
BANDWIDTH = 88.0
CENTER_FILTER_WAVELENGTH = 538.0
RADIANCE_OFFSET = 0.88773
RADIANCE_SCALING_FACTOR = 0.00324921
REFLECTANCE_SCALING_FACTOR = 0.00016318
MEX:REFLECTANCE_OFFSET = 0.044583
/* IMAGE OBJECT DEFINITIONS */
OBJECT = IMAGE
  INTERCHANGE_FORMAT = BINARY
  LINES = 5344
  LINE_SAMPLES = 807
  SAMPLE_TYPE = UNSIGNED_INTEGER
  SAMPLE_BITS = 8
  BANDS = 1
  BAND_STORAGE_TYPE = BAND_SEQUENTIAL
  MAXIMUM = 255
  MEAN = 164.318
  MINIMUM = 3
  STANDARD_DEVIATION = 33.6975
END_OBJECT = IMAGE
/* MAP OBJECT DEFINITIONS */
OBJECT = IMAGE_MAP_PROJECTION
  ^DATA_SET_MAP_PROJECTION_CATALOG= "DSMAP.CAT"
  A_AXIS_RADIUS = 3396.0
  B_AXIS_RADIUS = 3396.0
  C_AXIS_RADIUS = 3396.0
  CENTER_LATITUDE = 0.0
  CENTER_LONGITUDE = 59.0
  COORDINATE_SYSTEM_NAME = PLANETOGRAPHIC
  COORDINATE_SYSTEM_TYPE = "BODY-FIXED ROTATING"
  EASTERNMOST_LONGITUDE = 59.3213
  FIRST_STANDARD_PARALLEL = "N/A"
  LINE_FIRST_PIXEL = 1
  LINE_LAST_PIXEL = 5344
  LINE_PROJECTION_OFFSET = -14008.8125
  MAP_PROJECTION_ROTATION = 0.0
  MAP_PROJECTION_TYPE = SINUSOIDAL
  MAP_RESOLUTION = 592.713803866667
  MAP_SCALE = 0.1
  MAXIMUM_LATITUDE = -23.6228
  MINIMUM_LATITUDE = -32.6415
  POSITIVE_LONGITUDE_DIRECTION = EAST
  REFERENCE_LATITUDE = "N/A"
  REFERENCE_LONGITUDE = "N/A"
  SAMPLE_FIRST_PIXEL = 1
  SAMPLE_LAST_PIXEL = 807
  SAMPLE_PROJECTION_OFFSET = 607.3125
  SECOND_STANDARD_PARALLEL = "N/A"
  WESTERNMOST_LONGITUDE = 57.8834
END_OBJECT = IMAGE_MAP_PROJECTION
/* The JPEG2000 image data file associated with this label. */
OBJECT = COMPRESSED_FILE
  FILE_NAME = "HE715_0000_GR3.JP2"
  RECORD_TYPE = UNDEFINED
  FILE_RECORDS = UNK
  ENCODING_TYPE = "JP2"
  INTERCHANGE_FORMAT = BINARY
  UNCOMPRESSED_FILE_NAME = "HE715_0000_GR3.IMG"
  REQUIRED_STORAGE_BYTES = "4330362"
  ^DESCRIPTION = "JP2INFO.TXT"
END_OBJECT = COMPRESSED_FILE
END
