PDS_VERSION_ID = PDS3
/* FILE DATA ELEMENTS */
RECORD_TYPE = STREAM
/* POINTERS TO DATA OBJECTS */
^COMPRESSED_FILE = "HE716_0000_BL3.JP2"
/* IDENTIFICATION DATA ELEMENTS */
DATA_SET_ID = "MEX-M-HRSC-5-REFDR-MAPPROJECTED-V3.0"
DATA_SET_NAME = "MARS EXPRESS HRSC MAP PROJECTED REFDR V3.0"
DETECTOR_ID = MEX_HRSC_BLUE
EVENT_TYPE = "MARS-REGIONAL-MAPPING-Im-Fl"
INSTRUMENT_HOST_ID = MEX
INSTRUMENT_HOST_NAME = "MARS EXPRESS"
INSTRUMENT_ID = HRSC
INSTRUMENT_NAME = "HIGH RESOLUTION STEREO CAMERA"
MISSION_NAME = "MARS EXPRESS"
MISSION_PHASE_NAME = ME_Phase_33
PROCESSING_LEVEL_ID = 3
PRODUCT_CREATION_TIME = 2016-10-30T02:40:36.000Z
PRODUCT_ID = "HE716_0000_BL3.JP2"
RELEASE_ID = 0129
REVISION_ID = 0000
/* QUALITY DATA ELEMENTS */
DATA_QUALITY_ID = 1
DATA_QUALITY_DESC = "Data calculated based on original SPICE kernels"
/* TIME DATA ELEMENTS */
SPACECRAFT_CLOCK_START_COUNT = "1/0387169264.08264"
SPACECRAFT_CLOCK_STOP_COUNT = "1/0387169505.25592"
START_TIME = 2015-08-09T03:01:34.941Z
STOP_TIME = 2015-08-09T03:04:29.298Z
/* ORBITAL DATA ELEMENTS */
ASCENDING_NODE_LONGITUDE = 297.34
MAXIMUM_RESOLUTION = 105.4
FOOTPRINT_POINT_LATITUDE = (-36.1049,-36.0996,-36.0964,-36.0928, -36.0859,-35.8529,-35.5217,-35.3006, -35.0802,-34.8588,-34.6374,-34.4162, -34.195,-33.9737,-33.7525,-33.5313, -33.3101,-32.9784,-32.7573,-32.536, -32.3149,-32.0939,-31.873,-31.6522, -31.3209,-31.1002,-30.8729,-30.645, -30.3032,-30.0754,-29.7339,-29.5061, -29.2786,-29.0511,-28.8231,-28.5957, -28.3688,-28.1413,-27.9141,-27.6871, -27.4601,-27.1197,-26.8923,-26.666, -26.3272,-26.1009,-25.8749,-25.5361, -25.3103,-25.0847,-24.8591,-24.7132, -24.7155,-24.7167,-24.7173,-24.7174, -25.058,-25.284,-25.5103,-25.8493, -26.1892,-26.4159,-26.6426,-26.9828, -27.2098,-27.437,-27.6642,-27.8916, -28.119,-28.3465,-28.5741,-28.8018, -29.0296,-29.3714,-29.5994,-29.9415, -30.2837,-30.512,-30.7402,-30.9686, -31.1937,-31.4149,-31.7467,-31.968, -32.2998,-32.5213,-32.8535,-33.075, -33.4073,-33.6289,-33.8497,-34.072, -34.2936,-34.6261,-34.8478,-35.0692, -35.4016,-35.6234,-35.8453,-36.1049)
FOOTPRINT_POINT_LONGITUDE = (316.426,316.011,315.803,315.595, 315.244,315.135,315.146,315.153,315.161 ,315.166,315.171,315.177,315.182, 315.187,315.192,315.197,315.201,315.208 ,315.212,315.216,315.22,315.224,315.227 ,315.231,315.236,315.239,315.243, 315.246,315.251,315.253,315.257,315.26, 315.262,315.264,315.265,315.267,315.269 ,315.271,315.272,315.273,315.274, 315.276,315.275,315.276,315.279,315.28, 315.28,315.281,315.282,315.282,315.282, 315.397,315.721,316.006,316.213,316.55, 316.659,316.657,316.656,316.654,316.651 ,316.649,316.647,316.644,316.642,316.64 ,316.638,316.636,316.634,316.632,316.63 ,316.628,316.626,316.622,316.62,316.616 ,316.613,316.611,316.608,316.606, 316.603,316.601,316.597,316.594,316.59, 316.588,316.583,316.581,316.576,316.573 ,316.572,316.568,316.565,316.56,316.557 ,316.554,316.549,316.546,316.543, 316.426)
ORBIT_NUMBER = 14716
ORBITAL_ECCENTRICITY = 0.578
ORBITAL_INCLINATION = 86.92
ORBITAL_SEMIMAJOR_AXIS = 8815.69
PERIAPSIS_ALTITUDE = 330.88
PERIAPSIS_ARGUMENT_ANGLE = 321.39
PERIAPSIS_TIME = 2015-08-09T03:01:03.000Z
SPACECRAFT_ORIENTATION = (0.0,1.0,0.0)
^MEX_ORIENTATION_DESC = "MEX_ORIENTATION_DESC.TXT"
SPACECRAFT_POINTING_MODE = ACROSSTRACK
^MEX_POINTING_DESC = "MEX_POINTING_DESC.TXT"
RIGHT_ASCENSION = -1e+32
DECLINATION = -1e+32
OFFSET_ANGLE = 0.1
SPACECRAFT_SOLAR_DISTANCE = 2.41559e+08
TARGET_NAME = MARS
/* CAMERA DATA ELEMENTS */
DETECTOR_TEMPERATURE = 18.5744
FOCAL_PLANE_TEMPERATURE = 7.9716
INST_CMPRS_NAME = "DISCRETE COSINE TRANSFORMATION (DCT)"
INST_CMPRS_RATIO = 16.6723
INST_CMPRS_QUALITY = 0
INST_CMPRS_QUANTZ_TBL_ID = 0
INSTRUMENT_TEMPERATURE = 11.4379
LENS_TEMPERATURE = 8.3794
MACROPIXEL_SIZE = 8
MISSING_FRAMES = 0
PIXEL_SUBSAMPLING_FLAG = N
SIGNAL_CHAIN_ID = 2
/* RADIOMETRIC DATA ELEMENTS */
BANDWIDTH = 76.0
CENTER_FILTER_WAVELENGTH = 444.0
RADIANCE_OFFSET = 0.294606
RADIANCE_SCALING_FACTOR = 0.00165421
REFLECTANCE_SCALING_FACTOR = 9.91729e-05
MEX:REFLECTANCE_OFFSET = 0.0176622
/* IMAGE OBJECT DEFINITIONS */
OBJECT = IMAGE
  INTERCHANGE_FORMAT = BINARY
  LINES = 6750
  LINE_SAMPLES = 821
  SAMPLE_TYPE = UNSIGNED_INTEGER
  SAMPLE_BITS = 8
  BANDS = 1
  BAND_STORAGE_TYPE = BAND_SEQUENTIAL
  MAXIMUM = 255
  MEAN = 141.886
  MINIMUM = 1
  STANDARD_DEVIATION = 15.0129
END_OBJECT = IMAGE
/* MAP OBJECT DEFINITIONS */
OBJECT = IMAGE_MAP_PROJECTION
  ^DATA_SET_MAP_PROJECTION_CATALOG= "DSMAP.CAT"
  A_AXIS_RADIUS = 3396.0
  B_AXIS_RADIUS = 3396.0
  C_AXIS_RADIUS = 3396.0
  CENTER_LATITUDE = 0.0
  CENTER_LONGITUDE = 316.0
  COORDINATE_SYSTEM_NAME = PLANETOGRAPHIC
  COORDINATE_SYSTEM_TYPE = "BODY-FIXED ROTATING"
  EASTERNMOST_LONGITUDE = 316.659
  FIRST_STANDARD_PARALLEL = "N/A"
  LINE_FIRST_PIXEL = 1
  LINE_LAST_PIXEL = 6750
  LINE_PROJECTION_OFFSET = -14649.9375
  MAP_PROJECTION_ROTATION = 0.0
  MAP_PROJECTION_TYPE = SINUSOIDAL
  MAP_RESOLUTION = 592.713803866667
  MAP_SCALE = 0.1
  MAXIMUM_LATITUDE = -24.7132
  MINIMUM_LATITUDE = -36.1049
  POSITIVE_LONGITUDE_DIRECTION = EAST
  REFERENCE_LATITUDE = "N/A"
  REFERENCE_LONGITUDE = "N/A"
  SAMPLE_FIRST_PIXEL = 1
  SAMPLE_LAST_PIXEL = 821
  SAMPLE_PROJECTION_OFFSET = 444.9375
  SECOND_STANDARD_PARALLEL = "N/A"
  WESTERNMOST_LONGITUDE = 315.135
END_OBJECT = IMAGE_MAP_PROJECTION
/* The JPEG2000 image data file associated with this label. */
OBJECT = COMPRESSED_FILE
  FILE_NAME = "HE716_0000_BL3.JP2"
  RECORD_TYPE = UNDEFINED
  FILE_RECORDS = UNK
  ENCODING_TYPE = "JP2"
  INTERCHANGE_FORMAT = BINARY
  UNCOMPRESSED_FILE_NAME = "HE716_0000_BL3.IMG"
  REQUIRED_STORAGE_BYTES = "5559812"
  ^DESCRIPTION = "JP2INFO.TXT"
END_OBJECT = COMPRESSED_FILE
END
