PDS_VERSION_ID = PDS3
/* FILE DATA ELEMENTS */
RECORD_TYPE = STREAM
/* POINTERS TO DATA OBJECTS */
^COMPRESSED_FILE = "HE718_0009_BL3.JP2"
/* IDENTIFICATION DATA ELEMENTS */
DATA_SET_ID = "MEX-M-HRSC-5-REFDR-MAPPROJECTED-V3.0"
DATA_SET_NAME = "MARS EXPRESS HRSC MAP PROJECTED REFDR V3.0"
DETECTOR_ID = MEX_HRSC_BLUE
EVENT_TYPE = "MARS-REGIONAL-MAPPING-Vo-Te"
INSTRUMENT_HOST_ID = MEX
INSTRUMENT_HOST_NAME = "MARS EXPRESS"
INSTRUMENT_ID = HRSC
INSTRUMENT_NAME = "HIGH RESOLUTION STEREO CAMERA"
MISSION_NAME = "MARS EXPRESS"
MISSION_PHASE_NAME = ME_Phase_33
PROCESSING_LEVEL_ID = 3
PRODUCT_CREATION_TIME = 2016-10-30T02:40:36.000Z
PRODUCT_ID = "HE718_0009_BL3.JP2"
RELEASE_ID = 0129
REVISION_ID = 0000
/* QUALITY DATA ELEMENTS */
DATA_QUALITY_ID = 1
DATA_QUALITY_DESC = "Data calculated based on original SPICE kernels"
/* TIME DATA ELEMENTS */
SPACECRAFT_CLOCK_START_COUNT = "1/0387219832.08263"
SPACECRAFT_CLOCK_STOP_COUNT = "1/0387220041.48905"
START_TIME = 2015-08-09T17:04:26.331Z
STOP_TIME = 2015-08-09T17:06:31.239Z
/* ORBITAL DATA ELEMENTS */
ASCENDING_NODE_LONGITUDE = 297.29
MAXIMUM_RESOLUTION = 123.2
FOOTPRINT_POINT_LATITUDE = (-21.4003,-21.4018,-21.4031,-21.404, -21.4046,-21.4048,-21.3252,-21.1718, -21.0186,-20.8654,-20.7122,-20.4826, -20.3297,-20.1769,-20.0241,-19.8714, -19.6423,-19.4899,-19.1851,-18.8808, -18.5767,-18.2731,-18.1187,-17.963, -17.8075,-17.5742,-17.4189,-17.2636, -17.1085,-16.871,-16.7122,-16.4739, -16.3152,-16.1566,-15.9981,-15.7552, -15.593,-15.4308,-15.2689,-15.107, -14.9452,-14.697,-14.5316,-14.3663, -14.1186,-13.9534,-13.7849,-13.6162, -13.5338,-13.5318,-13.5299,-13.5272, -13.5233,-13.5207,-13.7747,-13.9435, -14.1088,-14.2742,-14.4397,-14.6053, -14.7711,-14.9365,-15.0985,-15.3416, -15.5039,-15.7475,-15.9908,-16.1493, -16.3082,-16.4671,-16.6262,-16.7854, -16.9447,-17.1026,-17.258,-17.4134, -17.569,-17.7246,-17.8804,-18.0363, -18.2687,-18.5728,-18.8772,-19.0296, -19.1819,-19.3344,-19.4871,-19.6398, -19.7926,-19.9455,-20.0985,-20.2516, -20.4048,-20.5579,-20.7111,-20.8644, -21.0178,-21.1714,-21.3251,-21.4003)
FOOTPRINT_POINT_LONGITUDE = (112.33,112.115,111.901,111.687,111.474 ,111.301,111.079,111.077,111.076, 111.074,111.072,111.069,111.067,111.065 ,111.063,111.061,111.058,111.055, 111.051,111.046,111.041,111.036,111.033 ,111.031,111.028,111.024,111.021, 111.018,111.015,111.011,111.007,111.003 ,110.999,110.996,110.993,110.988, 110.984,110.981,110.977,110.973,110.97, 110.964,110.96,110.956,110.95,110.946, 110.942,110.938,111.249,111.475,111.671 ,111.913,112.231,112.428,112.543, 112.542,112.541,112.541,112.54,112.539, 112.538,112.538,112.537,112.536,112.535 ,112.534,112.532,112.532,112.531,112.53 ,112.53,112.529,112.528,112.527,112.526 ,112.526,112.525,112.524,112.524, 112.523,112.522,112.52,112.519,112.518, 112.518,112.517,112.516,112.515,112.515 ,112.514,112.513,112.512,112.511, 112.511,112.51,112.51,112.509,112.508, 112.507,112.33)
ORBIT_NUMBER = 14718
ORBITAL_ECCENTRICITY = 0.578
ORBITAL_INCLINATION = 86.91
ORBITAL_SEMIMAJOR_AXIS = 8821.07
PERIAPSIS_ALTITUDE = 330.2
PERIAPSIS_ARGUMENT_ANGLE = 321.02
PERIAPSIS_TIME = 2015-08-09T17:00:03.000Z
SPACECRAFT_ORIENTATION = (0.0,1.0,0.0)
^MEX_ORIENTATION_DESC = "MEX_ORIENTATION_DESC.TXT"
SPACECRAFT_POINTING_MODE = ACROSSTRACK
^MEX_POINTING_DESC = "MEX_POINTING_DESC.TXT"
RIGHT_ASCENSION = -1e+32
DECLINATION = -1e+32
OFFSET_ANGLE = -0.2
SPACECRAFT_SOLAR_DISTANCE = 2.41641e+08
TARGET_NAME = MARS
/* CAMERA DATA ELEMENTS */
DETECTOR_TEMPERATURE = 18.9822
FOCAL_PLANE_TEMPERATURE = 8.9911
INST_CMPRS_NAME = "DISCRETE COSINE TRANSFORMATION (DCT)"
INST_CMPRS_RATIO = 17.6163
INST_CMPRS_QUALITY = 0
INST_CMPRS_QUANTZ_TBL_ID = 0
INSTRUMENT_TEMPERATURE = 12.0496
LENS_TEMPERATURE = 9.3989
MACROPIXEL_SIZE = 8
MISSING_FRAMES = 0
PIXEL_SUBSAMPLING_FLAG = N
SIGNAL_CHAIN_ID = 2
/* RADIOMETRIC DATA ELEMENTS */
BANDWIDTH = 76.0
CENTER_FILTER_WAVELENGTH = 444.0
RADIANCE_OFFSET = 0.35181
RADIANCE_SCALING_FACTOR = 0.00176595
REFLECTANCE_SCALING_FACTOR = 0.000105944
MEX:REFLECTANCE_OFFSET = 0.021106
/* IMAGE OBJECT DEFINITIONS */
OBJECT = IMAGE
  INTERCHANGE_FORMAT = BINARY
  LINES = 4665
  LINE_SAMPLES = 988
  SAMPLE_TYPE = UNSIGNED_INTEGER
  SAMPLE_BITS = 8
  BANDS = 1
  BAND_STORAGE_TYPE = BAND_SEQUENTIAL
  MAXIMUM = 255
  MEAN = 158.444
  MINIMUM = 1
  STANDARD_DEVIATION = 12.9442
END_OBJECT = IMAGE
/* MAP OBJECT DEFINITIONS */
OBJECT = IMAGE_MAP_PROJECTION
  ^DATA_SET_MAP_PROJECTION_CATALOG= "DSMAP.CAT"
  A_AXIS_RADIUS = 3396.0
  B_AXIS_RADIUS = 3396.0
  C_AXIS_RADIUS = 3396.0
  CENTER_LATITUDE = 0.0
  CENTER_LONGITUDE = 112.0
  COORDINATE_SYSTEM_NAME = PLANETOGRAPHIC
  COORDINATE_SYSTEM_TYPE = "BODY-FIXED ROTATING"
  EASTERNMOST_LONGITUDE = 112.543
  FIRST_STANDARD_PARALLEL = "N/A"
  LINE_FIRST_PIXEL = 1
  LINE_LAST_PIXEL = 4665
  LINE_PROJECTION_OFFSET = -8015.5625
  MAP_PROJECTION_ROTATION = 0.0
  MAP_PROJECTION_TYPE = SINUSOIDAL
  MAP_RESOLUTION = 592.713803866667
  MAP_SCALE = 0.1
  MAXIMUM_LATITUDE = -13.5207
  MINIMUM_LATITUDE = -21.4048
  POSITIVE_LONGITUDE_DIRECTION = EAST
  REFERENCE_LATITUDE = "N/A"
  REFERENCE_LONGITUDE = "N/A"
  SAMPLE_FIRST_PIXEL = 1
  SAMPLE_LAST_PIXEL = 988
  SAMPLE_PROJECTION_OFFSET = 639.5625
  SECOND_STANDARD_PARALLEL = "N/A"
  WESTERNMOST_LONGITUDE = 110.938
END_OBJECT = IMAGE_MAP_PROJECTION
/* The JPEG2000 image data file associated with this label. */
OBJECT = COMPRESSED_FILE
  FILE_NAME = "HE718_0009_BL3.JP2"
  RECORD_TYPE = UNDEFINED
  FILE_RECORDS = UNK
  ENCODING_TYPE = "JP2"
  INTERCHANGE_FORMAT = BINARY
  UNCOMPRESSED_FILE_NAME = "HE718_0009_BL3.IMG"
  REQUIRED_STORAGE_BYTES = "4627792"
  ^DESCRIPTION = "JP2INFO.TXT"
END_OBJECT = COMPRESSED_FILE
END
