PDS_VERSION_ID = PDS3
/* FILE DATA ELEMENTS */
RECORD_TYPE = STREAM
/* POINTERS TO DATA OBJECTS */
^COMPRESSED_FILE = "HE738_0000_S23.JP2"
/* IDENTIFICATION DATA ELEMENTS */
DATA_SET_ID = "MEX-M-HRSC-5-REFDR-MAPPROJECTED-V3.0"
DATA_SET_NAME = "MARS EXPRESS HRSC MAP PROJECTED REFDR V3.0"
DETECTOR_ID = MEX_HRSC_S2
EVENT_TYPE = "MARS-REGIONAL-MAPPING-Vo-Te-Im"
INSTRUMENT_HOST_ID = MEX
INSTRUMENT_HOST_NAME = "MARS EXPRESS"
INSTRUMENT_ID = HRSC
INSTRUMENT_NAME = "HIGH RESOLUTION STEREO CAMERA"
MISSION_NAME = "MARS EXPRESS"
MISSION_PHASE_NAME = ME_Phase_33
PROCESSING_LEVEL_ID = 3
PRODUCT_CREATION_TIME = 2016-10-30T02:40:36.000Z
PRODUCT_ID = "HE738_0000_S23.JP2"
RELEASE_ID = 0129
REVISION_ID = 0000
/* QUALITY DATA ELEMENTS */
DATA_QUALITY_ID = 1
DATA_QUALITY_DESC = "Data calculated based on original SPICE kernels"
/* TIME DATA ELEMENTS */
SPACECRAFT_CLOCK_START_COUNT = "1/0387723109.07341"
SPACECRAFT_CLOCK_STOP_COUNT = "1/0387723251.64679"
START_TIME = 2015-08-15T12:51:55.219Z
STOP_TIME = 2015-08-15T12:53:09.387Z
/* ORBITAL DATA ELEMENTS */
ASCENDING_NODE_LONGITUDE = 296.92
MAXIMUM_RESOLUTION = 28.6
FOOTPRINT_POINT_LATITUDE = (-33.206,-33.2063,-33.2062,-33.2055, -33.2041,-33.2024,-33.2006,-33.0797, -32.8901,-32.7949,-32.6985,-32.6003, -32.5021,-32.404,-32.3058,-32.2076, -32.0603,-31.962,-31.8147,-31.7165, -31.6182,-31.471,-31.3727,-31.2254, -31.1271,-31.0288,-30.8816,-30.7833, -30.636,-30.5377,-30.4393,-30.2919, -30.1936,-30.0462,-29.9478,-29.8495, -29.7021,-29.6037,-29.4563,-29.358, -29.2596,-29.1122,-28.9645,-28.8171, -28.7187,-28.6203,-28.4729,-28.3745, -28.2762,-28.2578,-28.2589,-28.2594, -28.2598,-28.2599,-28.26,-28.2598, -28.2594,-28.2584,-28.2579,-28.3565, -28.5041,-28.6026,-28.7011,-28.7995, -28.9474,-29.095,-29.1935,-29.3411, -29.4396,-29.538,-29.6857,-29.7842, -29.9317,-30.0796,-30.228,-30.3271, -30.4248,-30.5229,-30.6214,-30.7689, -30.8672,-30.9655,-31.1132,-31.2116, -31.3592,-31.4576,-31.5559,-31.7036, -31.802,-31.9496,-32.048,-32.1956, -32.2944,-32.3927,-32.5407,-32.6393, -32.7351,-32.8785,-33.0688,-33.206)
FOOTPRINT_POINT_LONGITUDE = (227.254,227.091,226.875,226.659, 226.443,226.255,226.093,225.896,225.899 ,225.9,225.902,225.903,225.904,225.906, 225.907,225.908,225.91,225.911,225.913, 225.914,225.915,225.917,225.918,225.92, 225.921,225.921,225.923,225.924,225.925 ,225.926,225.927,225.928,225.929,225.93 ,225.93,225.931,225.932,225.932,225.933 ,225.934,225.934,225.935,225.936, 225.936,225.937,225.937,225.937,225.938 ,225.938,226.142,226.319,226.441,226.55 ,226.659,226.796,226.905,227.028,227.22 ,227.348,227.347,227.346,227.345, 227.344,227.344,227.342,227.341,227.34, 227.339,227.338,227.338,227.336,227.335 ,227.334,227.333,227.331,227.33,227.33, 227.329,227.328,227.327,227.326,227.325 ,227.324,227.323,227.322,227.321,227.32 ,227.318,227.317,227.316,227.315, 227.313,227.312,227.311,227.31,227.308, 227.309,227.307,227.305,227.254)
ORBIT_NUMBER = 14738
ORBITAL_ECCENTRICITY = 0.578
ORBITAL_INCLINATION = 86.93
ORBITAL_SEMIMAJOR_AXIS = 8811.62
PERIAPSIS_ALTITUDE = 329.39
PERIAPSIS_ARGUMENT_ANGLE = 317.58
PERIAPSIS_TIME = 2015-08-15T12:50:06.000Z
SPACECRAFT_ORIENTATION = (0.0,1.0,0.0)
^MEX_ORIENTATION_DESC = "MEX_ORIENTATION_DESC.TXT"
SPACECRAFT_POINTING_MODE = ACROSSTRACK
^MEX_POINTING_DESC = "MEX_POINTING_DESC.TXT"
RIGHT_ASCENSION = -1e+32
DECLINATION = -1e+32
OFFSET_ANGLE = -0.1
SPACECRAFT_SOLAR_DISTANCE = 2.42442e+08
TARGET_NAME = MARS
/* CAMERA DATA ELEMENTS */
DETECTOR_TEMPERATURE = 18.5744
FOCAL_PLANE_TEMPERATURE = 7.9716
INST_CMPRS_NAME = "DISCRETE COSINE TRANSFORMATION (DCT)"
INST_CMPRS_RATIO = 6.32956
INST_CMPRS_QUALITY = 0
INST_CMPRS_QUANTZ_TBL_ID = 0
INSTRUMENT_TEMPERATURE = 11.4379
LENS_TEMPERATURE = 8.3794
MACROPIXEL_SIZE = 2
MISSING_FRAMES = 0
PIXEL_SUBSAMPLING_FLAG = N
SIGNAL_CHAIN_ID = 1
/* RADIOMETRIC DATA ELEMENTS */
BANDWIDTH = 178.0
CENTER_FILTER_WAVELENGTH = 679.0
RADIANCE_OFFSET = 1.0682
RADIANCE_SCALING_FACTOR = 0.0186601
REFLECTANCE_SCALING_FACTOR = 0.000580844
MEX:REFLECTANCE_OFFSET = 0.0332504
/* IMAGE OBJECT DEFINITIONS */
OBJECT = IMAGE
  INTERCHANGE_FORMAT = BINARY
  LINES = 11676
  LINE_SAMPLES = 3182
  SAMPLE_TYPE = UNSIGNED_INTEGER
  SAMPLE_BITS = 8
  BANDS = 1
  BAND_STORAGE_TYPE = BAND_SEQUENTIAL
  MAXIMUM = 255
  MEAN = 135.132
  MINIMUM = 1
  STANDARD_DEVIATION = 15.914
END_OBJECT = IMAGE
/* MAP OBJECT DEFINITIONS */
OBJECT = IMAGE_MAP_PROJECTION
  ^DATA_SET_MAP_PROJECTION_CATALOG= "DSMAP.CAT"
  A_AXIS_RADIUS = 3396.0
  B_AXIS_RADIUS = 3396.0
  C_AXIS_RADIUS = 3396.0
  CENTER_LATITUDE = 0.0
  CENTER_LONGITUDE = 227.0
  COORDINATE_SYSTEM_NAME = PLANETOGRAPHIC
  COORDINATE_SYSTEM_TYPE = "BODY-FIXED ROTATING"
  EASTERNMOST_LONGITUDE = 227.348
  FIRST_STANDARD_PARALLEL = "N/A"
  LINE_FIRST_PIXEL = 1
  LINE_LAST_PIXEL = 11676
  LINE_PROJECTION_OFFSET = -66948.25
  MAP_PROJECTION_ROTATION = 0.0
  MAP_PROJECTION_TYPE = SINUSOIDAL
  MAP_RESOLUTION = 2370.85521546667
  MAP_SCALE = 0.025
  MAXIMUM_LATITUDE = -28.2578
  MINIMUM_LATITUDE = -33.2063
  POSITIVE_LONGITUDE_DIRECTION = EAST
  REFERENCE_LATITUDE = "N/A"
  REFERENCE_LONGITUDE = "N/A"
  SAMPLE_FIRST_PIXEL = 1
  SAMPLE_LAST_PIXEL = 3182
  SAMPLE_PROJECTION_OFFSET = 2328.25
  SECOND_STANDARD_PARALLEL = "N/A"
  WESTERNMOST_LONGITUDE = 225.896
END_OBJECT = IMAGE_MAP_PROJECTION
/* The JPEG2000 image data file associated with this label. */
OBJECT = COMPRESSED_FILE
  FILE_NAME = "HE738_0000_S23.JP2"
  RECORD_TYPE = UNDEFINED
  FILE_RECORDS = UNK
  ENCODING_TYPE = "JP2"
  INTERCHANGE_FORMAT = BINARY
  UNCOMPRESSED_FILE_NAME = "HE738_0000_S23.IMG"
  REQUIRED_STORAGE_BYTES = "37175306"
  ^DESCRIPTION = "JP2INFO.TXT"
END_OBJECT = COMPRESSED_FILE
END
