PDS_VERSION_ID = PDS3
/* FILE DATA ELEMENTS */
RECORD_TYPE = STREAM
/* POINTERS TO DATA OBJECTS */
^COMPRESSED_FILE = "HE739_0000_P13.JP2"
/* IDENTIFICATION DATA ELEMENTS */
DATA_SET_ID = "MEX-M-HRSC-5-REFDR-MAPPROJECTED-V3.0"
DATA_SET_NAME = "MARS EXPRESS HRSC MAP PROJECTED REFDR V3.0"
DETECTOR_ID = MEX_HRSC_P1
EVENT_TYPE = "MARS-REGIONAL-MAPPING-Im-Fl"
INSTRUMENT_HOST_ID = MEX
INSTRUMENT_HOST_NAME = "MARS EXPRESS"
INSTRUMENT_ID = HRSC
INSTRUMENT_NAME = "HIGH RESOLUTION STEREO CAMERA"
MISSION_NAME = "MARS EXPRESS"
MISSION_PHASE_NAME = ME_Phase_33
PROCESSING_LEVEL_ID = 3
PRODUCT_CREATION_TIME = 2016-10-30T02:40:36.000Z
PRODUCT_ID = "HE739_0000_P13.JP2"
RELEASE_ID = 0129
REVISION_ID = 0000
/* QUALITY DATA ELEMENTS */
DATA_QUALITY_ID = 1
DATA_QUALITY_DESC = "Data calculated based on original SPICE kernels"
/* TIME DATA ELEMENTS */
SPACECRAFT_CLOCK_START_COUNT = "1/0387748337.07306"
SPACECRAFT_CLOCK_STOP_COUNT = "1/0387748501.07951"
START_TIME = 2015-08-15T19:53:16.534Z
STOP_TIME = 2015-08-15T19:54:51.630Z
/* ORBITAL DATA ELEMENTS */
ASCENDING_NODE_LONGITUDE = 296.9
MAXIMUM_RESOLUTION = 60.1
FOOTPRINT_POINT_LATITUDE = (-29.8213,-29.8202,-29.8188,-29.8176, -29.8157,-29.8136,-29.8107,-29.6693, -29.5176,-29.3154,-29.0939,-28.9122, -28.7905,-28.6702,-28.5502,-28.3706, -28.2507,-28.1324,-28.0147,-27.895, -27.7727,-27.6511,-27.4714,-27.3517, -27.2322,-27.0532,-26.9335,-26.8142, -26.6357,-26.5168,-26.3979,-26.2793, -26.161,-26.0425,-25.9238,-25.8054, -25.6872,-25.5098,-25.3917,-25.2739, -25.0972,-24.9794,-24.8618,-24.7445, -24.6271,-24.5099,-24.3338,-24.2167, -24.0996,-23.943,-23.9437,-23.9443, -23.9447,-23.9448,-23.9451,-23.945, -24.0042,-24.1803,-24.2977,-24.4152, -24.5322,-24.6495,-24.767,-24.9428, -25.0607,-25.1778,-25.2969,-25.4146, -25.5328,-25.6512,-25.7701,-25.9475, -26.066,-26.1843,-26.3025,-26.4808, -26.6,-26.7208,-26.8405,-26.9607, -27.0799,-27.1991,-27.3181,-27.438, -27.5584,-27.6777,-27.7975,-27.9773, -28.0969,-28.2172,-28.3988,-28.5798, -28.7005,-28.8222,-28.943,-29.1243, -29.2416,-29.4442,-29.5963,-29.8213)
FOOTPRINT_POINT_LONGITUDE = (125.036,124.818,124.6,124.437,124.207, 123.99,123.705,123.616,123.616,123.616, 123.617,123.618,123.618,123.619,123.618 ,123.618,123.618,123.617,123.616, 123.616,123.617,123.618,123.617,123.617 ,123.617,123.616,123.616,123.616, 123.615,123.614,123.614,123.613,123.612 ,123.612,123.611,123.61,123.609,123.608 ,123.607,123.606,123.605,123.604, 123.603,123.602,123.601,123.599,123.598 ,123.596,123.595,123.751,123.954, 124.214,124.432,124.548,124.78,125.012, 125.147,125.146,125.144,125.143,125.142 ,125.14,125.139,125.136,125.135,125.133 ,125.133,125.131,125.13,125.128,125.127 ,125.125,125.124,125.122,125.121, 125.119,125.117,125.117,125.116,125.115 ,125.114,125.112,125.111,125.11,125.109 ,125.107,125.106,125.104,125.102, 125.101,125.1,125.098,125.097,125.096, 125.095,125.093,125.092,125.089,125.087 ,125.036)
ORBIT_NUMBER = 14739
ORBITAL_ECCENTRICITY = 0.578
ORBITAL_INCLINATION = 86.91
ORBITAL_SEMIMAJOR_AXIS = 8814.49
PERIAPSIS_ALTITUDE = 329.96
PERIAPSIS_ARGUMENT_ANGLE = 317.43
PERIAPSIS_TIME = 2015-08-15T19:49:41.000Z
SPACECRAFT_ORIENTATION = (0.0,1.0,0.0)
^MEX_ORIENTATION_DESC = "MEX_ORIENTATION_DESC.TXT"
SPACECRAFT_POINTING_MODE = ACROSSTRACK
^MEX_POINTING_DESC = "MEX_POINTING_DESC.TXT"
RIGHT_ASCENSION = -1e+32
DECLINATION = -1e+32
OFFSET_ANGLE = -0.1
SPACECRAFT_SOLAR_DISTANCE = 2.42481e+08
TARGET_NAME = MARS
/* CAMERA DATA ELEMENTS */
DETECTOR_TEMPERATURE = 17.9627
FOCAL_PLANE_TEMPERATURE = 8.9911
INST_CMPRS_NAME = "DISCRETE COSINE TRANSFORMATION (DCT)"
INST_CMPRS_RATIO = 6.07363
INST_CMPRS_QUALITY = 0
INST_CMPRS_QUANTZ_TBL_ID = 0
INSTRUMENT_TEMPERATURE = 12.0496
LENS_TEMPERATURE = 9.3989
MACROPIXEL_SIZE = 4
MISSING_FRAMES = 0
PIXEL_SUBSAMPLING_FLAG = N
SIGNAL_CHAIN_ID = 3
/* RADIOMETRIC DATA ELEMENTS */
BANDWIDTH = 174.0
CENTER_FILTER_WAVELENGTH = 675.0
RADIANCE_OFFSET = 1.75948
RADIANCE_SCALING_FACTOR = 0.0156939
REFLECTANCE_SCALING_FACTOR = 0.000496334
MEX:REFLECTANCE_OFFSET = 0.0556451
/* IMAGE OBJECT DEFINITIONS */
OBJECT = IMAGE
  INTERCHANGE_FORMAT = BINARY
  LINES = 6975
  LINE_SAMPLES = 1724
  SAMPLE_TYPE = UNSIGNED_INTEGER
  SAMPLE_BITS = 8
  BANDS = 1
  BAND_STORAGE_TYPE = BAND_SEQUENTIAL
  MAXIMUM = 255
  MEAN = 123.383
  MINIMUM = 1
  STANDARD_DEVIATION = 16.9873
END_OBJECT = IMAGE
/* MAP OBJECT DEFINITIONS */
OBJECT = IMAGE_MAP_PROJECTION
  ^DATA_SET_MAP_PROJECTION_CATALOG= "DSMAP.CAT"
  A_AXIS_RADIUS = 3396.0
  B_AXIS_RADIUS = 3396.0
  C_AXIS_RADIUS = 3396.0
  CENTER_LATITUDE = 0.0
  CENTER_LONGITUDE = 124.0
  COORDINATE_SYSTEM_NAME = PLANETOGRAPHIC
  COORDINATE_SYSTEM_TYPE = "BODY-FIXED ROTATING"
  EASTERNMOST_LONGITUDE = 125.147
  FIRST_STANDARD_PARALLEL = "N/A"
  LINE_FIRST_PIXEL = 1
  LINE_LAST_PIXEL = 6975
  LINE_PROJECTION_OFFSET = -28394.875
  MAP_PROJECTION_ROTATION = 0.0
  MAP_PROJECTION_TYPE = SINUSOIDAL
  MAP_RESOLUTION = 1185.42760773333
  MAP_SCALE = 0.05
  MAXIMUM_LATITUDE = -23.943
  MINIMUM_LATITUDE = -29.8213
  POSITIVE_LONGITUDE_DIRECTION = EAST
  REFERENCE_LATITUDE = "N/A"
  REFERENCE_LONGITUDE = "N/A"
  SAMPLE_FIRST_PIXEL = 1
  SAMPLE_LAST_PIXEL = 1724
  SAMPLE_PROJECTION_OFFSET = 458.625
  SECOND_STANDARD_PARALLEL = "N/A"
  WESTERNMOST_LONGITUDE = 123.595
END_OBJECT = IMAGE_MAP_PROJECTION
/* The JPEG2000 image data file associated with this label. */
OBJECT = COMPRESSED_FILE
  FILE_NAME = "HE739_0000_P13.JP2"
  RECORD_TYPE = UNDEFINED
  FILE_RECORDS = UNK
  ENCODING_TYPE = "JP2"
  INTERCHANGE_FORMAT = BINARY
  UNCOMPRESSED_FILE_NAME = "HE739_0000_P13.IMG"
  REQUIRED_STORAGE_BYTES = "12045588"
  ^DESCRIPTION = "JP2INFO.TXT"
END_OBJECT = COMPRESSED_FILE
END
