PDS_VERSION_ID = PDS3
/* FILE DATA ELEMENTS */
RECORD_TYPE = STREAM
/* POINTERS TO DATA OBJECTS */
^COMPRESSED_FILE = "HE739_0000_S23.JP2"
/* IDENTIFICATION DATA ELEMENTS */
DATA_SET_ID = "MEX-M-HRSC-5-REFDR-MAPPROJECTED-V3.0"
DATA_SET_NAME = "MARS EXPRESS HRSC MAP PROJECTED REFDR V3.0"
DETECTOR_ID = MEX_HRSC_S2
EVENT_TYPE = "MARS-REGIONAL-MAPPING-Im-Fl"
INSTRUMENT_HOST_ID = MEX
INSTRUMENT_HOST_NAME = "MARS EXPRESS"
INSTRUMENT_ID = HRSC
INSTRUMENT_NAME = "HIGH RESOLUTION STEREO CAMERA"
MISSION_NAME = "MARS EXPRESS"
MISSION_PHASE_NAME = ME_Phase_33
PROCESSING_LEVEL_ID = 3
PRODUCT_CREATION_TIME = 2016-10-30T02:40:36.000Z
PRODUCT_ID = "HE739_0000_S23.JP2"
RELEASE_ID = 0129
REVISION_ID = 0000
/* QUALITY DATA ELEMENTS */
DATA_QUALITY_ID = 1
DATA_QUALITY_DESC = "Data calculated based on original SPICE kernels"
/* TIME DATA ELEMENTS */
SPACECRAFT_CLOCK_START_COUNT = "1/0387748337.07306"
SPACECRAFT_CLOCK_STOP_COUNT = "1/0387748501.07951"
START_TIME = 2015-08-15T19:52:23.257Z
STOP_TIME = 2015-08-15T19:53:51.714Z
/* ORBITAL DATA ELEMENTS */
ASCENDING_NODE_LONGITUDE = 296.9
MAXIMUM_RESOLUTION = 29.7
FOOTPRINT_POINT_LATITUDE = (-29.8581,-29.8589,-29.8595,-29.8595, -29.8588,-29.8577,-29.8564,-29.8339, -29.7225,-29.6109,-29.4435,-29.2764, -29.1095,-28.9439,-28.7787,-28.6672, -28.5553,-28.4427,-28.3312,-28.2195, -28.1029,-27.9905,-27.8789,-27.7695, -27.6075,-27.4403,-27.2733,-27.1065, -26.9401,-26.7735,-26.6621,-26.4952, -26.3277,-26.2158,-26.104,-25.937, -25.7701,-25.659,-25.5262,-25.393, -25.1932,-25.0599,-24.9269,-24.7936, -24.5937,-24.3943,-24.2611,-24.1279, -23.9955,-23.9699,-23.9705,-23.9704, -23.9701,-23.9693,-23.9676,-23.9664, -24.0315,-24.231,-24.364,-24.4982, -24.6318,-24.7657,-24.8983,-25.0285, -25.1657,-25.3664,-25.5002,-25.6333, -25.7486,-25.8598,-26.0278,-26.1397, -26.2517,-26.3642,-26.4761,-26.5874, -26.7522,-26.918,-27.0293,-27.1411, -27.3091,-27.4203,-27.5311,-27.6433, -27.7554,-27.8678,-27.9799,-28.0917, -28.2028,-28.3686,-28.5355,-28.6463, -28.7582,-28.924,-29.0351,-29.2019, -29.3693,-29.5926,-29.7042,-29.8581)
FOOTPRINT_POINT_LONGITUDE = (125.005,124.842,124.624,124.408, 124.191,124.002,123.84,123.641,123.642, 123.643,123.644,123.645,123.646,123.647 ,123.648,123.648,123.649,123.649, 123.649,123.649,123.648,123.648,123.648 ,123.649,123.651,123.651,123.651, 123.651,123.651,123.651,123.651,123.651 ,123.651,123.65,123.65,123.65,123.649, 123.649,123.648,123.648,123.647,123.646 ,123.646,123.645,123.644,123.642, 123.641,123.64,123.64,123.822,124.047, 124.244,124.357,124.555,124.767,124.894 ,125.097,125.095,125.095,125.093, 125.092,125.091,125.09,125.09,125.088, 125.086,125.085,125.084,125.083,125.083 ,125.081,125.08,125.079,125.078,125.077 ,125.076,125.076,125.075,125.075, 125.074,125.072,125.072,125.071,125.07, 125.069,125.068,125.067,125.066,125.065 ,125.064,125.063,125.063,125.062, 125.061,125.06,125.059,125.057,125.056, 125.055,125.005)
ORBIT_NUMBER = 14739
ORBITAL_ECCENTRICITY = 0.578
ORBITAL_INCLINATION = 86.91
ORBITAL_SEMIMAJOR_AXIS = 8814.49
PERIAPSIS_ALTITUDE = 329.96
PERIAPSIS_ARGUMENT_ANGLE = 317.43
PERIAPSIS_TIME = 2015-08-15T19:49:41.000Z
SPACECRAFT_ORIENTATION = (0.0,1.0,0.0)
^MEX_ORIENTATION_DESC = "MEX_ORIENTATION_DESC.TXT"
SPACECRAFT_POINTING_MODE = ACROSSTRACK
^MEX_POINTING_DESC = "MEX_POINTING_DESC.TXT"
RIGHT_ASCENSION = -1e+32
DECLINATION = -1e+32
OFFSET_ANGLE = -0.1
SPACECRAFT_SOLAR_DISTANCE = 2.42481e+08
TARGET_NAME = MARS
/* CAMERA DATA ELEMENTS */
DETECTOR_TEMPERATURE = 18.7783
FOCAL_PLANE_TEMPERATURE = 8.9911
INST_CMPRS_NAME = "DISCRETE COSINE TRANSFORMATION (DCT)"
INST_CMPRS_RATIO = 8.37348
INST_CMPRS_QUALITY = 0
INST_CMPRS_QUANTZ_TBL_ID = 0
INSTRUMENT_TEMPERATURE = 12.0496
LENS_TEMPERATURE = 9.3989
MACROPIXEL_SIZE = 2
MISSING_FRAMES = 0
PIXEL_SUBSAMPLING_FLAG = N
SIGNAL_CHAIN_ID = 1
/* RADIOMETRIC DATA ELEMENTS */
BANDWIDTH = 178.0
CENTER_FILTER_WAVELENGTH = 679.0
RADIANCE_OFFSET = 1.66794
RADIANCE_SCALING_FACTOR = 0.0154749
REFLECTANCE_SCALING_FACTOR = 0.00048185
MEX:REFLECTANCE_OFFSET = 0.0519355
/* IMAGE OBJECT DEFINITIONS */
OBJECT = IMAGE
  INTERCHANGE_FORMAT = BINARY
  LINES = 13950
  LINE_SAMPLES = 3447
  SAMPLE_TYPE = UNSIGNED_INTEGER
  SAMPLE_BITS = 8
  BANDS = 1
  BAND_STORAGE_TYPE = BAND_SEQUENTIAL
  MAXIMUM = 255
  MEAN = 125.912
  MINIMUM = 1
  STANDARD_DEVIATION = 18.2074
END_OBJECT = IMAGE
/* MAP OBJECT DEFINITIONS */
OBJECT = IMAGE_MAP_PROJECTION
  ^DATA_SET_MAP_PROJECTION_CATALOG= "DSMAP.CAT"
  A_AXIS_RADIUS = 3396.0
  B_AXIS_RADIUS = 3396.0
  C_AXIS_RADIUS = 3396.0
  CENTER_LATITUDE = 0.0
  CENTER_LONGITUDE = 124.0
  COORDINATE_SYSTEM_NAME = PLANETOGRAPHIC
  COORDINATE_SYSTEM_TYPE = "BODY-FIXED ROTATING"
  EASTERNMOST_LONGITUDE = 125.097
  FIRST_STANDARD_PARALLEL = "N/A"
  LINE_FIRST_PIXEL = 1
  LINE_LAST_PIXEL = 13950
  LINE_PROJECTION_OFFSET = -56789.25
  MAP_PROJECTION_ROTATION = 0.0
  MAP_PROJECTION_TYPE = SINUSOIDAL
  MAP_RESOLUTION = 2370.85521546667
  MAP_SCALE = 0.025
  MAXIMUM_LATITUDE = -23.9664
  MINIMUM_LATITUDE = -29.8595
  POSITIVE_LONGITUDE_DIRECTION = EAST
  REFERENCE_LATITUDE = "N/A"
  REFERENCE_LONGITUDE = "N/A"
  SAMPLE_FIRST_PIXEL = 1
  SAMPLE_LAST_PIXEL = 3447
  SAMPLE_PROJECTION_OFFSET = 917.75
  SECOND_STANDARD_PARALLEL = "N/A"
  WESTERNMOST_LONGITUDE = 123.64
END_OBJECT = IMAGE_MAP_PROJECTION
/* The JPEG2000 image data file associated with this label. */
OBJECT = COMPRESSED_FILE
  FILE_NAME = "HE739_0000_S23.JP2"
  RECORD_TYPE = UNDEFINED
  FILE_RECORDS = UNK
  ENCODING_TYPE = "JP2"
  INTERCHANGE_FORMAT = BINARY
  UNCOMPRESSED_FILE_NAME = "HE739_0000_S23.IMG"
  REQUIRED_STORAGE_BYTES = "48109779"
  ^DESCRIPTION = "JP2INFO.TXT"
END_OBJECT = COMPRESSED_FILE
END
