PDS_VERSION_ID = PDS3
/* FILE DATA ELEMENTS */
RECORD_TYPE = STREAM
/* POINTERS TO DATA OBJECTS */
^COMPRESSED_FILE = "HE740_0000_S23.JP2"
/* IDENTIFICATION DATA ELEMENTS */
DATA_SET_ID = "MEX-M-HRSC-5-REFDR-MAPPROJECTED-V3.0"
DATA_SET_NAME = "MARS EXPRESS HRSC MAP PROJECTED REFDR V3.0"
DETECTOR_ID = MEX_HRSC_S2
EVENT_TYPE = "MARS-REGIONAL-MAPPING-Im-Fl"
INSTRUMENT_HOST_ID = MEX
INSTRUMENT_HOST_NAME = "MARS EXPRESS"
INSTRUMENT_ID = HRSC
INSTRUMENT_NAME = "HIGH RESOLUTION STEREO CAMERA"
MISSION_NAME = "MARS EXPRESS"
MISSION_PHASE_NAME = ME_Phase_33
PROCESSING_LEVEL_ID = 3
PRODUCT_CREATION_TIME = 2016-10-30T02:40:36.000Z
PRODUCT_ID = "HE740_0000_S23.JP2"
RELEASE_ID = 0129
REVISION_ID = 0000
/* QUALITY DATA ELEMENTS */
DATA_QUALITY_ID = 1
DATA_QUALITY_DESC = "Data calculated based on original SPICE kernels"
/* TIME DATA ELEMENTS */
SPACECRAFT_CLOCK_START_COUNT = "1/0387773636.08258"
SPACECRAFT_CLOCK_STOP_COUNT = "1/0387773851.38010"
START_TIME = 2015-08-16T02:54:02.276Z
STOP_TIME = 2015-08-16T02:55:57.476Z
/* ORBITAL DATA ELEMENTS */
ASCENDING_NODE_LONGITUDE = 296.89
MAXIMUM_RESOLUTION = 33.9
FOOTPRINT_POINT_LATITUDE = (-21.5229,-21.5186,-21.5136,-21.508, -21.5017,-21.4946,-21.4781,-21.1245, -20.9127,-20.6298,-20.4173,-20.1351, -19.9918,-19.8467,-19.6298,-19.4846, -19.3401,-19.1241,-18.9799,-18.8347, -18.6868,-18.4646,-18.316,-18.1677, -18.0162,-17.866,-17.7174,-17.5647, -17.4139,-17.261,-17.1091,-16.9574, -16.8057,-16.6535,-16.498,-16.2651, -16.1105,-15.9557,-15.8014,-15.5711, -15.4142,-15.1775,-15.0187,-14.8606, -14.7027,-14.5429,-14.3807,-14.2168, -13.9722,-13.9453,-13.9494,-13.9552, -13.9596,-13.9623,-13.9651,-13.9695, -14.2131,-14.3754,-14.5372,-14.698, -14.857,-15.0154,-15.2537,-15.4914, -15.6499,-15.8834,-16.0391,-16.1947, -16.3499,-16.505,-16.6606,-16.8126, -16.9645,-17.1166,-17.2681,-17.4206, -17.649,-17.7995,-17.9476,-18.096, -18.3185,-18.4672,-18.6157,-18.7638, -18.9119,-19.0564,-19.2012,-19.3462, -19.4914,-19.6367,-19.8542,-19.9992, -20.2851,-20.4973,-20.639,-20.7808, -20.9931,-21.1349,-21.2769,-21.5229)
FOOTPRINT_POINT_LONGITUDE = (22.2586,22.0281,21.7966,21.5641, 21.3308,21.0962,20.8077,20.8048,20.803, 20.8003,20.7979,20.7951,20.7935,20.7918 ,20.7895,20.7876,20.7859,20.7838, 20.7821,20.7803,20.7785,20.7755,20.7733 ,20.7711,20.7672,20.764,20.7614,20.7586 ,20.7566,20.7535,20.7508,20.7482, 20.7455,20.7424,20.7392,20.7348,20.7321 ,20.7292,20.7265,20.723,20.7206,20.7162 ,20.7126,20.7094,20.7061,20.7025, 20.6987,20.6941,20.6876,20.9184,21.1166 ,21.3798,21.6091,21.805,22.0652,22.3786 ,22.3769,22.3757,22.3746,22.3735, 22.3723,22.3712,22.3694,22.3678,22.3665 ,22.3647,22.3635,22.3623,22.3612,22.36, 22.3588,22.3576,22.3564,22.3552,22.3541 ,22.3528,22.3509,22.3498,22.3486, 22.3474,22.3456,22.3443,22.3431,22.3419 ,22.3407,22.3395,22.3383,22.337,22.3357 ,22.3344,22.3325,22.3312,22.3286, 22.3266,22.3253,22.3239,22.3219,22.3206 ,22.3192,22.2586)
ORBIT_NUMBER = 14740
ORBITAL_ECCENTRICITY = 0.578
ORBITAL_INCLINATION = 86.91
ORBITAL_SEMIMAJOR_AXIS = 8812.97
PERIAPSIS_ALTITUDE = 330.25
PERIAPSIS_ARGUMENT_ANGLE = 317.26
PERIAPSIS_TIME = 2015-08-16T02:49:12.000Z
SPACECRAFT_ORIENTATION = (0.0,1.0,0.0)
^MEX_ORIENTATION_DESC = "MEX_ORIENTATION_DESC.TXT"
SPACECRAFT_POINTING_MODE = ACROSSTRACK
^MEX_POINTING_DESC = "MEX_POINTING_DESC.TXT"
RIGHT_ASCENSION = -1e+32
DECLINATION = -1e+32
OFFSET_ANGLE = 0.4
SPACECRAFT_SOLAR_DISTANCE = 2.4252e+08
TARGET_NAME = MARS
/* CAMERA DATA ELEMENTS */
DETECTOR_TEMPERATURE = 18.5744
FOCAL_PLANE_TEMPERATURE = 8.1755
INST_CMPRS_NAME = "DISCRETE COSINE TRANSFORMATION (DCT)"
INST_CMPRS_RATIO = 10.1035
INST_CMPRS_QUALITY = 0
INST_CMPRS_QUANTZ_TBL_ID = 0
INSTRUMENT_TEMPERATURE = 11.234
LENS_TEMPERATURE = 8.5833
MACROPIXEL_SIZE = 2
MISSING_FRAMES = 0
PIXEL_SUBSAMPLING_FLAG = N
SIGNAL_CHAIN_ID = 1
/* RADIOMETRIC DATA ELEMENTS */
BANDWIDTH = 178.0
CENTER_FILTER_WAVELENGTH = 679.0
RADIANCE_OFFSET = 2.23004
RADIANCE_SCALING_FACTOR = 0.0184622
REFLECTANCE_SCALING_FACTOR = 0.000575055
MEX:REFLECTANCE_OFFSET = 0.0694606
/* IMAGE OBJECT DEFINITIONS */
OBJECT = IMAGE
  INTERCHANGE_FORMAT = BINARY
  LINES = 17877
  LINE_SAMPLES = 4325
  SAMPLE_TYPE = UNSIGNED_INTEGER
  SAMPLE_BITS = 8
  BANDS = 1
  BAND_STORAGE_TYPE = BAND_SEQUENTIAL
  MAXIMUM = 255
  MEAN = 143.623
  MINIMUM = 1
  STANDARD_DEVIATION = 17.1138
END_OBJECT = IMAGE
/* MAP OBJECT DEFINITIONS */
OBJECT = IMAGE_MAP_PROJECTION
  ^DATA_SET_MAP_PROJECTION_CATALOG= "DSMAP.CAT"
  A_AXIS_RADIUS = 3396.0
  B_AXIS_RADIUS = 3396.0
  C_AXIS_RADIUS = 3396.0
  CENTER_LATITUDE = 0.0
  CENTER_LONGITUDE = 22.0
  COORDINATE_SYSTEM_NAME = PLANETOGRAPHIC
  COORDINATE_SYSTEM_TYPE = "BODY-FIXED ROTATING"
  EASTERNMOST_LONGITUDE = 22.3786
  FIRST_STANDARD_PARALLEL = "N/A"
  LINE_FIRST_PIXEL = 1
  LINE_LAST_PIXEL = 17877
  LINE_PROJECTION_OFFSET = -33048.25
  MAP_PROJECTION_ROTATION = 0.0
  MAP_PROJECTION_TYPE = SINUSOIDAL
  MAP_RESOLUTION = 2370.85521546667
  MAP_SCALE = 0.025
  MAXIMUM_LATITUDE = -13.9453
  MINIMUM_LATITUDE = -21.5229
  POSITIVE_LONGITUDE_DIRECTION = EAST
  REFERENCE_LATITUDE = "N/A"
  REFERENCE_LONGITUDE = "N/A"
  SAMPLE_FIRST_PIXEL = 1
  SAMPLE_LAST_PIXEL = 4325
  SAMPLE_PROJECTION_OFFSET = 3280.25
  SECOND_STANDARD_PARALLEL = "N/A"
  WESTERNMOST_LONGITUDE = 20.6876
END_OBJECT = IMAGE_MAP_PROJECTION
/* The JPEG2000 image data file associated with this label. */
OBJECT = COMPRESSED_FILE
  FILE_NAME = "HE740_0000_S23.JP2"
  RECORD_TYPE = UNDEFINED
  FILE_RECORDS = UNK
  ENCODING_TYPE = "JP2"
  INTERCHANGE_FORMAT = BINARY
  UNCOMPRESSED_FILE_NAME = "HE740_0000_S23.IMG"
  REQUIRED_STORAGE_BYTES = "77343975"
  ^DESCRIPTION = "JP2INFO.TXT"
END_OBJECT = COMPRESSED_FILE
END
