PDS_VERSION_ID = PDS3
/* FILE DATA ELEMENTS */
RECORD_TYPE = STREAM
/* POINTERS TO DATA OBJECTS */
^COMPRESSED_FILE = "HE742_0000_ND3.JP2"
/* IDENTIFICATION DATA ELEMENTS */
DATA_SET_ID = "MEX-M-HRSC-5-REFDR-MAPPROJECTED-V3.0"
DATA_SET_NAME = "MARS EXPRESS HRSC MAP PROJECTED REFDR V3.0"
DETECTOR_ID = MEX_HRSC_NADIR
EVENT_TYPE = "MARS-LOCAL-STEREO-Lc-Tc"
INSTRUMENT_HOST_ID = MEX
INSTRUMENT_HOST_NAME = "MARS EXPRESS"
INSTRUMENT_ID = HRSC
INSTRUMENT_NAME = "HIGH RESOLUTION STEREO CAMERA"
MISSION_NAME = "MARS EXPRESS"
MISSION_PHASE_NAME = ME_Phase_33
PROCESSING_LEVEL_ID = 3
PRODUCT_CREATION_TIME = 2016-10-30T02:40:36.000Z
PRODUCT_ID = "HE742_0000_ND3.JP2"
RELEASE_ID = 0129
REVISION_ID = 0000
/* QUALITY DATA ELEMENTS */
DATA_QUALITY_ID = 1
DATA_QUALITY_DESC = "Data calculated based on original SPICE kernels"
/* TIME DATA ELEMENTS */
SPACECRAFT_CLOCK_START_COUNT = "1/0387823762.09055"
SPACECRAFT_CLOCK_STOP_COUNT = "1/0387823884.34760"
START_TIME = 2015-08-16T16:49:58.015Z
STOP_TIME = 2015-08-16T16:50:56.012Z
/* ORBITAL DATA ELEMENTS */
ASCENDING_NODE_LONGITUDE = 296.84
MAXIMUM_RESOLUTION = 13.5
FOOTPRINT_POINT_LATITUDE = (-36.3383,-36.3377,-36.337,-36.3361, -36.3352,-36.3341,-36.333,-36.3317, -36.3304,-36.3285,-36.3269,-36.3239, -36.212,-36.0283,-35.8814,-35.8055, -35.7296,-35.6158,-35.54,-35.4641, -35.3883,-35.2745,-35.1987,-35.1228, -35.047,-34.9333,-34.8575,-34.7438, -34.6681,-34.5923,-34.5166,-34.4408, -34.3651,-34.2894,-34.2137,-34.1003, -34.0246,-33.911,-33.8354,-33.7597, -33.6463,-33.5707,-33.4195,-33.2683, -33.1172,-32.9662,-32.8152,-32.6642, -32.551,-32.551,-32.5524,-32.5541, -32.5557,-32.5568,-32.5578,-32.5584, -32.5588,-32.5592,-32.6351,-32.7485, -32.8241,-32.8997,-32.9754,-33.0888, -33.2023,-33.278,-33.3537,-33.4293, -33.5429,-33.6186,-33.6943,-33.7701, -33.8458,-33.9216,-34.0353,-34.1111, -34.1869,-34.3006,-34.3764,-34.4523, -34.5281,-34.604,-34.6799,-34.7557, -34.8696,-34.9455,-35.0214,-35.0973, -35.2113,-35.2872,-35.4011,-35.4771, -35.5531,-35.6291,-35.705,-35.781, -35.8951,-36.0422,-36.1894,-36.3383)
FOOTPRINT_POINT_LONGITUDE = (178.376,178.261,178.147,178.033,177.92 ,177.806,177.693,177.58,177.467,177.326 ,177.213,177.017,176.976,176.98,176.983 ,176.984,176.986,176.988,176.99,176.991 ,176.992,176.994,176.996,176.997, 176.998,177.0,177.001,177.003,177.004, 177.005,177.006,177.007,177.009,177.01, 177.011,177.013,177.014,177.015,177.016 ,177.017,177.018,177.019,177.021, 177.023,177.024,177.026,177.028,177.029 ,177.03,177.129,177.256,177.427,177.626 ,177.783,177.955,178.084,178.199, 178.357,178.479,178.477,178.477,178.476 ,178.475,178.473,178.471,178.471,178.47 ,178.47,178.469,178.468,178.468,178.467 ,178.466,178.466,178.464,178.463, 178.462,178.461,178.46,178.459,178.459, 178.458,178.457,178.456,178.455,178.454 ,178.453,178.452,178.451,178.45,178.449 ,178.448,178.448,178.447,178.447, 178.447,178.446,178.446,178.444, 178.376)
ORBIT_NUMBER = 14742
ORBITAL_ECCENTRICITY = 0.578
ORBITAL_INCLINATION = 86.92
ORBITAL_SEMIMAJOR_AXIS = 8808.41
PERIAPSIS_ALTITUDE = 330.29
PERIAPSIS_ARGUMENT_ANGLE = 316.93
PERIAPSIS_TIME = 2015-08-16T16:48:17.000Z
SPACECRAFT_ORIENTATION = (0.0,1.0,0.0)
^MEX_ORIENTATION_DESC = "MEX_ORIENTATION_DESC.TXT"
SPACECRAFT_POINTING_MODE = ACROSSTRACK
^MEX_POINTING_DESC = "MEX_POINTING_DESC.TXT"
RIGHT_ASCENSION = -1e+32
DECLINATION = -1e+32
OFFSET_ANGLE = -0.269
SPACECRAFT_SOLAR_DISTANCE = 2.42597e+08
TARGET_NAME = MARS
/* CAMERA DATA ELEMENTS */
DETECTOR_TEMPERATURE = 18.3705
FOCAL_PLANE_TEMPERATURE = 8.5833
INST_CMPRS_NAME = "DISCRETE COSINE TRANSFORMATION (DCT)"
INST_CMPRS_RATIO = 6.34872
INST_CMPRS_QUALITY = 0
INST_CMPRS_QUANTZ_TBL_ID = 0
INSTRUMENT_TEMPERATURE = 12.2535
LENS_TEMPERATURE = 8.3794
MACROPIXEL_SIZE = 1
MISSING_FRAMES = 0
PIXEL_SUBSAMPLING_FLAG = N
SIGNAL_CHAIN_ID = 0
/* RADIOMETRIC DATA ELEMENTS */
BANDWIDTH = 177.0
CENTER_FILTER_WAVELENGTH = 677.5
RADIANCE_OFFSET = 1.30549
RADIANCE_SCALING_FACTOR = 0.0113768
REFLECTANCE_SCALING_FACTOR = 0.000355692
MEX:REFLECTANCE_OFFSET = 0.0408156
/* IMAGE OBJECT DEFINITIONS */
OBJECT = IMAGE
  INTERCHANGE_FORMAT = BINARY
  LINES = 17962
  LINE_SAMPLES = 6085
  SAMPLE_TYPE = UNSIGNED_INTEGER
  SAMPLE_BITS = 8
  BANDS = 1
  BAND_STORAGE_TYPE = BAND_SEQUENTIAL
  MAXIMUM = 255
  MEAN = 117.256
  MINIMUM = 1
  STANDARD_DEVIATION = 20.7833
END_OBJECT = IMAGE
/* MAP OBJECT DEFINITIONS */
OBJECT = IMAGE_MAP_PROJECTION
  ^DATA_SET_MAP_PROJECTION_CATALOG= "DSMAP.CAT"
  A_AXIS_RADIUS = 3396.0
  B_AXIS_RADIUS = 3396.0
  C_AXIS_RADIUS = 3396.0
  CENTER_LATITUDE = 0.0
  CENTER_LONGITUDE = 178.0
  COORDINATE_SYSTEM_NAME = PLANETOGRAPHIC
  COORDINATE_SYSTEM_TYPE = "BODY-FIXED ROTATING"
  EASTERNMOST_LONGITUDE = 178.479
  FIRST_STANDARD_PARALLEL = "N/A"
  LINE_FIRST_PIXEL = 1
  LINE_LAST_PIXEL = 17962
  LINE_PROJECTION_OFFSET = -154346.0
  MAP_PROJECTION_ROTATION = 0.0
  MAP_PROJECTION_TYPE = SINUSOIDAL
  MAP_RESOLUTION = 4741.71043093333
  MAP_SCALE = 0.0125
  MAXIMUM_LATITUDE = -32.551
  MINIMUM_LATITUDE = -36.3383
  POSITIVE_LONGITUDE_DIRECTION = EAST
  REFERENCE_LATITUDE = "N/A"
  REFERENCE_LONGITUDE = "N/A"
  SAMPLE_FIRST_PIXEL = 1
  SAMPLE_LAST_PIXEL = 6085
  SAMPLE_PROJECTION_OFFSET = 3982.0
  SECOND_STANDARD_PARALLEL = "N/A"
  WESTERNMOST_LONGITUDE = 176.976
END_OBJECT = IMAGE_MAP_PROJECTION
/* The JPEG2000 image data file associated with this label. */
OBJECT = COMPRESSED_FILE
  FILE_NAME = "HE742_0000_ND3.JP2"
  RECORD_TYPE = UNDEFINED
  FILE_RECORDS = UNK
  ENCODING_TYPE = "JP2"
  INTERCHANGE_FORMAT = BINARY
  UNCOMPRESSED_FILE_NAME = "HE742_0000_ND3.IMG"
  REQUIRED_STORAGE_BYTES = "109329195"
  ^DESCRIPTION = "JP2INFO.TXT"
END_OBJECT = COMPRESSED_FILE
END
