PDS_VERSION_ID = PDS3
/* FILE DATA ELEMENTS */
RECORD_TYPE = STREAM
/* POINTERS TO DATA OBJECTS */
^COMPRESSED_FILE = "HE743_0000_S13.JP2"
/* IDENTIFICATION DATA ELEMENTS */
DATA_SET_ID = "MEX-M-HRSC-5-REFDR-MAPPROJECTED-V3.0"
DATA_SET_NAME = "MARS EXPRESS HRSC MAP PROJECTED REFDR V3.0"
DETECTOR_ID = MEX_HRSC_S1
EVENT_TYPE = "MARS-REGIONAL-MAPPING-Im-Pf-La"
INSTRUMENT_HOST_ID = MEX
INSTRUMENT_HOST_NAME = "MARS EXPRESS"
INSTRUMENT_ID = HRSC
INSTRUMENT_NAME = "HIGH RESOLUTION STEREO CAMERA"
MISSION_NAME = "MARS EXPRESS"
MISSION_PHASE_NAME = ME_Phase_33
PROCESSING_LEVEL_ID = 3
PRODUCT_CREATION_TIME = 2016-10-30T02:40:36.000Z
PRODUCT_ID = "HE743_0000_S13.JP2"
RELEASE_ID = 0129
REVISION_ID = 0000
/* QUALITY DATA ELEMENTS */
DATA_QUALITY_ID = 1
DATA_QUALITY_DESC = "Data calculated based on original SPICE kernels"
/* TIME DATA ELEMENTS */
SPACECRAFT_CLOCK_START_COUNT = "1/0387848966.09054"
SPACECRAFT_CLOCK_STOP_COUNT = "1/0387849232.47249"
START_TIME = 2015-08-16T23:50:33.927Z
STOP_TIME = 2015-08-16T23:53:56.885Z
/* ORBITAL DATA ELEMENTS */
ASCENDING_NODE_LONGITUDE = 296.83
MAXIMUM_RESOLUTION = 30.4
FOOTPRINT_POINT_LATITUDE = (-34.1818,-34.1791,-34.1765,-34.1742, -34.1717,-34.1338,-33.9112,-33.5775, -33.3552,-33.1334,-32.9121,-32.6904, -32.4695,-32.2486,-32.0284,-31.6982, -31.4791,-31.2594,-31.0391,-30.8188, -30.5993,-30.2067,-29.8106,-29.4296, -29.0424,-28.7782,-28.5213,-28.2644, -28.0104,-27.7488,-27.4922,-27.2377, -26.9805,-26.7176,-26.3262,-25.9454, -25.6894,-25.4435,-25.1923,-24.9381, -24.6828,-24.4231,-24.0318,-23.7648, -23.5126,-23.2546,-22.8554,-22.5863, -22.3256,-22.0613,-21.8851,-21.8748, -21.8739,-21.8734,-21.8718,-21.8703, -22.1413,-22.4071,-22.6815,-22.948, -23.2126,-23.4742,-23.8661,-24.1282, -24.5143,-24.7725,-25.0266,-25.4119, -25.6647,-25.9171,-26.1729,-26.4331, -26.8198,-27.0667,-27.3219,-27.5793, -27.9636,-28.3514,-28.6102,-28.9982, -29.2546,-29.5148,-29.908,-30.1739, -30.4307,-30.676,-30.8961,-31.119, -31.4512,-31.7836,-32.0049,-32.2269, -32.448,-32.6716,-32.8937,-33.2269, -33.4492,-33.7824,-34.0058,-34.1818)
FOOTPRINT_POINT_LONGITUDE = (75.7104,75.3707,75.0876,74.8614, 74.6349,74.4037,74.4072,74.4121,74.4153 ,74.4182,74.4208,74.4236,74.426,74.4283 ,74.4304,74.4334,74.4349,74.4366, 74.4386,74.4404,74.442,74.4454,74.4491, 74.4473,74.4477,74.4501,74.4498,74.4495 ,74.4482,74.4496,74.4492,74.448,74.4478 ,74.4496,74.4512,74.4492,74.4485, 74.4444,74.4421,74.439,74.4358,74.4341, 74.4321,74.4306,74.4241,74.4196,74.4154 ,74.4124,74.4066,74.402,74.5782,74.856, 75.1147,75.3413,75.6651,76.0757,76.0729 ,76.0697,76.0693,76.0659,76.0632, 76.0601,76.0548,76.0521,76.0477,76.0448 ,76.0403,76.0372,76.0342,76.0308, 76.0285,76.0275,76.0244,76.0183,76.0149 ,76.0121,76.0068,76.0024,75.9994, 75.9943,75.9899,75.9867,75.9825,75.9808 ,75.9757,75.9728,75.97,75.9681,75.9641, 75.96,75.9569,75.954,75.9506,75.948, 75.9447,75.9395,75.936,75.9303,75.9268, 75.7104)
ORBIT_NUMBER = 14743
ORBITAL_ECCENTRICITY = 0.578
ORBITAL_INCLINATION = 86.93
ORBITAL_SEMIMAJOR_AXIS = 8812.42
PERIAPSIS_ALTITUDE = 329.12
PERIAPSIS_ARGUMENT_ANGLE = 316.74
PERIAPSIS_TIME = 2015-08-16T23:47:46.000Z
SPACECRAFT_ORIENTATION = (0.0,1.0,0.0)
^MEX_ORIENTATION_DESC = "MEX_ORIENTATION_DESC.TXT"
SPACECRAFT_POINTING_MODE = NADIR
^MEX_POINTING_DESC = "MEX_POINTING_DESC.TXT"
RIGHT_ASCENSION = -1e+32
DECLINATION = -1e+32
OFFSET_ANGLE = -1e+32
SPACECRAFT_SOLAR_DISTANCE = 2.42636e+08
TARGET_NAME = MARS
/* CAMERA DATA ELEMENTS */
DETECTOR_TEMPERATURE = 17.9627
FOCAL_PLANE_TEMPERATURE = 8.3794
INST_CMPRS_NAME = "DISCRETE COSINE TRANSFORMATION (DCT)"
INST_CMPRS_RATIO = 9.95892
INST_CMPRS_QUALITY = 0
INST_CMPRS_QUANTZ_TBL_ID = 0
INSTRUMENT_TEMPERATURE = 11.6418
LENS_TEMPERATURE = 8.7872
MACROPIXEL_SIZE = 2
MISSING_FRAMES = 0
PIXEL_SUBSAMPLING_FLAG = N
SIGNAL_CHAIN_ID = 1
/* RADIOMETRIC DATA ELEMENTS */
BANDWIDTH = 180.0
CENTER_FILTER_WAVELENGTH = 677.0
RADIANCE_OFFSET = 1.9792
RADIANCE_SCALING_FACTOR = 0.0158927
REFLECTANCE_SCALING_FACTOR = 0.000488146
MEX:REFLECTANCE_OFFSET = 0.0607912
/* IMAGE OBJECT DEFINITIONS */
OBJECT = IMAGE
  INTERCHANGE_FORMAT = BINARY
  LINES = 29287
  LINE_SAMPLES = 3621
  SAMPLE_TYPE = UNSIGNED_INTEGER
  SAMPLE_BITS = 8
  BANDS = 1
  BAND_STORAGE_TYPE = BAND_SEQUENTIAL
  MAXIMUM = 255
  MEAN = 127.992
  MINIMUM = 1
  STANDARD_DEVIATION = 17.4006
END_OBJECT = IMAGE
/* MAP OBJECT DEFINITIONS */
OBJECT = IMAGE_MAP_PROJECTION
  ^DATA_SET_MAP_PROJECTION_CATALOG= "DSMAP.CAT"
  A_AXIS_RADIUS = 3396.0
  B_AXIS_RADIUS = 3396.0
  C_AXIS_RADIUS = 3396.0
  CENTER_LATITUDE = 0.0
  CENTER_LONGITUDE = 75.0
  COORDINATE_SYSTEM_NAME = PLANETOGRAPHIC
  COORDINATE_SYSTEM_TYPE = "BODY-FIXED ROTATING"
  EASTERNMOST_LONGITUDE = 76.0757
  FIRST_STANDARD_PARALLEL = "N/A"
  LINE_FIRST_PIXEL = 1
  LINE_LAST_PIXEL = 29287
  LINE_PROJECTION_OFFSET = -51855.75
  MAP_PROJECTION_ROTATION = 0.0
  MAP_PROJECTION_TYPE = SINUSOIDAL
  MAP_RESOLUTION = 2370.85521546667
  MAP_SCALE = 0.025
  MAXIMUM_LATITUDE = -21.8703
  MINIMUM_LATITUDE = -34.1818
  POSITIVE_LONGITUDE_DIRECTION = EAST
  REFERENCE_LATITUDE = "N/A"
  REFERENCE_LONGITUDE = "N/A"
  SAMPLE_FIRST_PIXEL = 1
  SAMPLE_LAST_PIXEL = 3621
  SAMPLE_PROJECTION_OFFSET = 1294.75
  SECOND_STANDARD_PARALLEL = "N/A"
  WESTERNMOST_LONGITUDE = 74.402
END_OBJECT = IMAGE_MAP_PROJECTION
/* The JPEG2000 image data file associated with this label. */
OBJECT = COMPRESSED_FILE
  FILE_NAME = "HE743_0000_S13.JP2"
  RECORD_TYPE = UNDEFINED
  FILE_RECORDS = UNK
  ENCODING_TYPE = "JP2"
  INTERCHANGE_FORMAT = BINARY
  UNCOMPRESSED_FILE_NAME = "HE743_0000_S13.IMG"
  REQUIRED_STORAGE_BYTES = "106069953"
  ^DESCRIPTION = "JP2INFO.TXT"
END_OBJECT = COMPRESSED_FILE
END
