PDS_VERSION_ID = PDS3
/* FILE DATA ELEMENTS */
RECORD_TYPE = STREAM
/* POINTERS TO DATA OBJECTS */
^COMPRESSED_FILE = "HE744_0000_S23.JP2"
/* IDENTIFICATION DATA ELEMENTS */
DATA_SET_ID = "MEX-M-HRSC-5-REFDR-MAPPROJECTED-V3.0"
DATA_SET_NAME = "MARS EXPRESS HRSC MAP PROJECTED REFDR V3.0"
DETECTOR_ID = MEX_HRSC_S2
EVENT_TYPE = "MARS-REGIONAL-MAPPING-Im-Fl"
INSTRUMENT_HOST_ID = MEX
INSTRUMENT_HOST_NAME = "MARS EXPRESS"
INSTRUMENT_ID = HRSC
INSTRUMENT_NAME = "HIGH RESOLUTION STEREO CAMERA"
MISSION_NAME = "MARS EXPRESS"
MISSION_PHASE_NAME = ME_Phase_33
PROCESSING_LEVEL_ID = 3
PRODUCT_CREATION_TIME = 2016-10-30T02:40:36.000Z
PRODUCT_ID = "HE744_0000_S23.JP2"
RELEASE_ID = 0129
REVISION_ID = 0000
/* QUALITY DATA ELEMENTS */
DATA_QUALITY_ID = 1
DATA_QUALITY_DESC = "Data calculated based on original SPICE kernels"
/* TIME DATA ELEMENTS */
SPACECRAFT_CLOCK_START_COUNT = "1/0387874185.07303"
SPACECRAFT_CLOCK_STOP_COUNT = "1/0387874436.62563"
START_TIME = 2015-08-17T06:49:51.258Z
STOP_TIME = 2015-08-17T06:52:37.877Z
/* ORBITAL DATA ELEMENTS */
ASCENDING_NODE_LONGITUDE = 296.81
MAXIMUM_RESOLUTION = 29.6
FOOTPRINT_POINT_LATITUDE = (-31.0757,-31.0663,-31.0543,-30.8188, -30.6194,-30.3206,-30.1213,-29.9213, -29.7218,-29.5221,-29.223,-29.0235, -28.8247,-28.4283,-28.2271,-27.9253, -27.4299,-27.1257,-26.9212,-26.721, -26.5218,-26.2909,-26.0626,-25.8241, -25.5859,-25.3475,-25.1099,-24.7539, -24.517,-24.1606,-23.9179,-23.5614, -23.3238,-23.0877,-22.8509,-22.6178, -22.3815,-22.1472,-21.9148,-21.6728, -21.3153,-21.0764,-20.8393,-20.6037, -20.3626,-20.1174,-19.9814,-19.9863, -19.9902,-19.9927,-19.9954,-20.2384, -20.4863,-20.7229,-20.9638,-21.1991, -21.4364,-21.6723,-21.9086,-22.1462, -22.5018,-22.7388,-22.976,-23.2131, -23.4503,-23.6895,-23.9198,-24.1597, -24.3967,-24.6338,-24.8719,-25.115, -25.3509,-25.5882,-25.8259,-26.063, -26.3013,-26.539,-26.7388,-26.9381, -27.1383,-27.3388,-27.5376,-27.7374, -27.9366,-28.1366,-28.4362,-28.6367, -28.8367,-29.0361,-29.2356,-29.4356, -29.7354,-30.0347,-30.2342,-30.4335, -30.6332,-30.8336,-31.0334,-31.0757)
FOOTPRINT_POINT_LONGITUDE = (333.102,332.666,332.229,332.008,332.01 ,332.013,332.015,332.017,332.019,332.02 ,332.023,332.024,332.026,332.029, 332.029,332.029,332.032,332.031,332.029 ,332.029,332.029,332.03,332.034,332.033 ,332.032,332.032,332.031,332.03,332.029 ,332.027,332.024,332.021,332.019, 332.018,332.016,332.016,332.014,332.013 ,332.012,332.007,332.002,331.998, 331.995,331.992,331.989,331.985,332.213 ,332.442,332.775,333.078,333.441,333.55 ,333.547,333.545,333.542,333.541, 333.538,333.537,333.535,333.533,333.53, 333.527,333.525,333.523,333.521,333.519 ,333.518,333.515,333.513,333.511, 333.508,333.505,333.503,333.501,333.498 ,333.496,333.493,333.491,333.488, 333.486,333.484,333.481,333.479,333.477 ,333.475,333.472,333.469,333.466, 333.463,333.461,333.458,333.456,333.452 ,333.448,333.445,333.443,333.44,333.437 ,333.434,333.102)
ORBIT_NUMBER = 14744
ORBITAL_ECCENTRICITY = 0.578
ORBITAL_INCLINATION = 86.93
ORBITAL_SEMIMAJOR_AXIS = 8807.37
PERIAPSIS_ALTITUDE = 329.82
PERIAPSIS_ARGUMENT_ANGLE = 316.57
PERIAPSIS_TIME = 2015-08-17T06:47:15.000Z
SPACECRAFT_ORIENTATION = (0.0,1.0,0.0)
^MEX_ORIENTATION_DESC = "MEX_ORIENTATION_DESC.TXT"
SPACECRAFT_POINTING_MODE = ACROSSTRACK
^MEX_POINTING_DESC = "MEX_POINTING_DESC.TXT"
RIGHT_ASCENSION = -1e+32
DECLINATION = -1e+32
OFFSET_ANGLE = 0.2
SPACECRAFT_SOLAR_DISTANCE = 2.42674e+08
TARGET_NAME = MARS
/* CAMERA DATA ELEMENTS */
DETECTOR_TEMPERATURE = 18.3705
FOCAL_PLANE_TEMPERATURE = 7.9716
INST_CMPRS_NAME = "DISCRETE COSINE TRANSFORMATION (DCT)"
INST_CMPRS_RATIO = 11.0814
INST_CMPRS_QUALITY = 0
INST_CMPRS_QUANTZ_TBL_ID = 0
INSTRUMENT_TEMPERATURE = 11.234
LENS_TEMPERATURE = 9.6028
MACROPIXEL_SIZE = 2
MISSING_FRAMES = 0
PIXEL_SUBSAMPLING_FLAG = N
SIGNAL_CHAIN_ID = 1
/* RADIOMETRIC DATA ELEMENTS */
BANDWIDTH = 178.0
CENTER_FILTER_WAVELENGTH = 679.0
RADIANCE_OFFSET = 1.5459
RADIANCE_SCALING_FACTOR = 0.0140391
REFLECTANCE_SCALING_FACTOR = 0.000437843
MEX:REFLECTANCE_OFFSET = 0.0482125
/* IMAGE OBJECT DEFINITIONS */
OBJECT = IMAGE
  INTERCHANGE_FORMAT = BINARY
  LINES = 26146
  LINE_SAMPLES = 3795
  SAMPLE_TYPE = UNSIGNED_INTEGER
  SAMPLE_BITS = 8
  BANDS = 1
  BAND_STORAGE_TYPE = BAND_SEQUENTIAL
  MAXIMUM = 255
  MEAN = 125.38
  MINIMUM = 1
  STANDARD_DEVIATION = 26.3708
END_OBJECT = IMAGE
/* MAP OBJECT DEFINITIONS */
OBJECT = IMAGE_MAP_PROJECTION
  ^DATA_SET_MAP_PROJECTION_CATALOG= "DSMAP.CAT"
  A_AXIS_RADIUS = 3396.0
  B_AXIS_RADIUS = 3396.0
  C_AXIS_RADIUS = 3396.0
  CENTER_LATITUDE = 0.0
  CENTER_LONGITUDE = 333.0
  COORDINATE_SYSTEM_NAME = PLANETOGRAPHIC
  COORDINATE_SYSTEM_TYPE = "BODY-FIXED ROTATING"
  EASTERNMOST_LONGITUDE = 333.55
  FIRST_STANDARD_PARALLEL = "N/A"
  LINE_FIRST_PIXEL = 1
  LINE_LAST_PIXEL = 26146
  LINE_PROJECTION_OFFSET = -47436.75
  MAP_PROJECTION_ROTATION = 0.0
  MAP_PROJECTION_TYPE = SINUSOIDAL
  MAP_RESOLUTION = 2370.85521546667
  MAP_SCALE = 0.025
  MAXIMUM_LATITUDE = -19.9814
  MINIMUM_LATITUDE = -31.0757
  POSITIVE_LONGITUDE_DIRECTION = EAST
  REFERENCE_LATITUDE = "N/A"
  REFERENCE_LONGITUDE = "N/A"
  SAMPLE_FIRST_PIXEL = 1
  SAMPLE_LAST_PIXEL = 3795
  SAMPLE_PROJECTION_OFFSET = 2430.25
  SECOND_STANDARD_PARALLEL = "N/A"
  WESTERNMOST_LONGITUDE = 331.985
END_OBJECT = IMAGE_MAP_PROJECTION
/* The JPEG2000 image data file associated with this label. */
OBJECT = COMPRESSED_FILE
  FILE_NAME = "HE744_0000_S23.JP2"
  RECORD_TYPE = UNDEFINED
  FILE_RECORDS = UNK
  ENCODING_TYPE = "JP2"
  INTERCHANGE_FORMAT = BINARY
  UNCOMPRESSED_FILE_NAME = "HE744_0000_S23.IMG"
  REQUIRED_STORAGE_BYTES = "99246840"
  ^DESCRIPTION = "JP2INFO.TXT"
END_OBJECT = COMPRESSED_FILE
END
