PDS_VERSION_ID = PDS3
/* FILE DATA ELEMENTS */
RECORD_TYPE = STREAM
/* POINTERS TO DATA OBJECTS */
^COMPRESSED_FILE = "HE753_0000_GR3.JP2"
/* IDENTIFICATION DATA ELEMENTS */
DATA_SET_ID = "MEX-M-HRSC-5-REFDR-MAPPROJECTED-V3.0"
DATA_SET_NAME = "MARS EXPRESS HRSC MAP PROJECTED REFDR V3.0"
DETECTOR_ID = MEX_HRSC_GREEN
EVENT_TYPE = "MARS-REGIONAL-MAPPING-Im-Fl-Pf"
INSTRUMENT_HOST_ID = MEX
INSTRUMENT_HOST_NAME = "MARS EXPRESS"
INSTRUMENT_ID = HRSC
INSTRUMENT_NAME = "HIGH RESOLUTION STEREO CAMERA"
MISSION_NAME = "MARS EXPRESS"
MISSION_PHASE_NAME = ME_Phase_33
PROCESSING_LEVEL_ID = 3
PRODUCT_CREATION_TIME = 2016-10-30T02:40:36.000Z
PRODUCT_ID = "HE753_0000_GR3.JP2"
RELEASE_ID = 0129
REVISION_ID = 0000
/* QUALITY DATA ELEMENTS */
DATA_QUALITY_ID = 1
DATA_QUALITY_DESC = "Data calculated based on original SPICE kernels"
/* TIME DATA ELEMENTS */
SPACECRAFT_CLOCK_START_COUNT = "1/0388100762.09059"
SPACECRAFT_CLOCK_STOP_COUNT = "1/0388100927.50663"
START_TIME = 2015-08-19T21:46:46.302Z
STOP_TIME = 2015-08-19T21:48:18.179Z
/* ORBITAL DATA ELEMENTS */
ASCENDING_NODE_LONGITUDE = 296.64
MAXIMUM_RESOLUTION = 58.8
FOOTPRINT_POINT_LATITUDE = (-30.5936,-30.5927,-30.591,-30.5894, -30.5869,-30.585,-30.5257,-30.4089, -30.2933,-30.1773,-30.0597,-29.8849, -29.7685,-29.6522,-29.4778,-29.3616, -29.2456,-29.0716,-28.9556,-28.8397, -28.7238,-28.55,-28.4343,-28.3187, -28.1454,-28.0299,-27.9145,-27.799, -27.6837,-27.5684,-27.4531,-27.338, -27.2227,-27.1075,-26.9348,-26.8198, -26.705,-26.5903,-26.4755,-26.3609, -26.2462,-26.1317,-26.0172,-25.8457, -25.5607,-25.3319,-25.2175,-24.9895, -24.873,-24.8011,-24.8022,-24.8029, -24.8035,-24.8048,-24.8049,-24.8047, -24.8045,-24.9794,-25.2643,-25.4366, -25.6083,-25.7228,-25.951,-26.0655, -26.1802,-26.3524,-26.4673,-26.5821, -26.6969,-26.8699,-26.9855,-27.1012, -27.2166,-27.3888,-27.5037,-27.677, -27.7926,-27.9082,-28.0239,-28.1396, -28.2551,-28.4289,-28.5448,-28.6608, -28.7768,-28.893,-29.0092,-29.1254, -29.2417,-29.358,-29.4743,-29.6488, -29.7654,-29.9402,-30.0568,-30.1736, -30.2906,-30.407,-30.5238,-30.5936)
FOOTPRINT_POINT_LONGITUDE = (133.193,132.987,132.713,132.507, 132.246,132.081,131.88,131.881,131.879, 131.879,131.882,131.883,131.883,131.884 ,131.885,131.885,131.885,131.885, 131.885,131.886,131.886,131.886,131.886 ,131.886,131.885,131.885,131.885, 131.885,131.885,131.884,131.884,131.884 ,131.884,131.884,131.883,131.883, 131.883,131.882,131.881,131.881,131.88, 131.879,131.879,131.877,131.874,131.873 ,131.873,131.871,131.87,131.985,132.234 ,132.438,132.584,132.789,133.039, 133.215,133.439,133.435,133.431,133.431 ,133.429,133.428,133.423,133.421,133.42 ,133.418,133.417,133.415,133.413, 133.412,133.412,133.411,133.41,133.406, 133.404,133.402,133.4,133.399,133.398, 133.396,133.394,133.392,133.39,133.389, 133.387,133.386,133.385,133.383,133.382 ,133.38,133.378,133.376,133.374,133.372 ,133.371,133.369,133.368,133.366, 133.364,133.193)
ORBIT_NUMBER = 14753
ORBITAL_ECCENTRICITY = 0.578
ORBITAL_INCLINATION = 86.9
ORBITAL_SEMIMAJOR_AXIS = 8810.17
PERIAPSIS_ALTITUDE = 329.84
PERIAPSIS_ARGUMENT_ANGLE = 315.04
PERIAPSIS_TIME = 2015-08-19T21:43:02.000Z
SPACECRAFT_ORIENTATION = (0.0,1.0,0.0)
^MEX_ORIENTATION_DESC = "MEX_ORIENTATION_DESC.TXT"
SPACECRAFT_POINTING_MODE = NADIR
^MEX_POINTING_DESC = "MEX_POINTING_DESC.TXT"
RIGHT_ASCENSION = -1e+32
DECLINATION = -1e+32
OFFSET_ANGLE = -1e+32
SPACECRAFT_SOLAR_DISTANCE = 2.43017e+08
TARGET_NAME = MARS
/* CAMERA DATA ELEMENTS */
DETECTOR_TEMPERATURE = 18.3705
FOCAL_PLANE_TEMPERATURE = 7.9716
INST_CMPRS_NAME = "DISCRETE COSINE TRANSFORMATION (DCT)"
INST_CMPRS_RATIO = 6.48104
INST_CMPRS_QUALITY = 0
INST_CMPRS_QUANTZ_TBL_ID = 0
INSTRUMENT_TEMPERATURE = 11.4379
LENS_TEMPERATURE = 8.3794
MACROPIXEL_SIZE = 4
MISSING_FRAMES = 0
PIXEL_SUBSAMPLING_FLAG = N
SIGNAL_CHAIN_ID = 2
/* RADIOMETRIC DATA ELEMENTS */
BANDWIDTH = 88.0
CENTER_FILTER_WAVELENGTH = 538.0
RADIANCE_OFFSET = 0.62375
RADIANCE_SCALING_FACTOR = 0.00474827
REFLECTANCE_SCALING_FACTOR = 0.000241434
MEX:REFLECTANCE_OFFSET = 0.0317156
/* IMAGE OBJECT DEFINITIONS */
OBJECT = IMAGE
  INTERCHANGE_FORMAT = BINARY
  LINES = 6863
  LINE_SAMPLES = 1763
  SAMPLE_TYPE = UNSIGNED_INTEGER
  SAMPLE_BITS = 8
  BANDS = 1
  BAND_STORAGE_TYPE = BAND_SEQUENTIAL
  MAXIMUM = 254
  MEAN = 146.087
  MINIMUM = 1
  STANDARD_DEVIATION = 20.1914
END_OBJECT = IMAGE
/* MAP OBJECT DEFINITIONS */
OBJECT = IMAGE_MAP_PROJECTION
  ^DATA_SET_MAP_PROJECTION_CATALOG= "DSMAP.CAT"
  A_AXIS_RADIUS = 3396.0
  B_AXIS_RADIUS = 3396.0
  C_AXIS_RADIUS = 3396.0
  CENTER_LATITUDE = 0.0
  CENTER_LONGITUDE = 133.0
  COORDINATE_SYSTEM_NAME = PLANETOGRAPHIC
  COORDINATE_SYSTEM_TYPE = "BODY-FIXED ROTATING"
  EASTERNMOST_LONGITUDE = 133.439
  FIRST_STANDARD_PARALLEL = "N/A"
  LINE_FIRST_PIXEL = 1
  LINE_LAST_PIXEL = 6863
  LINE_PROJECTION_OFFSET = -29407.875
  MAP_PROJECTION_ROTATION = 0.0
  MAP_PROJECTION_TYPE = SINUSOIDAL
  MAP_RESOLUTION = 1185.42760773333
  MAP_SCALE = 0.05
  MAXIMUM_LATITUDE = -24.8011
  MINIMUM_LATITUDE = -30.5936
  POSITIVE_LONGITUDE_DIRECTION = EAST
  REFERENCE_LATITUDE = "N/A"
  REFERENCE_LONGITUDE = "N/A"
  SAMPLE_FIRST_PIXEL = 1
  SAMPLE_LAST_PIXEL = 1763
  SAMPLE_PROJECTION_OFFSET = 1258.625
  SECOND_STANDARD_PARALLEL = "N/A"
  WESTERNMOST_LONGITUDE = 131.87
END_OBJECT = IMAGE_MAP_PROJECTION
/* The JPEG2000 image data file associated with this label. */
OBJECT = COMPRESSED_FILE
  FILE_NAME = "HE753_0000_GR3.JP2"
  RECORD_TYPE = UNDEFINED
  FILE_RECORDS = UNK
  ENCODING_TYPE = "JP2"
  INTERCHANGE_FORMAT = BINARY
  UNCOMPRESSED_FILE_NAME = "HE753_0000_GR3.IMG"
  REQUIRED_STORAGE_BYTES = "12120625"
  ^DESCRIPTION = "JP2INFO.TXT"
END_OBJECT = COMPRESSED_FILE
END
